	BEGIN:VCALENDAR
VERSION:2.0
PRODID:-//Wheaton College Massachusetts - ECPv6.15.17.1//NONSGML v1.0//EN
CALSCALE:GREGORIAN
METHOD:PUBLISH
X-WR-CALNAME:Wheaton College Massachusetts
X-ORIGINAL-URL:https://wheatoncollege.edu
X-WR-CALDESC:Events for Wheaton College Massachusetts
REFRESH-INTERVAL;VALUE=DURATION:PT1H
X-Robots-Tag:noindex
X-PUBLISHED-TTL:PT1H
BEGIN:VTIMEZONE
TZID:America/New_York
BEGIN:DAYLIGHT
TZOFFSETFROM:-0500
TZOFFSETTO:-0400
TZNAME:EDT
DTSTART:20180311T070000
END:DAYLIGHT
BEGIN:STANDARD
TZOFFSETFROM:-0400
TZOFFSETTO:-0500
TZNAME:EST
DTSTART:20181104T060000
END:STANDARD
BEGIN:DAYLIGHT
TZOFFSETFROM:-0500
TZOFFSETTO:-0400
TZNAME:EDT
DTSTART:20190310T070000
END:DAYLIGHT
BEGIN:STANDARD
TZOFFSETFROM:-0400
TZOFFSETTO:-0500
TZNAME:EST
DTSTART:20191103T060000
END:STANDARD
BEGIN:DAYLIGHT
TZOFFSETFROM:-0500
TZOFFSETTO:-0400
TZNAME:EDT
DTSTART:20200308T070000
END:DAYLIGHT
BEGIN:STANDARD
TZOFFSETFROM:-0400
TZOFFSETTO:-0500
TZNAME:EST
DTSTART:20201101T060000
END:STANDARD
BEGIN:DAYLIGHT
TZOFFSETFROM:-0500
TZOFFSETTO:-0400
TZNAME:EDT
DTSTART:20210314T070000
END:DAYLIGHT
BEGIN:STANDARD
TZOFFSETFROM:-0400
TZOFFSETTO:-0500
TZNAME:EST
DTSTART:20211107T060000
END:STANDARD
BEGIN:DAYLIGHT
TZOFFSETFROM:-0500
TZOFFSETTO:-0400
TZNAME:EDT
DTSTART:20220313T070000
END:DAYLIGHT
BEGIN:STANDARD
TZOFFSETFROM:-0400
TZOFFSETTO:-0500
TZNAME:EST
DTSTART:20221106T060000
END:STANDARD
BEGIN:DAYLIGHT
TZOFFSETFROM:-0500
TZOFFSETTO:-0400
TZNAME:EDT
DTSTART:20230312T070000
END:DAYLIGHT
BEGIN:STANDARD
TZOFFSETFROM:-0400
TZOFFSETTO:-0500
TZNAME:EST
DTSTART:20231105T060000
END:STANDARD
END:VTIMEZONE
BEGIN:VEVENT
DTSTART;TZID=America/New_York:20220926T170000
DTEND;TZID=America/New_York:20220926T180000
DTSTAMP:20260423T033958
CREATED:20220907T115208Z
LAST-MODIFIED:20220907T115422Z
UID:10005100-1664211600-1664215200@wheatoncollege.edu
SUMMARY:Business Major Information Session
DESCRIPTION:Interested in the idea of maybe majoring or minoring in Business and Management? Come to this information session to learn all the details\, meet the faculty and get your questions answered.
URL:https://wheatoncollege.edu/event/business-major-information-session/
LOCATION:Discovery Center – Hindle Auditorium\, Norton\, MA\, 02766\, United States
CATEGORIES:Academic,Students
ORGANIZER;CN="Business and Management Department":MAILTO:chapman_cc@wheatoncollege.edu
GEO:41.9629235;-71.1804988
END:VEVENT
BEGIN:VEVENT
DTSTART;TZID=America/New_York:20220309T180000
DTEND;TZID=America/New_York:20220309T190000
DTSTAMP:20260423T033958
CREATED:20220221T200018Z
LAST-MODIFIED:20220223T183457Z
UID:10004291-1646848800-1646852400@wheatoncollege.edu
SUMMARY:The Lived Experience of a Female Entrepreneur in Japan
DESCRIPTION:An event co-hosted by Social Impact & Innovation Club and Theater & Film students at large. \nIn response to a declining birthrate\, the Japanese government has created a range of progressive policies that make it easier for women in the workforce to have and care for children while continuing their careers. However\, the focus of the government’s help has been always female employees working in mid-to-large corporations\, not female small business owners or female entrepreneurs. \nKana Hattori is a cultural entrepreneur who\, after 5 years as an in-house translator and 11 years as a freelance guide\, established “Mindfulness Journeys Japan” in March 2020. Kana’s  business has always been mission-driven\, driven by her love and respect for Japanese culture. She’s never lost sight of her goals and passion despite market volatility and huge declines of inbound tourism after the Great East Japan Earthquake in 2011 and because of the COVID-19 in 2020 (and still ongoing!).  In this seminar\, Kana will frankly talk about her lived experience as a female social entrepreneur in Japan.
URL:https://wheatoncollege.edu/event/the-lived-experience-of-a-female-entrepreneur-in-japan/
LOCATION:Discovery Center – Hindle Auditorium\, Norton\, MA\, 02766\, United States
CATEGORIES:Academic,Career,Students
ATTACH;FMTTYPE=image/jpeg:https://wheatoncollege.edu/wp-content/uploads/2022/02/WHEATON-COLLEGE-SEIR-Lecture-Series-Kana-Hattori-Posters-20211222-Entrepreneurship-Kobe-Image.jpg
GEO:41.9629235;-71.1804988
END:VEVENT
BEGIN:VEVENT
DTSTART;TZID=America/New_York:20220307T180000
DTEND;TZID=America/New_York:20220307T190000
DTSTAMP:20260423T033958
CREATED:20220221T214824Z
LAST-MODIFIED:20220223T183642Z
UID:10004292-1646676000-1646679600@wheatoncollege.edu
SUMMARY:A Seminar on Cross-cultural Mindfulness
DESCRIPTION:Non-Judging • Patience • Beginner’s Mind • Trust • Non-Striving • Acceptance • Letting Go • Gratitude • Generosity \nZen • Egolessness • Connection \nKendra is a qualified Mindfulness-Based Stress Reduction (MBSR) Teacher-Level 1 from the Mindfulness Center-Brown University School of Public Health.  She has also received training to teach Mindfulness-Based Cognitive Therapy (MBCT) for Life course through the Oxford Mindfulness  Center.  Kendra also is a Professional Life Coach with Certification in Energy Leadership Index Master Practitioner (ELI-MP) and a BA in Psychology\, Family Studies and Counseling. Through Mindfulness Life Coaching\, LLC she uses her skills to partner with participants in group settings and one-on-one to reach more awareness  in their lives. \nKana Hattori lives in Japan and is a Certified Instructor of the Urasenke Tea Ceremony\, headed by Sen Soshitsu XVI\, Zabosai\, a 16th generation descendant of “cha-sei” Sen no Rikyu. While at the Kyoto University of Arts\, she wrote her graduation thesis\, “Kimono Attire and Appearance: Between Tradition and Modernity”. She has also studied Chado\, Shamisen\, and Noh.
URL:https://wheatoncollege.edu/event/a-seminar-on-cross-cultural-mindfulness/
LOCATION:Discovery Center – Hindle Auditorium\, Norton\, MA\, 02766\, United States
CATEGORIES:Academic,Career,Diversity,Global,Students
ATTACH;FMTTYPE=image/jpeg:https://wheatoncollege.edu/wp-content/uploads/2022/02/WHEATON-COLLEGE-SEIR-Lecture-Series-Kana-Hattori-Posters-20211222-w-Kendra-Malloy-Image.jpg
GEO:41.9629235;-71.1804988
END:VEVENT
BEGIN:VEVENT
DTSTART;TZID=America/New_York:20200227T170000
DTEND;TZID=America/New_York:20200227T170000
DTSTAMP:20260423T033958
CREATED:20200128T194448Z
LAST-MODIFIED:20200212T181333Z
UID:10004682-1582822800-1582822800@wheatoncollege.edu
SUMMARY:The game is rigged! Mathematics for cheaters and scoundrels
DESCRIPTION:Join us for the 12th Norman W. Johnson Lecture in Mathematics and Computer Science. \nProfessor Zeitz of the University of San Francisco will explore a variety of wagers and games that practically guarantee a win for the player who makes the best mathematical analysis—and will demonstrate why this is the case. It’s not all fun and games though\, these vignettes have important mathematical morals to share.
URL:https://wheatoncollege.edu/event/the-game-is-rigged-mathematics-for-cheaters-and-scoundrels/
LOCATION:Discovery Center – Hindle Auditorium\, Norton\, MA\, 02766\, United States
CATEGORIES:Academic,Faculty & Staff,Students
ATTACH;FMTTYPE=image/jpeg:https://wheatoncollege.edu/wp-content/uploads/2020/01/20-Johnson-Lecture-Paul-Zeitz-Final.jpg
ORGANIZER;CN="William Bloch":MAILTO:bloch_bill@wheatoncollege.edu
GEO:41.9629235;-71.1804988
END:VEVENT
BEGIN:VEVENT
DTSTART;TZID=America/New_York:20200205T190000
DTEND;TZID=America/New_York:20200205T203000
DTSTAMP:20260423T033958
CREATED:20200116T162713Z
LAST-MODIFIED:20200131T171056Z
UID:10004663-1580929200-1580934600@wheatoncollege.edu
SUMMARY:How to Stop Time: Design Principles for Immersive Storytelling
DESCRIPTION:Overwhelmed by endless streams of content\, sophisticated audiences are demanding deeper\, more powerful experiences. Innovative technologies enable and inspire new forms of stories and participation\, but immersion is not a property of technology\, it is a product of a great experience. Mike Monello\, Co-founder of Campfire and one of the creators of The Blair Witch Project\, shares secrets from over 20 years on the frontline of emerging technology and storytelling.
URL:https://wheatoncollege.edu/event/mike-monello-producer/
LOCATION:Discovery Center – Hindle Auditorium\, Norton\, MA\, 02766\, United States
CATEGORIES:Arts
ATTACH;FMTTYPE=image/jpeg:https://wheatoncollege.edu/wp-content/uploads/2020/01/monello.jpg
ORGANIZER;CN="Arts at Wheaton":MAILTO:kuszaj_jessica@wheatoncollege.edu
GEO:41.9629235;-71.1804988
END:VEVENT
BEGIN:VEVENT
DTSTART;TZID=America/New_York:20190930T170000
DTEND;TZID=America/New_York:20190930T170000
DTSTAMP:20260423T033958
CREATED:20190920T152011Z
LAST-MODIFIED:20190923T193339Z
UID:10004577-1569862800-1569862800@wheatoncollege.edu
SUMMARY:Business and Management Information Session
DESCRIPTION:  \n  \n 
URL:https://wheatoncollege.edu/event/business-and-management-information-session/2019-09-30/
LOCATION:Discovery Center – Hindle Auditorium\, Norton\, MA\, 02766\, United States
ATTACH;FMTTYPE=image/jpeg:https://wheatoncollege.edu/wp-content/uploads/2019/09/info-session-flyer-f19-2.jpg
ORGANIZER;CN="Leanna Lawter":MAILTO:lawter_leanna@wheatoncollege.edu
GEO:41.9629235;-71.1804988
END:VEVENT
BEGIN:VEVENT
DTSTART;TZID=America/New_York:20190927T143000
DTEND;TZID=America/New_York:20190927T143000
DTSTAMP:20260423T033958
CREATED:20190920T152011Z
LAST-MODIFIED:20190923T193339Z
UID:10004576-1569594600-1569594600@wheatoncollege.edu
SUMMARY:Business and Management Information Session
DESCRIPTION:  \n  \n 
URL:https://wheatoncollege.edu/event/business-and-management-information-session/2019-09-27/
LOCATION:Discovery Center – Hindle Auditorium\, Norton\, MA\, 02766\, United States
ATTACH;FMTTYPE=image/jpeg:https://wheatoncollege.edu/wp-content/uploads/2019/09/info-session-flyer-f19-2.jpg
ORGANIZER;CN="Leanna Lawter":MAILTO:lawter_leanna@wheatoncollege.edu
GEO:41.9629235;-71.1804988
END:VEVENT
END:VCALENDAR