	BEGIN:VCALENDAR
VERSION:2.0
PRODID:-//Wheaton College Massachusetts - ECPv6.15.17.1//NONSGML v1.0//EN
CALSCALE:GREGORIAN
METHOD:PUBLISH
X-WR-CALNAME:Wheaton College Massachusetts
X-ORIGINAL-URL:https://wheatoncollege.edu
X-WR-CALDESC:Events for Wheaton College Massachusetts
REFRESH-INTERVAL;VALUE=DURATION:PT1H
X-Robots-Tag:noindex
X-PUBLISHED-TTL:PT1H
BEGIN:VTIMEZONE
TZID:America/New_York
BEGIN:DAYLIGHT
TZOFFSETFROM:-0500
TZOFFSETTO:-0400
TZNAME:EDT
DTSTART:20220313T070000
END:DAYLIGHT
BEGIN:STANDARD
TZOFFSETFROM:-0400
TZOFFSETTO:-0500
TZNAME:EST
DTSTART:20221106T060000
END:STANDARD
BEGIN:DAYLIGHT
TZOFFSETFROM:-0500
TZOFFSETTO:-0400
TZNAME:EDT
DTSTART:20230312T070000
END:DAYLIGHT
BEGIN:STANDARD
TZOFFSETFROM:-0400
TZOFFSETTO:-0500
TZNAME:EST
DTSTART:20231105T060000
END:STANDARD
BEGIN:DAYLIGHT
TZOFFSETFROM:-0500
TZOFFSETTO:-0400
TZNAME:EDT
DTSTART:20240310T070000
END:DAYLIGHT
BEGIN:STANDARD
TZOFFSETFROM:-0400
TZOFFSETTO:-0500
TZNAME:EST
DTSTART:20241103T060000
END:STANDARD
BEGIN:DAYLIGHT
TZOFFSETFROM:-0500
TZOFFSETTO:-0400
TZNAME:EDT
DTSTART:20250309T070000
END:DAYLIGHT
BEGIN:STANDARD
TZOFFSETFROM:-0400
TZOFFSETTO:-0500
TZNAME:EST
DTSTART:20251102T060000
END:STANDARD
BEGIN:DAYLIGHT
TZOFFSETFROM:-0500
TZOFFSETTO:-0400
TZNAME:EDT
DTSTART:20260308T070000
END:DAYLIGHT
BEGIN:STANDARD
TZOFFSETFROM:-0400
TZOFFSETTO:-0500
TZNAME:EST
DTSTART:20261101T060000
END:STANDARD
BEGIN:DAYLIGHT
TZOFFSETFROM:-0500
TZOFFSETTO:-0400
TZNAME:EDT
DTSTART:20270314T070000
END:DAYLIGHT
BEGIN:STANDARD
TZOFFSETFROM:-0400
TZOFFSETTO:-0500
TZNAME:EST
DTSTART:20271107T060000
END:STANDARD
END:VTIMEZONE
BEGIN:VEVENT
DTSTART;VALUE=DATE:20260411
DTEND;VALUE=DATE:20260412
DTSTAMP:20260420T165337
CREATED:20260402T204033Z
LAST-MODIFIED:20260402T204816Z
UID:10010137-1775865600-1775951999@wheatoncollege.edu
SUMMARY:Beverly Lyon Clark Children's Literature Symposium
DESCRIPTION:You are all cordially invited to the Fifth Annual Beverly Lyon Clark Children’s Literature Symposium\, commemorating the late researcher\, educator\, and beloved Wheaton colleague with contemporary scholarship exploring storytelling and materials intended for young peoples. The all-day event begins with light refreshments at 8:30am. \n\n\n\n\n\n\n\n\n\n\nThe Children’s Literature Symposium is a yearly tradition that honors the late Professor Beverly Clark (1948-2021)\, by providing the opportunity for undergraduate students\, early-career researchers\, and creatives to share their experiences and relationships with children’s literature. The theme for this year’s symposium is trees—representative of growth\, roots\, family\, and life. \n\n\n\n\n\n\n\n\n\n\n\n\n\n\n\n\n\n\n\n\nRegister here \n\n\n\n\n\n\n\n\n\n\nQuestions? email bevlclarksymposium@gmail.com
URL:https://wheatoncollege.edu/event/beverly-lyon-clark-childrens-literature-symposium/
CATEGORIES:Academic
ATTACH;FMTTYPE=image/png:https://wheatoncollege.edu/wp-content/uploads/2026/04/Final-poster.png
END:VEVENT
BEGIN:VEVENT
DTSTART;TZID=America/New_York:20230408T090000
DTEND;TZID=America/New_York:20230408T150000
DTSTAMP:20260420T165337
CREATED:20230406T213016Z
LAST-MODIFIED:20230407T003305Z
UID:10006083-1680944400-1680966000@wheatoncollege.edu
SUMMARY:2nd Annual Beverly Lyon Clark Symposium
DESCRIPTION:Students\, Faculty\, and Staff \nCome join us for a day of food\, talk\, and socializing. \n  \n\n \n  \n( reception to follow in the Bev Lyon Clark Lounge – Mars Arts & Humanities 3rd floor ) \n      \nBev Clark Symposium Program  \n  \n 
URL:https://wheatoncollege.edu/event/2nd-annual-beverly-lyon-clark-symposium/
LOCATION:Mary Lyon Hall – Holman Room\, Norton\, MA\, 02766\, United States
CATEGORIES:Faculty & Staff,Students
GEO:41.9629235;-71.1804988
END:VEVENT
END:VCALENDAR