	BEGIN:VCALENDAR
VERSION:2.0
PRODID:-//Wheaton College Massachusetts - ECPv6.15.17.1//NONSGML v1.0//EN
CALSCALE:GREGORIAN
METHOD:PUBLISH
X-ORIGINAL-URL:https://wheatoncollege.edu
X-WR-CALDESC:Events for Wheaton College Massachusetts
REFRESH-INTERVAL;VALUE=DURATION:PT1H
X-Robots-Tag:noindex
X-PUBLISHED-TTL:PT1H
BEGIN:VTIMEZONE
TZID:America/New_York
BEGIN:DAYLIGHT
TZOFFSETFROM:-0500
TZOFFSETTO:-0400
TZNAME:EDT
DTSTART:20180311T070000
END:DAYLIGHT
BEGIN:STANDARD
TZOFFSETFROM:-0400
TZOFFSETTO:-0500
TZNAME:EST
DTSTART:20181104T060000
END:STANDARD
BEGIN:DAYLIGHT
TZOFFSETFROM:-0500
TZOFFSETTO:-0400
TZNAME:EDT
DTSTART:20190310T070000
END:DAYLIGHT
BEGIN:STANDARD
TZOFFSETFROM:-0400
TZOFFSETTO:-0500
TZNAME:EST
DTSTART:20191103T060000
END:STANDARD
BEGIN:DAYLIGHT
TZOFFSETFROM:-0500
TZOFFSETTO:-0400
TZNAME:EDT
DTSTART:20200308T070000
END:DAYLIGHT
BEGIN:STANDARD
TZOFFSETFROM:-0400
TZOFFSETTO:-0500
TZNAME:EST
DTSTART:20201101T060000
END:STANDARD
BEGIN:DAYLIGHT
TZOFFSETFROM:-0500
TZOFFSETTO:-0400
TZNAME:EDT
DTSTART:20210314T070000
END:DAYLIGHT
BEGIN:STANDARD
TZOFFSETFROM:-0400
TZOFFSETTO:-0500
TZNAME:EST
DTSTART:20211107T060000
END:STANDARD
BEGIN:DAYLIGHT
TZOFFSETFROM:-0500
TZOFFSETTO:-0400
TZNAME:EDT
DTSTART:20220313T070000
END:DAYLIGHT
BEGIN:STANDARD
TZOFFSETFROM:-0400
TZOFFSETTO:-0500
TZNAME:EST
DTSTART:20221106T060000
END:STANDARD
BEGIN:DAYLIGHT
TZOFFSETFROM:-0500
TZOFFSETTO:-0400
TZNAME:EDT
DTSTART:20230312T070000
END:DAYLIGHT
BEGIN:STANDARD
TZOFFSETFROM:-0400
TZOFFSETTO:-0500
TZNAME:EST
DTSTART:20231105T060000
END:STANDARD
END:VTIMEZONE
BEGIN:VEVENT
DTSTART;TZID=America/New_York:20220401T190000
DTEND;TZID=America/New_York:20220401T210000
DTSTAMP:20260421T183929
CREATED:20220327T203621Z
LAST-MODIFIED:20220327T203621Z
UID:10005058-1648839600-1648846800@wheatoncollege.edu
SUMMARY:Class of 2022: 50 Days until Graduation Celebration
DESCRIPTION:Class of 2022\, join members of Alumni Relations\, Wheaton Fund\, Student Alumni Association\, and the Senior Class Gift Committee for an event to celebrate 50 Days until Graduation in Emerson Dining Hall from 7-9 pm on Friday\, April 1. Food and Drinks will be provided\, and this event is FREE.  \nMarco Barbone ’09 & Patty Grundy will present on the Senior Cord Program and how to access and utilize the LyonsLink\, the virtual alumni network. The Senior Class Gift Chairs\, Madisun Campbell\, Kaitlin Gossart\, Emma Lenskold\, and Harry Topol\, will present the class’s progress towards their Senior Class Gift campaign. \nAll Senior Class Gift participants will receive a raffle ticket to get the opportunity to win a\nFREE Senior Week Ticket\, which will be drawn at the event. \nContribute to the Senior Class Gift Campaign today!
URL:https://wheatoncollege.edu/event/class-of-2022-50-days-until-graduation-celebration/
LOCATION:Emerson Dining Room
CATEGORIES:Students
ATTACH;FMTTYPE=image/jpeg:https://wheatoncollege.edu/wp-content/uploads/2022/03/Blue-and-Red-Chalk-Graduation-Poster.jpg
ORGANIZER;CN="Marco Barbone":MAILTO:barbone_marco@wheatoncollege.edu
END:VEVENT
BEGIN:VEVENT
DTSTART;TZID=America/New_York:20211112T183000
DTEND;TZID=America/New_York:20211112T210000
DTSTAMP:20260421T183929
CREATED:20211104T160256Z
LAST-MODIFIED:20211110T162236Z
UID:10005004-1636741800-1636750800@wheatoncollege.edu
SUMMARY:Senior Class Gift Kick-Off Event
DESCRIPTION:Class of 2022\, join the Senior Class Gift Committee and the Wheaton Fund for a fundraising event to kick off the tradition of the Senior Class Gift. This event is FREE. The Senior Class Gift Chairs\, Madisun Campbell\, Kaitlin Gossart\, Emma Lenskold\, and Harry Topol\, will present how philanthropy through the Wheaton Fund has impacted your college experience and share the Class of 2022’s donor and dollar goals. Food and drinks will be served\, and all Senior Class Gift donors will receive a new t-shirt and a raffle ticket to get the opportunity to win a FREE Senior Week ticket. \nAttendees can select to attend between two time-slots 6:30-7:30 PM or 8:00 – 9:00 PM. \nAll Attendees must RSVP  before noon on 11/12/21.
URL:https://wheatoncollege.edu/event/senior-class-gift-kick-off-event-2/
LOCATION:Emerson Dining Room
CATEGORIES:Students
ATTACH;FMTTYPE=image/jpeg:https://wheatoncollege.edu/wp-content/uploads/2021/11/kickoff-poster-800.jpg
ORGANIZER;CN="Wheaton Fund":MAILTO:wheatonfund@wheatoncollege.edu
END:VEVENT
BEGIN:VEVENT
DTSTART;TZID=America/New_York:20200206T190000
DTEND;TZID=America/New_York:20200206T210000
DTSTAMP:20260421T183929
CREATED:20200131T212839Z
LAST-MODIFIED:20200131T212839Z
UID:10003940-1581015600-1581022800@wheatoncollege.edu
SUMMARY:Class of 2020: 100 Days ’til Graduation Event
DESCRIPTION:Class of 2020\, join members of Alumni Relations\, Wheaton Fund\, Student Alumni Association\, and the Senior Class Gift Committee for an event to celebrate 100 Days ’til Graduation in Emerson Dining Hall from 7-9 pm on Thursday\, February 6. Food and Drinks will be provided and this event is FREE.   \nMarco Barbone ’09 & Patty Grundy will present on the Senior Cord Program and how to access and utilize the Alumni Directory\, powered by Graduway. The Senior Class Gift Chairs\, Karin Dion\, Henry Gold\, Tariq Martin\, Gina Rose Napolitano\, and Colleen Sedney will present on the progress the class has made towards their Senior Class Gift campaign. \nAll Senior Class Gift participants will receive a raffle ticket to get the opportunity to win a\nFREE Senior Week Ticket\, which will be drawn at the event. \nFour easy ways Seniors can donate to the Senior Class Gift prior to the event are: \nOnline: https://give.evertrue.com/wheatoncollege/senior-class-gift  \nVenmo: https://venmo.com/WheatonMA \nPayPal: https://www.paypal.com/us/fundraiser/charity/1279544 \nText: Text the word Wheaton to 56512
URL:https://wheatoncollege.edu/event/class-of-2020-100-days-til-graduation-event/
CATEGORIES:Career,Students
ORGANIZER;CN="Patty Grundy":MAILTO:Grundy_Patricia@wheatoncollege.edu
END:VEVENT
BEGIN:VEVENT
DTSTART;TZID=America/New_York:20191107T190000
DTEND;TZID=America/New_York:20191107T210000
DTSTAMP:20260421T183929
CREATED:20191020T184016Z
LAST-MODIFIED:20191020T184016Z
UID:10004632-1573153200-1573160400@wheatoncollege.edu
SUMMARY:Senior Class Gift Kick-Off Event
DESCRIPTION:Class of 2020\, join the Senior Class Gift Committee & the Wheaton Fund for a FUNdraising Event to kick-off the tradition of the Senior Class Gift. This event is FREE. All attendees at check-in will receive an exclusive new t-shirt. The Senior Class Gift Chairs\, Karin Dion\, Henry Gold\, Tariq Martin\, Gina Rose Napolitano\, & Colleen Sedney will present on how philanthropy through the Wheaton Fund has impacted your college experience and we will hear additional remarks from President Hanno. \nFood and Drinks will be served and all Senior Class Gift participants will receive a raffle ticket to get the opportunity to win a FREE Senior Week Ticket. \n4 easy ways Seniors can donate before the event are: \nOnline: https://give.evertrue.com/wheatoncollege/senior-class-gift  \nVenmo: https://venmo.com/WheatonMA \nPayPal: https://www.paypal.com/us/fundraiser/charity/1279544 \nText: Text the word Wheaton to 56512
URL:https://wheatoncollege.edu/event/senior-class-gift-kick-off-event-2020/
LOCATION:Mars Center – Davis Spencer Cafe
CATEGORIES:Students
ATTACH;FMTTYPE=image/png:https://wheatoncollege.edu/wp-content/uploads/2019/10/Senior-Class-Gift-Kick-Off-Flyer.png
ORGANIZER;CN="Patty Grundy":MAILTO:Grundy_Patricia@wheatoncollege.edu
END:VEVENT
END:VCALENDAR