	BEGIN:VCALENDAR
VERSION:2.0
PRODID:-//Wheaton College Massachusetts - ECPv6.15.17.1//NONSGML v1.0//EN
CALSCALE:GREGORIAN
METHOD:PUBLISH
X-ORIGINAL-URL:https://wheatoncollege.edu
X-WR-CALDESC:Events for Wheaton College Massachusetts
REFRESH-INTERVAL;VALUE=DURATION:PT1H
X-Robots-Tag:noindex
X-PUBLISHED-TTL:PT1H
BEGIN:VTIMEZONE
TZID:America/New_York
BEGIN:DAYLIGHT
TZOFFSETFROM:-0500
TZOFFSETTO:-0400
TZNAME:EDT
DTSTART:20210314T070000
END:DAYLIGHT
BEGIN:STANDARD
TZOFFSETFROM:-0400
TZOFFSETTO:-0500
TZNAME:EST
DTSTART:20211107T060000
END:STANDARD
BEGIN:DAYLIGHT
TZOFFSETFROM:-0500
TZOFFSETTO:-0400
TZNAME:EDT
DTSTART:20220313T070000
END:DAYLIGHT
BEGIN:STANDARD
TZOFFSETFROM:-0400
TZOFFSETTO:-0500
TZNAME:EST
DTSTART:20221106T060000
END:STANDARD
BEGIN:DAYLIGHT
TZOFFSETFROM:-0500
TZOFFSETTO:-0400
TZNAME:EDT
DTSTART:20230312T070000
END:DAYLIGHT
BEGIN:STANDARD
TZOFFSETFROM:-0400
TZOFFSETTO:-0500
TZNAME:EST
DTSTART:20231105T060000
END:STANDARD
BEGIN:DAYLIGHT
TZOFFSETFROM:-0500
TZOFFSETTO:-0400
TZNAME:EDT
DTSTART:20240310T070000
END:DAYLIGHT
BEGIN:STANDARD
TZOFFSETFROM:-0400
TZOFFSETTO:-0500
TZNAME:EST
DTSTART:20241103T060000
END:STANDARD
BEGIN:DAYLIGHT
TZOFFSETFROM:-0500
TZOFFSETTO:-0400
TZNAME:EDT
DTSTART:20250309T070000
END:DAYLIGHT
BEGIN:STANDARD
TZOFFSETFROM:-0400
TZOFFSETTO:-0500
TZNAME:EST
DTSTART:20251102T060000
END:STANDARD
END:VTIMEZONE
BEGIN:VEVENT
DTSTART;TZID=America/New_York:20241204T160000
DTEND;TZID=America/New_York:20241204T190000
DTSTAMP:20260421T214332
CREATED:20241114T175820Z
LAST-MODIFIED:20251113T145237Z
UID:10008187-1733328000-1733338800@wheatoncollege.edu
SUMMARY:Winterfest 2024
DESCRIPTION:It’s part European holiday market\, part arts exhibition and music concert\, and all fun. \nCelebrate the winter season at the college’s annual Winterfest\, featuring horse-drawn carriage rides\, an indoor community craft fair\, illuminated ice sculptures\, food vendors; sweet treats\, photo ops and more. \nThe event will culminate with the Holiday Vespers Concert in Cole Memorial Chapel at 7 p.m.. Wheaton’s long-standing choral tradition for the holidays celebrates music of varied cultures and time periods\, and features the Wheaton Chorale and Chamber Singers under the direction of Assistant Professor Alexandra Lutkevich. The concert is free to the public\, but donations are gratefully accepted. \nAs part of the celebration\, the college will collect non-perishable food items\, hats\, mittens and scarves for the Norton Cupboard of Kindness. (Donation bins will be located in the Balfour-Hood Campus Center.) \nThis event is open to Wheaton students\, faculty and staff and their families\, and Norton residents. Parking for campus visitors will be available at Lot #2 on East Main Street (see campus map). \nThe celebration is sponsored by Arts at Wheaton and the Office of the President.
URL:https://wheatoncollege.edu/event/winterfest-2024/
LOCATION:The Dimple\, Norton\, MA\, 02766\, United States
CATEGORIES:Community
ATTACH;FMTTYPE=image/jpeg:https://wheatoncollege.edu/wp-content/uploads/2024/11/Winterfest_1200px.jpg
ORGANIZER;CN="Pamela Vaz":MAILTO:vaz_pamela@wheatoncollege.edu
GEO:41.9629235;-71.1804988
END:VEVENT
BEGIN:VEVENT
DTSTART;TZID=America/New_York:20231204T160000
DTEND;TZID=America/New_York:20231204T183000
DTSTAMP:20260421T214332
CREATED:20231030T191720Z
LAST-MODIFIED:20231108T172623Z
UID:10006442-1701705600-1701714600@wheatoncollege.edu
SUMMARY:Winter Fest
DESCRIPTION:Celebrate the winter season at a gathering on the college’s Dimple\, featuring food trucks; hot chocolate\, hot cider and other sweet treats; craft vendors; musical performances; illuminated ice sculptures\, and more. \nAs part of the celebration\, the college will collect non-perishable food items for the Wheaton Food Pantry; and hats\, mittens and scarves for the Norton Cupboard of Kindness. (Donations bins will be located in the Balfour-Hood Campus Center.) \nThis event is open to Wheaton students\, faculty and staff and their families\, and Norton residents. Parking for campus visitors will be available at Lot #2 on East Main Street (see campus map). \nThe celebration is sponsored by Arts at Wheaton and the Office of the President.
URL:https://wheatoncollege.edu/event/winter-fest-2/
LOCATION:The Dimple\, Norton\, MA\, 02766\, United States
CATEGORIES:Community
ATTACH;FMTTYPE=image/jpeg:https://wheatoncollege.edu/wp-content/uploads/2023/10/22_Winter_Fest-12x18-poster_v1.jpeg
ORGANIZER;CN="Pamela Vaz":MAILTO:vaz_pamela@wheatoncollege.edu
GEO:41.9629235;-71.1804988
END:VEVENT
BEGIN:VEVENT
DTSTART;TZID=America/New_York:20221205T153000
DTEND;TZID=America/New_York:20221205T180000
DTSTAMP:20260421T214332
CREATED:20221116T133114Z
LAST-MODIFIED:20221117T211436Z
UID:10004465-1670254200-1670263200@wheatoncollege.edu
SUMMARY:Winter Fest
DESCRIPTION:Celebrate the winter season at a gathering on the college’s Dimple\, featuring food trucks; hot chocolate\,  hot cider and other sweet treats; craft vendors; musical performances; illuminated ice sculptures\, and more. \nAs part of the celebration\, the college will collect non-perishable food items for the Wheaton Food Pantry; and hats\, mittens and scarves for the Norton Cupboard of Kindness. (Donations bins will be located in the Balfour-Hood Campus Center.) \nThis event is open to Wheaton students\, faculty and staff and their families\, and Norton residents. Parking for campus visitors will be available at Lot #2 on East Main Street (Google Maps). \nThe celebration is sponsored by Arts at Wheaton and the Office of the President.
URL:https://wheatoncollege.edu/event/winter-fest/
LOCATION:The Dimple\, Norton\, MA\, 02766\, United States
CATEGORIES:Arts,Faculty & Staff,President,Students
ATTACH;FMTTYPE=image/jpeg:https://wheatoncollege.edu/wp-content/uploads/2022/11/22_Winter_Fest-12x18-poster_v1.jpg
ORGANIZER;CN="Pamela Vaz":MAILTO:vaz_pamela@wheatoncollege.edu
GEO:41.9629235;-71.1804988
END:VEVENT
END:VCALENDAR