	BEGIN:VCALENDAR
VERSION:2.0
PRODID:-//Wheaton College Massachusetts - ECPv6.15.17.1//NONSGML v1.0//EN
CALSCALE:GREGORIAN
METHOD:PUBLISH
X-WR-CALNAME:Wheaton College Massachusetts
X-ORIGINAL-URL:https://wheatoncollege.edu
X-WR-CALDESC:Events for Wheaton College Massachusetts
REFRESH-INTERVAL;VALUE=DURATION:PT1H
X-Robots-Tag:noindex
X-PUBLISHED-TTL:PT1H
BEGIN:VTIMEZONE
TZID:America/New_York
BEGIN:DAYLIGHT
TZOFFSETFROM:-0500
TZOFFSETTO:-0400
TZNAME:EDT
DTSTART:20250309T070000
END:DAYLIGHT
BEGIN:STANDARD
TZOFFSETFROM:-0400
TZOFFSETTO:-0500
TZNAME:EST
DTSTART:20251102T060000
END:STANDARD
BEGIN:DAYLIGHT
TZOFFSETFROM:-0500
TZOFFSETTO:-0400
TZNAME:EDT
DTSTART:20260308T070000
END:DAYLIGHT
BEGIN:STANDARD
TZOFFSETFROM:-0400
TZOFFSETTO:-0500
TZNAME:EST
DTSTART:20261101T060000
END:STANDARD
BEGIN:DAYLIGHT
TZOFFSETFROM:-0500
TZOFFSETTO:-0400
TZNAME:EDT
DTSTART:20270314T070000
END:DAYLIGHT
BEGIN:STANDARD
TZOFFSETFROM:-0400
TZOFFSETTO:-0500
TZNAME:EST
DTSTART:20271107T060000
END:STANDARD
END:VTIMEZONE
BEGIN:VEVENT
DTSTART;TZID=America/New_York:20260430T170000
DTEND;TZID=America/New_York:20260430T180000
DTSTAMP:20260420T114223
CREATED:20260326T185210Z
LAST-MODIFIED:20260417T203400Z
UID:10010134-1777568400-1777572000@wheatoncollege.edu
SUMMARY:Honors Convocation 2026
DESCRIPTION:Please join President Whelan\, Provost Jonathan Millen\, and Darnell Parker\, Vice President of Student Affairs\, at Honors Convocation to celebrate excellence in academic and intellectual pursuits. \nJoel Relihan\, Professor of Greek\, Latin\, and Ancient Mediterranean Studies\, will deliver the keynote address\, “Silence.” \nDepartmental and College awards will be presented to students who have distinguished themselves as scholars and academic citizens of Wheaton College. Prabidhi Malla\, Class of ’26 Chair\, will present the Senior Class Faculty Appreciation Award and Provost Jonathan Millen will announce the recipient of this year’s endowed honorary professorships. \nThe lineup for the procession begins promptly at 4:45 p.m. College Marshals Stephanie Daniels and Bob Morris will line up the Faculty (in regalia) in front of Knapton Hall and Seniors (in robes) in front of the Chapel. (In the case of inclement weather: Faculty will line up in the lower level of the Chapel; seniors will line up in Balfour-Hood). \nHonors Convocation is open to the public but seating is limited and on a first-come\, first-served basis. The recording of the ceremony and the official program will be available online shortly after the event. \nPlease direct any questions to the Office of the Provost at provost@wheatoncollege.edu. We hope you can join us for this special academic tradition!
URL:https://wheatoncollege.edu/event/honors-convocation-2026/
LOCATION:Cole Memorial Chapel\, Norton\, MA\, 02766\, United States
CATEGORIES:Academic,Community
ATTACH;FMTTYPE=image/jpeg:https://wheatoncollege.edu/wp-content/uploads/2026/03/26-honors-convo-image.jpg
ORGANIZER;CN="Office of the Provost":MAILTO:provost@wheatoncollege.edu
GEO:41.9629235;-71.1804988
END:VEVENT
END:VCALENDAR