	BEGIN:VCALENDAR
VERSION:2.0
PRODID:-//Wheaton College Massachusetts - ECPv6.15.17.1//NONSGML v1.0//EN
CALSCALE:GREGORIAN
METHOD:PUBLISH
X-ORIGINAL-URL:https://wheatoncollege.edu
X-WR-CALDESC:Events for Wheaton College Massachusetts
REFRESH-INTERVAL;VALUE=DURATION:PT1H
X-Robots-Tag:noindex
X-PUBLISHED-TTL:PT1H
BEGIN:VTIMEZONE
TZID:America/New_York
BEGIN:DAYLIGHT
TZOFFSETFROM:-0500
TZOFFSETTO:-0400
TZNAME:EDT
DTSTART:20200308T070000
END:DAYLIGHT
BEGIN:STANDARD
TZOFFSETFROM:-0400
TZOFFSETTO:-0500
TZNAME:EST
DTSTART:20201101T060000
END:STANDARD
BEGIN:DAYLIGHT
TZOFFSETFROM:-0500
TZOFFSETTO:-0400
TZNAME:EDT
DTSTART:20210314T070000
END:DAYLIGHT
BEGIN:STANDARD
TZOFFSETFROM:-0400
TZOFFSETTO:-0500
TZNAME:EST
DTSTART:20211107T060000
END:STANDARD
BEGIN:DAYLIGHT
TZOFFSETFROM:-0500
TZOFFSETTO:-0400
TZNAME:EDT
DTSTART:20220313T070000
END:DAYLIGHT
BEGIN:STANDARD
TZOFFSETFROM:-0400
TZOFFSETTO:-0500
TZNAME:EST
DTSTART:20221106T060000
END:STANDARD
END:VTIMEZONE
BEGIN:VEVENT
DTSTART;TZID=America/New_York:20210408T190000
DTEND;TZID=America/New_York:20210408T210000
DTSTAMP:20260421T121008
CREATED:20210121T161253Z
LAST-MODIFIED:20210405T202359Z
UID:10004768-1617908400-1617915600@wheatoncollege.edu
SUMMARY:Decolonizing Universalism: Constructing a Transnational Feminist Ethic
DESCRIPTION:A discussion with Serene J. Khader\, Professor and Jay Newman\, Chair in Philosophy of Culture\, Brooklyn College. \nJoin Professor Khader for a discussion of her recent book\, Decolonizing Universalism\, which asks after the values that should guide transnational feminist solidarity. In her work Professor Khader argues that transnational feminism can respect cultural religious difference and acknowledge the legacy of imperialism without surrendering its core ethical commitments. \nClick here to register on Zoom  \nIndividuals with disabilities requiring accommodation or information on accessibility should contact dorzweiler_nick@wheatoncollege.edu by Thursday\, April 1\, 2021. \nPresented by the SGA Speaker Fund\, Political Science and Women’s and Gender Studies Departments.
URL:https://wheatoncollege.edu/event/decolonizing-universalism-constructing-a-transnational-feminist-ethic/
LOCATION:Online
CATEGORIES:Virtual
ATTACH;FMTTYPE=image/jpeg:https://wheatoncollege.edu/wp-content/uploads/2021/01/Decolonizing-universalism-2.jpg
ORGANIZER;CN="Nick Dorzweiler":MAILTO:dorzweiler_nick@wheatoncollege.edu
END:VEVENT
END:VCALENDAR