	BEGIN:VCALENDAR
VERSION:2.0
PRODID:-//Wheaton College Massachusetts - ECPv6.15.17.1//NONSGML v1.0//EN
CALSCALE:GREGORIAN
METHOD:PUBLISH
X-WR-CALNAME:Wheaton College Massachusetts
X-ORIGINAL-URL:https://wheatoncollege.edu
X-WR-CALDESC:Events for Wheaton College Massachusetts
REFRESH-INTERVAL;VALUE=DURATION:PT1H
X-Robots-Tag:noindex
X-PUBLISHED-TTL:PT1H
BEGIN:VTIMEZONE
TZID:America/New_York
BEGIN:DAYLIGHT
TZOFFSETFROM:-0500
TZOFFSETTO:-0400
TZNAME:EDT
DTSTART:20190310T070000
END:DAYLIGHT
BEGIN:STANDARD
TZOFFSETFROM:-0400
TZOFFSETTO:-0500
TZNAME:EST
DTSTART:20191103T060000
END:STANDARD
BEGIN:DAYLIGHT
TZOFFSETFROM:-0500
TZOFFSETTO:-0400
TZNAME:EDT
DTSTART:20200308T070000
END:DAYLIGHT
BEGIN:STANDARD
TZOFFSETFROM:-0400
TZOFFSETTO:-0500
TZNAME:EST
DTSTART:20201101T060000
END:STANDARD
BEGIN:DAYLIGHT
TZOFFSETFROM:-0500
TZOFFSETTO:-0400
TZNAME:EDT
DTSTART:20210314T070000
END:DAYLIGHT
BEGIN:STANDARD
TZOFFSETFROM:-0400
TZOFFSETTO:-0500
TZNAME:EST
DTSTART:20211107T060000
END:STANDARD
BEGIN:DAYLIGHT
TZOFFSETFROM:-0500
TZOFFSETTO:-0400
TZNAME:EDT
DTSTART:20220313T070000
END:DAYLIGHT
BEGIN:STANDARD
TZOFFSETFROM:-0400
TZOFFSETTO:-0500
TZNAME:EST
DTSTART:20221106T060000
END:STANDARD
BEGIN:DAYLIGHT
TZOFFSETFROM:-0500
TZOFFSETTO:-0400
TZNAME:EDT
DTSTART:20230312T070000
END:DAYLIGHT
BEGIN:STANDARD
TZOFFSETFROM:-0400
TZOFFSETTO:-0500
TZNAME:EST
DTSTART:20231105T060000
END:STANDARD
BEGIN:DAYLIGHT
TZOFFSETFROM:-0500
TZOFFSETTO:-0400
TZNAME:EDT
DTSTART:20240310T070000
END:DAYLIGHT
BEGIN:STANDARD
TZOFFSETFROM:-0400
TZOFFSETTO:-0500
TZNAME:EST
DTSTART:20241103T060000
END:STANDARD
END:VTIMEZONE
BEGIN:VEVENT
DTSTART;TZID=America/New_York:20230428T113000
DTEND;TZID=America/New_York:20230428T150000
DTSTAMP:20260420T031526
CREATED:20230411T134639Z
LAST-MODIFIED:20230428T182228Z
UID:10006202-1682681400-1682694000@wheatoncollege.edu
SUMMARY:Academic Festival 2023
DESCRIPTION:On Friday\, April 28 we will highlight our students’ work in the 2023 Academic Festival. This one-day festival will include a 3-minute elevator pitch competition\, a poster session and tables that could highlight other types of work\, and a reception that will bring students\, faculty and staff together to play with ideas and celebrate their intellectual and creative pursuits.
URL:https://wheatoncollege.edu/event/academic-festival-2023/
LOCATION:Filene Center\, Norton\, MA\, 02766\, United States
CATEGORIES:Academic,Faculty & Staff,Students
ORGANIZER;CN="Karen McCormack":MAILTO:mccormack_karen@wheatoncollege.edu
GEO:41.9629235;-71.1804988
END:VEVENT
BEGIN:VEVENT
DTSTART;TZID=America/New_York:20211014T090000
DTEND;TZID=America/New_York:20211014T140000
DTSTAMP:20260420T031526
CREATED:20211012T175725Z
LAST-MODIFIED:20211012T180706Z
UID:10004230-1634202000-1634220000@wheatoncollege.edu
SUMMARY:MAP Day!
DESCRIPTION:Join us for MAP Day\, October 14\, 2021! Classes are canceled between 9 a.m–2 p.m. to allow time to step back and reflect on your Wheaton journey. \nMAP Day provides time for students to see all that Wheaton has to offer\, from study abroad\, career planning\, honors & scholars programs\, LEAPS\, majors\, financial planning\, and much more. First and second year students will meet with MAP Advisors and peers in morning cohort meetings to reflect and plan. \nAttend an author reading and Q&A with Deesha Philyaw\, author of The Secret Lives of Church Ladies. This collection of short stories won the 2021 PEN/Faulkner Award for Fiction\, the 2020/2021 Story Prize and the 2020 Los Angeles Times Book Prize: The Art Seidenbaum Award for First Fiction and was a finalist for the 2020 National Book Award for Fiction. A Q&A session will follow. \nWheaton’s Diversity\, Equity and Access Leadership will host a discussion entitled Progress Towards Equity: A Community Discussion\, to bring the Wheaton community together for this important discussion. \nDon’t miss cider & donuts on the Dimple and in the Pine Courtyard from 10-11 a.m. \nLearn about all of the many opportunities available to you as you plan your Wheaton career and your life after Wheaton! All events\, including descriptions\, preregistration information\, and meeting links are available on Inside Wheaton  -> Academics -> MAP Day.
URL:https://wheatoncollege.edu/event/map-day-2/
LOCATION:All Campus\, 26 E. Main St.\, Norton\, MA\, 02766\, United States
CATEGORIES:Academic,Faculty & Staff,Students
ORGANIZER;CN="Karen McCormack":MAILTO:mccormack_karen@wheatoncollege.edu
GEO:41.9629235;-71.1804988
X-APPLE-STRUCTURED-LOCATION;VALUE=URI;X-ADDRESS=All Campus 26 E. Main St. Norton MA 02766 United States;X-APPLE-RADIUS=500;X-TITLE=26 E. Main St.:geo:-71.1804988,41.9629235
END:VEVENT
BEGIN:VEVENT
DTSTART;TZID=America/New_York:20210325T090000
DTEND;TZID=America/New_York:20210325T140000
DTSTAMP:20260420T031526
CREATED:20210316T145323Z
LAST-MODIFIED:20210316T151253Z
UID:10004944-1616662800-1616680800@wheatoncollege.edu
SUMMARY:Spring MAP Day
DESCRIPTION:Join us for spring MAP Day\, March 25! Classes are canceled between 9-2 to allow time to step back and reflect on your Wheaton journey in and outside of the classroom. With more than 90 program offerings\, there’s something for everyone. \nSpring MAP Day features an academic fair where you can meet faculty and majors in departments that interest you. There are also many sessions where you can learn about unique opportunities like the honors and scholars programs\, LEAPS\, Semester in the City\, maker spaces\, study abroad\, and much more. \nCareer Services is sponsoring a Spring Career Fair for juniors and seniors to have conversations with employers. Don’t miss out: sign up in Handshake now! \nStudent-run organizations are offering over 25 sessions ranging from a dance workshop to tips for having bipartisan conversations to chemistry demonstrations. Many sessions from students\, staff\, and faculty designed to help you build a strong and inclusive community are offered throughout the day. \nFirst Year students will learn about the Sophomore Experience (9:20-10:00) and meet with their MAP Advising cohort (12:30-1:30). \nLearn about all of the many opportunities available to you as you plan your Wheaton career and your life after Wheaton! All events\, including descriptions\, preregistration information\, and meeting links are available on Inside Wheaton -> Academics -> MAP Day.
URL:https://wheatoncollege.edu/event/spring-map-day/
LOCATION:All Campus\, 26 E. Main St.\, Norton\, MA\, 02766\, United States
CATEGORIES:Academic,Students
ORGANIZER;CN="Karen McCormack":MAILTO:mccormack_karen@wheatoncollege.edu
GEO:41.9629235;-71.1804988
X-APPLE-STRUCTURED-LOCATION;VALUE=URI;X-ADDRESS=All Campus 26 E. Main St. Norton MA 02766 United States;X-APPLE-RADIUS=500;X-TITLE=26 E. Main St.:geo:-71.1804988,41.9629235
END:VEVENT
BEGIN:VEVENT
DTSTART;TZID=America/New_York:20201015T090000
DTEND;TZID=America/New_York:20201015T140000
DTSTAMP:20260420T031526
CREATED:20200924T161503Z
LAST-MODIFIED:20201012T153934Z
UID:10004741-1602752400-1602770400@wheatoncollege.edu
SUMMARY:MAP Day
DESCRIPTION:As a component of the Compass curriculum\, Mentored Academic Pathway (MAP) is a process of reflection\, inquiry\, and planning through which students choose their paths through the classes\, majors\, internships and extracurriculars. \nMAP Day is day set aside to reflect on our individual and collective journeys\, to build a stronger\, more inclusive community\, and to make a thoughtful plan to move ahead. \nStep back from your daily schedule to reflect on your educational journey and on your part in building the Wheaton community. Don’t miss this opportunity to engage with all that Wheaton has to offer\, from academic opportunities like honors and scholars programs and student-faculty research\, to career connections through the Wheaton Edge funding and internship support\, to student activities and leadership opportunities. Come and build your plan for your own success and be a part of the Wheaton community. \nSessions for first-year students include time management\, funding 101\, and navigating the Compass curriculum. Sessions available for all include Career Services’ signature Wheaton to the World programs including alumni panels\, financial planning\, and internship and job search strategies. Community-building and anti-racist engagement will be featured in the final hour session hosted by Diversity\, Equity and Access Leadership (DEAL) \, focused on policing in America and the growth of the Black Lives Matter movement. \nA host of other activities will also take place\, including musical performances through dorm windows\, apple cider donuts on the Dimple\, introductions to new honors and scholars programs\, invitations to student activities and student activism\, and much\, much more.
URL:https://wheatoncollege.edu/event/map-day/
LOCATION:Online
CATEGORIES:Academic,Diversity,Students,Virtual
ORGANIZER;CN="Karen McCormack":MAILTO:mccormack_karen@wheatoncollege.edu
END:VEVENT
END:VCALENDAR