	BEGIN:VCALENDAR
VERSION:2.0
PRODID:-//Wheaton College Massachusetts - ECPv6.15.17.1//NONSGML v1.0//EN
CALSCALE:GREGORIAN
METHOD:PUBLISH
X-ORIGINAL-URL:https://wheatoncollege.edu
X-WR-CALDESC:Events for Wheaton College Massachusetts
REFRESH-INTERVAL;VALUE=DURATION:PT1H
X-Robots-Tag:noindex
X-PUBLISHED-TTL:PT1H
BEGIN:VTIMEZONE
TZID:America/New_York
BEGIN:DAYLIGHT
TZOFFSETFROM:-0500
TZOFFSETTO:-0400
TZNAME:EDT
DTSTART:20240310T070000
END:DAYLIGHT
BEGIN:STANDARD
TZOFFSETFROM:-0400
TZOFFSETTO:-0500
TZNAME:EST
DTSTART:20241103T060000
END:STANDARD
BEGIN:DAYLIGHT
TZOFFSETFROM:-0500
TZOFFSETTO:-0400
TZNAME:EDT
DTSTART:20250309T070000
END:DAYLIGHT
BEGIN:STANDARD
TZOFFSETFROM:-0400
TZOFFSETTO:-0500
TZNAME:EST
DTSTART:20251102T060000
END:STANDARD
BEGIN:DAYLIGHT
TZOFFSETFROM:-0500
TZOFFSETTO:-0400
TZNAME:EDT
DTSTART:20260308T070000
END:DAYLIGHT
BEGIN:STANDARD
TZOFFSETFROM:-0400
TZOFFSETTO:-0500
TZNAME:EST
DTSTART:20261101T060000
END:STANDARD
END:VTIMEZONE
BEGIN:VEVENT
DTSTART;TZID=America/New_York:20250324T170000
DTEND;TZID=America/New_York:20250324T170000
DTSTAMP:20260420T025644
CREATED:20250207T170138Z
LAST-MODIFIED:20250207T170249Z
UID:10009219-1742835600-1742835600@wheatoncollege.edu
SUMMARY:17th Annual Mary L. Heuser Lecture—Dakar As Art World City
DESCRIPTION:Wheaton’s 17th Annual Mary L. Heuser guest speaker\, Joanna Grabski\, Dean & Foundation Professor\, College of Integrative Sciences and Arts (CISA) at Arizona State University\, presents Dakar As Art World City. Dr. Grabski’s talk focuses on contemporary art and artists in Dakar\, Senegal\, a famously thriving “art world city”; highlighting how and why artists produce and exhibit their work and how they created an art scene by interacting with art world figures from near and far. She shows us that Dakar-based artists have local resonance in their city just as they have global reach.
URL:https://wheatoncollege.edu/event/17th-annual-mary-l-heuser-lecture-dakar-as-art-world-city/
LOCATION:Watson Fine Arts – 102\, Norton\, MA\, 02766
CATEGORIES:Arts,Students
END:VEVENT
BEGIN:VEVENT
DTSTART;TZID=America/New_York:20250325T130000
DTEND;TZID=America/New_York:20250325T130000
DTSTAMP:20260420T025644
CREATED:20250218T150456Z
LAST-MODIFIED:20250226T174804Z
UID:10009275-1742907600-1742907600@wheatoncollege.edu
SUMMARY:Reclaiming History; Archives as Resistance
DESCRIPTION:  \n \nWe may think of archives as passive repositories but the projects in this exhibition explore how archives can rewrite history\, activating counter-narratives. The projects range from artist books from the Women’s Studio Workshop; materials documenting Wheaton’s history from the Gebbie Archives and Special Collections; Tirazain\, a digital archive of Palestinian tatreez embroidery designs; the Rhode Island-based Binch Press/Queer.Archive.Work ‘s Community Supported Art (CSA) project\, and the nonprofit Internet Archive. These varied examples show how archives celebrate non-dominant and non-linear stories and show us that history is not static. \nGallery Hours: Tuesday\, Wednesday\, Friday\, Saturday 1:00 p.m. – 5:00 p.m.\, Thursdays 1:00 p.m.—8:00 p.m.  Please note: the galleries will be closed March 9—17 for spring break.
URL:https://wheatoncollege.edu/event/reclaiming-history-archives-as-resistance-2/2025-03-25/
LOCATION:Watson Fine Arts – Beard and Weil Galleries\, Norton\, MA\, 02766\, United States
CATEGORIES:Arts
ORGANIZER;CN="Elizabeth Hoy":MAILTO:hoy_elizabeth@wheatoncollege.edu
GEO:41.9629235;-71.1804988
END:VEVENT
BEGIN:VEVENT
DTSTART;TZID=America/New_York:20250327T130000
DTEND;TZID=America/New_York:20250327T130000
DTSTAMP:20260420T025644
CREATED:20250218T150456Z
LAST-MODIFIED:20250226T174804Z
UID:10009276-1743080400-1743080400@wheatoncollege.edu
SUMMARY:Reclaiming History; Archives as Resistance
DESCRIPTION:  \n \nWe may think of archives as passive repositories but the projects in this exhibition explore how archives can rewrite history\, activating counter-narratives. The projects range from artist books from the Women’s Studio Workshop; materials documenting Wheaton’s history from the Gebbie Archives and Special Collections; Tirazain\, a digital archive of Palestinian tatreez embroidery designs; the Rhode Island-based Binch Press/Queer.Archive.Work ‘s Community Supported Art (CSA) project\, and the nonprofit Internet Archive. These varied examples show how archives celebrate non-dominant and non-linear stories and show us that history is not static. \nGallery Hours: Tuesday\, Wednesday\, Friday\, Saturday 1:00 p.m. – 5:00 p.m.\, Thursdays 1:00 p.m.—8:00 p.m.  Please note: the galleries will be closed March 9—17 for spring break.
URL:https://wheatoncollege.edu/event/reclaiming-history-archives-as-resistance-2/2025-03-27/
LOCATION:Watson Fine Arts – Beard and Weil Galleries\, Norton\, MA\, 02766\, United States
CATEGORIES:Arts
ORGANIZER;CN="Elizabeth Hoy":MAILTO:hoy_elizabeth@wheatoncollege.edu
GEO:41.9629235;-71.1804988
END:VEVENT
BEGIN:VEVENT
DTSTART;TZID=America/New_York:20250327T193000
DTEND;TZID=America/New_York:20250327T193000
DTSTAMP:20260420T025644
CREATED:20250113T163506Z
LAST-MODIFIED:20250318T194348Z
UID:10009150-1743103800-1743103800@wheatoncollege.edu
SUMMARY:Everybody
DESCRIPTION:Adapted by Branden Jacobs-Jenkins\nPresented by Kresge Theatre Company\n\nThis modern riff on the 15th century morality play Everyman follows Everybody (chosen from amongst the cast by lottery at each performance) as they journey through life’s greatest mystery—the meaning of living. This student-led production\, directed by Colin Bourget ’26 and produced by Joey Del Santo ’25\, is sure to be an innovative\, interactive and immersive theatrical experience. \nTickets: Pay What You Can via the Watson Box Office \nProduced in special arrangement with Broadway Licensing\, LLC\, servicing the Dramatists Play Service collection. (www.dramatists.com) \n 
URL:https://wheatoncollege.edu/event/everybody/2025-03-27/
LOCATION:Kresge Experimental Theatre\, Watson Fine Arts
CATEGORIES:Arts,Students,Theatre
END:VEVENT
BEGIN:VEVENT
DTSTART;TZID=America/New_York:20250328T193000
DTEND;TZID=America/New_York:20250328T193000
DTSTAMP:20260420T025644
CREATED:20250113T163506Z
LAST-MODIFIED:20250318T194348Z
UID:10009151-1743190200-1743190200@wheatoncollege.edu
SUMMARY:Everybody
DESCRIPTION:Adapted by Branden Jacobs-Jenkins\nPresented by Kresge Theatre Company\n\nThis modern riff on the 15th century morality play Everyman follows Everybody (chosen from amongst the cast by lottery at each performance) as they journey through life’s greatest mystery—the meaning of living. This student-led production\, directed by Colin Bourget ’26 and produced by Joey Del Santo ’25\, is sure to be an innovative\, interactive and immersive theatrical experience. \nTickets: Pay What You Can via the Watson Box Office \nProduced in special arrangement with Broadway Licensing\, LLC\, servicing the Dramatists Play Service collection. (www.dramatists.com) \n 
URL:https://wheatoncollege.edu/event/everybody/2025-03-28/
LOCATION:Kresge Experimental Theatre\, Watson Fine Arts
CATEGORIES:Arts,Students,Theatre
END:VEVENT
BEGIN:VEVENT
DTSTART;TZID=America/New_York:20250329T130000
DTEND;TZID=America/New_York:20250329T130000
DTSTAMP:20260420T025644
CREATED:20250218T150456Z
LAST-MODIFIED:20250226T174804Z
UID:10009277-1743253200-1743253200@wheatoncollege.edu
SUMMARY:Reclaiming History; Archives as Resistance
DESCRIPTION:  \n \nWe may think of archives as passive repositories but the projects in this exhibition explore how archives can rewrite history\, activating counter-narratives. The projects range from artist books from the Women’s Studio Workshop; materials documenting Wheaton’s history from the Gebbie Archives and Special Collections; Tirazain\, a digital archive of Palestinian tatreez embroidery designs; the Rhode Island-based Binch Press/Queer.Archive.Work ‘s Community Supported Art (CSA) project\, and the nonprofit Internet Archive. These varied examples show how archives celebrate non-dominant and non-linear stories and show us that history is not static. \nGallery Hours: Tuesday\, Wednesday\, Friday\, Saturday 1:00 p.m. – 5:00 p.m.\, Thursdays 1:00 p.m.—8:00 p.m.  Please note: the galleries will be closed March 9—17 for spring break.
URL:https://wheatoncollege.edu/event/reclaiming-history-archives-as-resistance-2/2025-03-29/
LOCATION:Watson Fine Arts – Beard and Weil Galleries\, Norton\, MA\, 02766\, United States
CATEGORIES:Arts
ORGANIZER;CN="Elizabeth Hoy":MAILTO:hoy_elizabeth@wheatoncollege.edu
GEO:41.9629235;-71.1804988
END:VEVENT
BEGIN:VEVENT
DTSTART;TZID=America/New_York:20250329T193000
DTEND;TZID=America/New_York:20250329T193000
DTSTAMP:20260420T025644
CREATED:20250113T163506Z
LAST-MODIFIED:20250318T194348Z
UID:10009152-1743276600-1743276600@wheatoncollege.edu
SUMMARY:Everybody
DESCRIPTION:Adapted by Branden Jacobs-Jenkins\nPresented by Kresge Theatre Company\n\nThis modern riff on the 15th century morality play Everyman follows Everybody (chosen from amongst the cast by lottery at each performance) as they journey through life’s greatest mystery—the meaning of living. This student-led production\, directed by Colin Bourget ’26 and produced by Joey Del Santo ’25\, is sure to be an innovative\, interactive and immersive theatrical experience. \nTickets: Pay What You Can via the Watson Box Office \nProduced in special arrangement with Broadway Licensing\, LLC\, servicing the Dramatists Play Service collection. (www.dramatists.com) \n 
URL:https://wheatoncollege.edu/event/everybody/2025-03-29/
LOCATION:Kresge Experimental Theatre\, Watson Fine Arts
CATEGORIES:Arts,Students,Theatre
END:VEVENT
END:VCALENDAR