	BEGIN:VCALENDAR
VERSION:2.0
PRODID:-//Wheaton College Massachusetts - ECPv6.15.17.1//NONSGML v1.0//EN
CALSCALE:GREGORIAN
METHOD:PUBLISH
X-ORIGINAL-URL:https://wheatoncollege.edu
X-WR-CALDESC:Events for Wheaton College Massachusetts
REFRESH-INTERVAL;VALUE=DURATION:PT1H
X-Robots-Tag:noindex
X-PUBLISHED-TTL:PT1H
BEGIN:VTIMEZONE
TZID:America/New_York
BEGIN:DAYLIGHT
TZOFFSETFROM:-0500
TZOFFSETTO:-0400
TZNAME:EDT
DTSTART:20190310T070000
END:DAYLIGHT
BEGIN:STANDARD
TZOFFSETFROM:-0400
TZOFFSETTO:-0500
TZNAME:EST
DTSTART:20191103T060000
END:STANDARD
BEGIN:DAYLIGHT
TZOFFSETFROM:-0500
TZOFFSETTO:-0400
TZNAME:EDT
DTSTART:20200308T070000
END:DAYLIGHT
BEGIN:STANDARD
TZOFFSETFROM:-0400
TZOFFSETTO:-0500
TZNAME:EST
DTSTART:20201101T060000
END:STANDARD
BEGIN:DAYLIGHT
TZOFFSETFROM:-0500
TZOFFSETTO:-0400
TZNAME:EDT
DTSTART:20210314T070000
END:DAYLIGHT
BEGIN:STANDARD
TZOFFSETFROM:-0400
TZOFFSETTO:-0500
TZNAME:EST
DTSTART:20211107T060000
END:STANDARD
END:VTIMEZONE
BEGIN:VEVENT
DTSTART;TZID=America/New_York:20201110T150000
DTEND;TZID=America/New_York:20201110T160000
DTSTAMP:20260420T004829
CREATED:20200928T195913Z
LAST-MODIFIED:20201106T135659Z
UID:10004751-1605020400-1605024000@wheatoncollege.edu
SUMMARY:Reading by the Writer: Angie Mazakis
DESCRIPTION:Angie Mazakis’s first book\, I Was Waiting to See What You Would Do First\, describes the various experiences of a first-generation immigrant. Her work has been widely published\, including in The New Republic and Boston Review. \nRegister on Zoom here .
URL:https://wheatoncollege.edu/event/reading-by-the-writer-angie-mazakis/
LOCATION:Virtual
CATEGORIES:Arts
ATTACH;FMTTYPE=image/jpeg:https://wheatoncollege.edu/wp-content/uploads/2020/09/angie-Mazakis_poster.jpg
ORGANIZER;CN="Arts at Wheaton":MAILTO:kuszaj_jessica@wheatoncollege.edu
END:VEVENT
BEGIN:VEVENT
DTSTART;TZID=America/New_York:20201112T190000
DTEND;TZID=America/New_York:20201112T200000
DTSTAMP:20260420T004829
CREATED:20201014T141523Z
LAST-MODIFIED:20201109T182618Z
UID:10004070-1605207600-1605211200@wheatoncollege.edu
SUMMARY:Beyond the Hashtag: The Art and Activism of #BlackLivesMatter
DESCRIPTION:Patrisse Cullors is an internationally recognized artist\, activist\, and advocate for civil rights and social justice. In 2013\, she and two fellow organizers—Alicia Garza and Opal Tometi—created what they described as a “Black-centered political will and movement building project.” They called it #BlackLivesMatter. Although many people know it only as a social media hashtag\, it is far more than that. Cullors will discuss the art and activism behind\, beyond and of the BLM hashtag\, and take questions from moderators and attendees. \nRegister on Zoom here.
URL:https://wheatoncollege.edu/event/beyond-the-hashtag-the-art-and-activism-of-blacklivesmatter/
LOCATION:Virtual
CATEGORIES:Arts
ATTACH;FMTTYPE=image/jpeg:https://wheatoncollege.edu/wp-content/uploads/2020/10/Patrisse-Cullors_poster.jpg
ORGANIZER;CN="Arts at Wheaton":MAILTO:kuszaj_jessica@wheatoncollege.edu
END:VEVENT
END:VCALENDAR