	BEGIN:VCALENDAR
VERSION:2.0
PRODID:-//Wheaton College Massachusetts - ECPv6.15.17.1//NONSGML v1.0//EN
CALSCALE:GREGORIAN
METHOD:PUBLISH
X-ORIGINAL-URL:https://wheatoncollege.edu
X-WR-CALDESC:Events for Wheaton College Massachusetts
REFRESH-INTERVAL;VALUE=DURATION:PT1H
X-Robots-Tag:noindex
X-PUBLISHED-TTL:PT1H
BEGIN:VTIMEZONE
TZID:America/New_York
BEGIN:DAYLIGHT
TZOFFSETFROM:-0500
TZOFFSETTO:-0400
TZNAME:EDT
DTSTART:20190310T070000
END:DAYLIGHT
BEGIN:STANDARD
TZOFFSETFROM:-0400
TZOFFSETTO:-0500
TZNAME:EST
DTSTART:20191103T060000
END:STANDARD
BEGIN:DAYLIGHT
TZOFFSETFROM:-0500
TZOFFSETTO:-0400
TZNAME:EDT
DTSTART:20200308T070000
END:DAYLIGHT
BEGIN:STANDARD
TZOFFSETFROM:-0400
TZOFFSETTO:-0500
TZNAME:EST
DTSTART:20201101T060000
END:STANDARD
BEGIN:DAYLIGHT
TZOFFSETFROM:-0500
TZOFFSETTO:-0400
TZNAME:EDT
DTSTART:20210314T070000
END:DAYLIGHT
BEGIN:STANDARD
TZOFFSETFROM:-0400
TZOFFSETTO:-0500
TZNAME:EST
DTSTART:20211107T060000
END:STANDARD
END:VTIMEZONE
BEGIN:VEVENT
DTSTART;TZID=America/New_York:20201020T190000
DTEND;TZID=America/New_York:20201020T200000
DTSTAMP:20260419T190552
CREATED:20200928T165237Z
LAST-MODIFIED:20201014T174504Z
UID:10004746-1603220400-1603224000@wheatoncollege.edu
SUMMARY:A Conversation with Black Mixture’s Nathan Dwarika
DESCRIPTION:Dwarika is a designer\, motion graphics artist\, and managing director of Black Mixture\, a brand strategy design company. He will discuss his creative work\, his career\, and his growing Black Mixture YouTube Channel. \nRegister on Zoom here
URL:https://wheatoncollege.edu/event/a-conversation-with-black-mixtures-nathan-dwarika/
LOCATION:Virtual
CATEGORIES:Arts
ATTACH;FMTTYPE=image/jpeg:https://wheatoncollege.edu/wp-content/uploads/2020/09/Nathan_Dwarika-poster.jpg
ORGANIZER;CN="Arts at Wheaton":MAILTO:kuszaj_jessica@wheatoncollege.edu
END:VEVENT
BEGIN:VEVENT
DTSTART;TZID=America/New_York:20201021T193000
DTEND;TZID=America/New_York:20201021T193000
DTSTAMP:20260419T190552
CREATED:20200928T185502Z
LAST-MODIFIED:20201015T150109Z
UID:10004747-1603308600-1603308600@wheatoncollege.edu
SUMMARY:Tonga Ross-Ma’u: What it Means to Live as an Artist
DESCRIPTION:Ross-Ma’u\, Wheaton alumni from the class of 2008\, provides a glimpse into his musically diverse background in a performance that explores collaborations with some of San Diego’s finest artists and showcases a taste of his original work. \nRegister here
URL:https://wheatoncollege.edu/event/tonga-ross-mau-what-it-means-to-live-as-an-artist/
LOCATION:Virtual
CATEGORIES:Arts
ATTACH;FMTTYPE=image/jpeg:https://wheatoncollege.edu/wp-content/uploads/2020/09/tonga_ross-mau_poster.jpg
ORGANIZER;CN="Arts at Wheaton":MAILTO:kuszaj_jessica@wheatoncollege.edu
END:VEVENT
BEGIN:VEVENT
DTSTART;TZID=America/New_York:20201022T150000
DTEND;TZID=America/New_York:20201022T160000
DTSTAMP:20260419T190552
CREATED:20200928T190136Z
LAST-MODIFIED:20201016T145036Z
UID:10004748-1603378800-1603382400@wheatoncollege.edu
SUMMARY:Readings by the Writer: Brandon Shimoda
DESCRIPTION:Brandon Shimoda has been widely recognized for the imaginative spirit he projects in his poetry. His most recent book\, The Desert\, was published in 2018. He has been awarded the William Carlos Williams prize for his second book\, Evening Oracle. \nRegister on Zoom here.
URL:https://wheatoncollege.edu/event/readings-by-the-writer-brandon-shimoda/
LOCATION:Virtual
CATEGORIES:Arts
ATTACH;FMTTYPE=image/jpeg:https://wheatoncollege.edu/wp-content/uploads/2020/09/brandon_shimoda_poster.jpg
ORGANIZER;CN="Arts at Wheaton":MAILTO:kuszaj_jessica@wheatoncollege.edu
END:VEVENT
END:VCALENDAR