	BEGIN:VCALENDAR
VERSION:2.0
PRODID:-//Wheaton College Massachusetts - ECPv6.15.20//NONSGML v1.0//EN
CALSCALE:GREGORIAN
METHOD:PUBLISH
X-WR-CALNAME:Wheaton College Massachusetts
X-ORIGINAL-URL:https://wheatoncollege.edu
X-WR-CALDESC:Events for Wheaton College Massachusetts
REFRESH-INTERVAL;VALUE=DURATION:PT1H
X-Robots-Tag:noindex
X-PUBLISHED-TTL:PT1H
BEGIN:VTIMEZONE
TZID:America/New_York
BEGIN:DAYLIGHT
TZOFFSETFROM:-0500
TZOFFSETTO:-0400
TZNAME:EDT
DTSTART:20250309T070000
END:DAYLIGHT
BEGIN:STANDARD
TZOFFSETFROM:-0400
TZOFFSETTO:-0500
TZNAME:EST
DTSTART:20251102T060000
END:STANDARD
BEGIN:DAYLIGHT
TZOFFSETFROM:-0500
TZOFFSETTO:-0400
TZNAME:EDT
DTSTART:20260308T070000
END:DAYLIGHT
BEGIN:STANDARD
TZOFFSETFROM:-0400
TZOFFSETTO:-0500
TZNAME:EST
DTSTART:20261101T060000
END:STANDARD
BEGIN:DAYLIGHT
TZOFFSETFROM:-0500
TZOFFSETTO:-0400
TZNAME:EDT
DTSTART:20270314T070000
END:DAYLIGHT
BEGIN:STANDARD
TZOFFSETFROM:-0400
TZOFFSETTO:-0500
TZNAME:EST
DTSTART:20271107T060000
END:STANDARD
END:VTIMEZONE
BEGIN:VEVENT
DTSTART;TZID=America/New_York:20260429T170000
DTEND;TZID=America/New_York:20260429T170000
DTSTAMP:20260424T235521
CREATED:20260424T173312Z
LAST-MODIFIED:20260424T173312Z
UID:10010641-1777482000-1777482000@wheatoncollege.edu
SUMMARY:Student Recitals
DESCRIPTION:Wheaton students studying voice and various instruments showcase their skill performing work from their studies this semester.
URL:https://wheatoncollege.edu/event/student-recitals-3/
LOCATION:Cole Memorial Chapel\, Norton\, MA\, 02766\, United States
CATEGORIES:Arts,Music
ORGANIZER;CN="Arts at Wheaton":MAILTO:kuszaj_jessica@wheatoncollege.edu
GEO:41.9629235;-71.1804988
END:VEVENT
END:VCALENDAR