	BEGIN:VCALENDAR
VERSION:2.0
PRODID:-//Wheaton College Massachusetts - ECPv6.15.17.1//NONSGML v1.0//EN
CALSCALE:GREGORIAN
METHOD:PUBLISH
X-WR-CALNAME:Wheaton College Massachusetts
X-ORIGINAL-URL:https://wheatoncollege.edu
X-WR-CALDESC:Events for Wheaton College Massachusetts
REFRESH-INTERVAL;VALUE=DURATION:PT1H
X-Robots-Tag:noindex
X-PUBLISHED-TTL:PT1H
BEGIN:VTIMEZONE
TZID:America/New_York
BEGIN:DAYLIGHT
TZOFFSETFROM:-0500
TZOFFSETTO:-0400
TZNAME:EDT
DTSTART:20180311T070000
END:DAYLIGHT
BEGIN:STANDARD
TZOFFSETFROM:-0400
TZOFFSETTO:-0500
TZNAME:EST
DTSTART:20181104T060000
END:STANDARD
BEGIN:DAYLIGHT
TZOFFSETFROM:-0500
TZOFFSETTO:-0400
TZNAME:EDT
DTSTART:20190310T070000
END:DAYLIGHT
BEGIN:STANDARD
TZOFFSETFROM:-0400
TZOFFSETTO:-0500
TZNAME:EST
DTSTART:20191103T060000
END:STANDARD
BEGIN:DAYLIGHT
TZOFFSETFROM:-0500
TZOFFSETTO:-0400
TZNAME:EDT
DTSTART:20200308T070000
END:DAYLIGHT
BEGIN:STANDARD
TZOFFSETFROM:-0400
TZOFFSETTO:-0500
TZNAME:EST
DTSTART:20201101T060000
END:STANDARD
END:VTIMEZONE
BEGIN:VEVENT
DTSTART;TZID=America/New_York:20191024T123000
DTEND;TZID=America/New_York:20191024T133000
DTSTAMP:20260420T112342
CREATED:20190904T200207Z
LAST-MODIFIED:20210614T200404Z
UID:10004537-1571920200-1571923800@wheatoncollege.edu
SUMMARY:Readings by the Writer: Sandra Yannone
DESCRIPTION:Wheaton alumna Sandra Yannone’s poetry amplifies the split-second when the everyday turns into catastrophe; the moment of impact when knowing and unknowing collide; the fusion of before and after. And the aftermaths. All constellate here in Yannone’s first full-length collection\, Boats for Women\, to orient us toward that “choice/to turn toward a sacred face\, a turn/toward your own longing to live.”
URL:https://wheatoncollege.edu/event/readings-by-the-writer-sandra-yannone/
LOCATION:Mary Lyon Hall – Woolley Room\, Norton\, MA\, 02766\, United States
CATEGORIES:Arts
ATTACH;FMTTYPE=image/jpeg:https://wheatoncollege.edu/wp-content/uploads/2019/09/yannone_poster-800.jpg
ORGANIZER;CN="Jessica Kuszaj":MAILTO:kuszaj_jessica@wheatoncollege.edu
END:VEVENT
END:VCALENDAR