	BEGIN:VCALENDAR
VERSION:2.0
PRODID:-//Wheaton College Massachusetts - ECPv6.15.17.1//NONSGML v1.0//EN
CALSCALE:GREGORIAN
METHOD:PUBLISH
X-ORIGINAL-URL:https://wheatoncollege.edu
X-WR-CALDESC:Events for Wheaton College Massachusetts
REFRESH-INTERVAL;VALUE=DURATION:PT1H
X-Robots-Tag:noindex
X-PUBLISHED-TTL:PT1H
BEGIN:VTIMEZONE
TZID:America/New_York
BEGIN:DAYLIGHT
TZOFFSETFROM:-0500
TZOFFSETTO:-0400
TZNAME:EDT
DTSTART:20200308T070000
END:DAYLIGHT
BEGIN:STANDARD
TZOFFSETFROM:-0400
TZOFFSETTO:-0500
TZNAME:EST
DTSTART:20201101T060000
END:STANDARD
BEGIN:DAYLIGHT
TZOFFSETFROM:-0500
TZOFFSETTO:-0400
TZNAME:EDT
DTSTART:20210314T070000
END:DAYLIGHT
BEGIN:STANDARD
TZOFFSETFROM:-0400
TZOFFSETTO:-0500
TZNAME:EST
DTSTART:20211107T060000
END:STANDARD
BEGIN:DAYLIGHT
TZOFFSETFROM:-0500
TZOFFSETTO:-0400
TZNAME:EDT
DTSTART:20220313T070000
END:DAYLIGHT
BEGIN:STANDARD
TZOFFSETFROM:-0400
TZOFFSETTO:-0500
TZNAME:EST
DTSTART:20221106T060000
END:STANDARD
END:VTIMEZONE
BEGIN:VEVENT
DTSTART;TZID=America/New_York:20211116T170000
DTEND;TZID=America/New_York:20211116T170000
DTSTAMP:20260423T163927
CREATED:20211109T152254Z
LAST-MODIFIED:20211110T145403Z
UID:10005005-1637082000-1637082000@wheatoncollege.edu
SUMMARY:Reading by the Writer—Kent Shaw
DESCRIPTION:Kent Shaw\, Assistant Professor of English\, will read from his second book\, Too Numerous\, and a selection of newer work.
URL:https://wheatoncollege.edu/event/reading-by-the-writer-kent-shaw/
LOCATION:Mary Lyon Hall – May Room\, Norton\, MA\, 02766
CATEGORIES:Arts,Faculty & Staff
ATTACH;FMTTYPE=image/jpeg:https://wheatoncollege.edu/wp-content/uploads/2021/11/Shaw_reading-poster.jpg
ORGANIZER;CN="Charlotte Meehan":MAILTO:meehan_charlotte@wheatoncollege.edu
END:VEVENT
END:VCALENDAR