	BEGIN:VCALENDAR
VERSION:2.0
PRODID:-//Wheaton College Massachusetts - ECPv6.15.17.1//NONSGML v1.0//EN
CALSCALE:GREGORIAN
METHOD:PUBLISH
X-WR-CALNAME:Wheaton College Massachusetts
X-ORIGINAL-URL:https://wheatoncollege.edu
X-WR-CALDESC:Events for Wheaton College Massachusetts
REFRESH-INTERVAL;VALUE=DURATION:PT1H
X-Robots-Tag:noindex
X-PUBLISHED-TTL:PT1H
BEGIN:VTIMEZONE
TZID:America/New_York
BEGIN:DAYLIGHT
TZOFFSETFROM:-0500
TZOFFSETTO:-0400
TZNAME:EDT
DTSTART:20210314T070000
END:DAYLIGHT
BEGIN:STANDARD
TZOFFSETFROM:-0400
TZOFFSETTO:-0500
TZNAME:EST
DTSTART:20211107T060000
END:STANDARD
BEGIN:DAYLIGHT
TZOFFSETFROM:-0500
TZOFFSETTO:-0400
TZNAME:EDT
DTSTART:20220313T070000
END:DAYLIGHT
BEGIN:STANDARD
TZOFFSETFROM:-0400
TZOFFSETTO:-0500
TZNAME:EST
DTSTART:20221106T060000
END:STANDARD
BEGIN:DAYLIGHT
TZOFFSETFROM:-0500
TZOFFSETTO:-0400
TZNAME:EDT
DTSTART:20230312T070000
END:DAYLIGHT
BEGIN:STANDARD
TZOFFSETFROM:-0400
TZOFFSETTO:-0500
TZNAME:EST
DTSTART:20231105T060000
END:STANDARD
END:VTIMEZONE
BEGIN:VEVENT
DTSTART;TZID=America/New_York:20220407T193000
DTEND;TZID=America/New_York:20220407T193000
DTSTAMP:20260422T204130
CREATED:20220324T172410Z
LAST-MODIFIED:20221214T200523Z
UID:10005053-1649359800-1649359800@wheatoncollege.edu
SUMMARY:Dance Collaborative 2022: Revive the Legacy
DESCRIPTION:Student-led dance groups Kaos\, Parasio Latíno (PL)\, Tap Out Loud (TOL)\, and Trybe come together once again to perform for the Wheaton community this spring. You don’t want to miss it! This performance will showcase a variety of styles of dance\, from contemporary tap to modern K-Pop hits. \nTickets: $5 for general admission\, $2 for students \nPurchase tickets here. \nIn support of our performing artists and aligning with other local arts organizations\, all indoor Arts at Wheaton programming\, the Beard & Weil Galleries\, and all events taking place in Weber Theatre or the Kresge Experimental Theatre will require gallery visitors and audience members to wear a mask regardless of vaccination status. 
URL:https://wheatoncollege.edu/event/dance-collaborative-spring-2022/2022-04-07/
LOCATION:Watson Fine Arts – Weber Theatre\, Norton\, MA\, 02766\, United States
CATEGORIES:Arts,Students
ATTACH;FMTTYPE=image/jpeg:https://wheatoncollege.edu/wp-content/uploads/2022/03/DanceWeekendPoster2022-no-QR.jpg
ORGANIZER;CN="Arts at Wheaton":MAILTO:kuszaj_jessica@wheatoncollege.edu
GEO:41.9629235;-71.1804988
END:VEVENT
BEGIN:VEVENT
DTSTART;TZID=America/New_York:20220408T193000
DTEND;TZID=America/New_York:20220408T193000
DTSTAMP:20260422T204130
CREATED:20220324T172410Z
LAST-MODIFIED:20221214T200523Z
UID:10005054-1649446200-1649446200@wheatoncollege.edu
SUMMARY:Dance Collaborative 2022: Revive the Legacy
DESCRIPTION:Student-led dance groups Kaos\, Parasio Latíno (PL)\, Tap Out Loud (TOL)\, and Trybe come together once again to perform for the Wheaton community this spring. You don’t want to miss it! This performance will showcase a variety of styles of dance\, from contemporary tap to modern K-Pop hits. \nTickets: $5 for general admission\, $2 for students \nPurchase tickets here. \nIn support of our performing artists and aligning with other local arts organizations\, all indoor Arts at Wheaton programming\, the Beard & Weil Galleries\, and all events taking place in Weber Theatre or the Kresge Experimental Theatre will require gallery visitors and audience members to wear a mask regardless of vaccination status. 
URL:https://wheatoncollege.edu/event/dance-collaborative-spring-2022/2022-04-08/
LOCATION:Watson Fine Arts – Weber Theatre\, Norton\, MA\, 02766\, United States
CATEGORIES:Arts,Students
ATTACH;FMTTYPE=image/jpeg:https://wheatoncollege.edu/wp-content/uploads/2022/03/DanceWeekendPoster2022-no-QR.jpg
ORGANIZER;CN="Arts at Wheaton":MAILTO:kuszaj_jessica@wheatoncollege.edu
GEO:41.9629235;-71.1804988
END:VEVENT
BEGIN:VEVENT
DTSTART;TZID=America/New_York:20220409T193000
DTEND;TZID=America/New_York:20220409T193000
DTSTAMP:20260422T204130
CREATED:20220324T172410Z
LAST-MODIFIED:20221214T200523Z
UID:10005055-1649532600-1649532600@wheatoncollege.edu
SUMMARY:Dance Collaborative 2022: Revive the Legacy
DESCRIPTION:Student-led dance groups Kaos\, Parasio Latíno (PL)\, Tap Out Loud (TOL)\, and Trybe come together once again to perform for the Wheaton community this spring. You don’t want to miss it! This performance will showcase a variety of styles of dance\, from contemporary tap to modern K-Pop hits. \nTickets: $5 for general admission\, $2 for students \nPurchase tickets here. \nIn support of our performing artists and aligning with other local arts organizations\, all indoor Arts at Wheaton programming\, the Beard & Weil Galleries\, and all events taking place in Weber Theatre or the Kresge Experimental Theatre will require gallery visitors and audience members to wear a mask regardless of vaccination status. 
URL:https://wheatoncollege.edu/event/dance-collaborative-spring-2022/2022-04-09/
LOCATION:Watson Fine Arts – Weber Theatre\, Norton\, MA\, 02766\, United States
CATEGORIES:Arts,Students
ATTACH;FMTTYPE=image/jpeg:https://wheatoncollege.edu/wp-content/uploads/2022/03/DanceWeekendPoster2022-no-QR.jpg
ORGANIZER;CN="Arts at Wheaton":MAILTO:kuszaj_jessica@wheatoncollege.edu
GEO:41.9629235;-71.1804988
END:VEVENT
BEGIN:VEVENT
DTSTART;TZID=America/New_York:20220410T140000
DTEND;TZID=America/New_York:20220410T170000
DTSTAMP:20260422T204130
CREATED:20220324T172410Z
LAST-MODIFIED:20221214T200523Z
UID:10005056-1649599200-1649610000@wheatoncollege.edu
SUMMARY:Dance Collaborative 2022: Revive the Legacy
DESCRIPTION:Student-led dance groups Kaos\, Parasio Latíno (PL)\, Tap Out Loud (TOL)\, and Trybe come together once again to perform for the Wheaton community this spring. You don’t want to miss it! This performance will showcase a variety of styles of dance\, from contemporary tap to modern K-Pop hits. \nTickets: $5 for general admission\, $2 for students \nPurchase tickets here. \nIn support of our performing artists and aligning with other local arts organizations\, all indoor Arts at Wheaton programming\, the Beard & Weil Galleries\, and all events taking place in Weber Theatre or the Kresge Experimental Theatre will require gallery visitors and audience members to wear a mask regardless of vaccination status. 
URL:https://wheatoncollege.edu/event/dance-collaborative-spring-2022/2022-04-10/
LOCATION:Watson Fine Arts – Weber Theatre\, Norton\, MA\, 02766\, United States
CATEGORIES:Arts,Students
ATTACH;FMTTYPE=image/jpeg:https://wheatoncollege.edu/wp-content/uploads/2022/03/DanceWeekendPoster2022-no-QR.jpg
ORGANIZER;CN="Arts at Wheaton":MAILTO:kuszaj_jessica@wheatoncollege.edu
GEO:41.9629235;-71.1804988
END:VEVENT
BEGIN:VEVENT
DTSTART;TZID=America/New_York:20220413T193000
DTEND;TZID=America/New_York:20220413T193000
DTSTAMP:20260422T204130
CREATED:20220405T162706Z
LAST-MODIFIED:20220405T162706Z
UID:10004321-1649878200-1649878200@wheatoncollege.edu
SUMMARY:Western Music II recital
DESCRIPTION:Students enrolled in MUSC311: Western Music II are joined by Professor of Music Ann Sears for a performance of selected works from their coursework this semester.
URL:https://wheatoncollege.edu/event/western-music-ii-recital/
LOCATION:Cole Memorial Chapel\, Norton\, MA\, 02766\, United States
CATEGORIES:Arts,Music
ORGANIZER;CN="Arts at Wheaton":MAILTO:kuszaj_jessica@wheatoncollege.edu
GEO:41.9629235;-71.1804988
END:VEVENT
BEGIN:VEVENT
DTSTART;TZID=America/New_York:20220420T193000
DTEND;TZID=America/New_York:20220420T193000
DTSTAMP:20260422T204130
CREATED:20220412T130241Z
LAST-MODIFIED:20220509T165818Z
UID:10004351-1650483000-1650483000@wheatoncollege.edu
SUMMARY:World Music Ensemble
DESCRIPTION:Wheaton’s World Music Ensemble\, under the direction of Associate Professor of Music Sheila Falls Keohane\, performs music and song from Brazil\, Ukraine\, Cuba and more.
URL:https://wheatoncollege.edu/event/world-music-ensemble-7/
LOCATION:Watson Fine Arts – Weber Theatre\, Norton\, MA\, 02766\, United States
CATEGORIES:Arts,Music
ATTACH;FMTTYPE=image/jpeg:https://wheatoncollege.edu/wp-content/uploads/2022/04/WME_s2022.jpg
ORGANIZER;CN="Arts at Wheaton":MAILTO:kuszaj_jessica@wheatoncollege.edu
GEO:41.9629235;-71.1804988
END:VEVENT
BEGIN:VEVENT
DTSTART;TZID=America/New_York:20220428T170000
DTEND;TZID=America/New_York:20220428T170000
DTSTAMP:20260422T204130
CREATED:20220419T222209Z
LAST-MODIFIED:20220426T205422Z
UID:10004359-1651165200-1651165200@wheatoncollege.edu
SUMMARY:Student Recitals
DESCRIPTION:Gifted student performers demonstrate mastery in voice\, violin\, cello\, piano and other instruments.
URL:https://wheatoncollege.edu/event/student-recitals-10/
LOCATION:Mary Lyon Hall – Woolley Room\, Norton\, MA\, 02766\, United States
CATEGORIES:Arts,Music
ATTACH;FMTTYPE=image/jpeg:https://wheatoncollege.edu/wp-content/uploads/2022/04/StudentRecitalsSpring2022.jpg
ORGANIZER;CN="Arts at Wheaton":MAILTO:kuszaj_jessica@wheatoncollege.edu
END:VEVENT
END:VCALENDAR