	BEGIN:VCALENDAR
VERSION:2.0
PRODID:-//Wheaton College Massachusetts - ECPv6.15.17.1//NONSGML v1.0//EN
CALSCALE:GREGORIAN
METHOD:PUBLISH
X-WR-CALNAME:Wheaton College Massachusetts
X-ORIGINAL-URL:https://wheatoncollege.edu
X-WR-CALDESC:Events for Wheaton College Massachusetts
REFRESH-INTERVAL;VALUE=DURATION:PT1H
X-Robots-Tag:noindex
X-PUBLISHED-TTL:PT1H
BEGIN:VTIMEZONE
TZID:America/New_York
BEGIN:DAYLIGHT
TZOFFSETFROM:-0500
TZOFFSETTO:-0400
TZNAME:EDT
DTSTART:20210314T070000
END:DAYLIGHT
BEGIN:STANDARD
TZOFFSETFROM:-0400
TZOFFSETTO:-0500
TZNAME:EST
DTSTART:20211107T060000
END:STANDARD
BEGIN:DAYLIGHT
TZOFFSETFROM:-0500
TZOFFSETTO:-0400
TZNAME:EDT
DTSTART:20220313T070000
END:DAYLIGHT
BEGIN:STANDARD
TZOFFSETFROM:-0400
TZOFFSETTO:-0500
TZNAME:EST
DTSTART:20221106T060000
END:STANDARD
BEGIN:DAYLIGHT
TZOFFSETFROM:-0500
TZOFFSETTO:-0400
TZNAME:EDT
DTSTART:20230312T070000
END:DAYLIGHT
BEGIN:STANDARD
TZOFFSETFROM:-0400
TZOFFSETTO:-0500
TZNAME:EST
DTSTART:20231105T060000
END:STANDARD
END:VTIMEZONE
BEGIN:VEVENT
DTSTART;TZID=America/New_York:20221110T130000
DTEND;TZID=America/New_York:20221110T130000
DTSTAMP:20260423T172913
CREATED:20221102T221325Z
LAST-MODIFIED:20221102T221647Z
UID:10005176-1668085200-1668085200@wheatoncollege.edu
SUMMARY:Enough: An Actor’s Pathway to Radical Presence in a World of Emotional Noise
DESCRIPTION:In this inspiring and educational talk\, Amelia Randolph Campbell teaches how to gain radical presence and authentic influence by way of experiential learning\, to gain much more emotional flexibility\, clarity\, and magnetism in life and work. Lunch will be provided for attendees.
URL:https://wheatoncollege.edu/event/enough-an-actors-pathway-to-radical-presence-in-a-world-of-emotional-noise/
LOCATION:Mary Lyon Hall – Woolley Room\, Norton\, MA\, 02766\, United States
CATEGORIES:Arts
ORGANIZER;CN="Arts at Wheaton":MAILTO:kuszaj_jessica@wheatoncollege.edu
END:VEVENT
END:VCALENDAR