	BEGIN:VCALENDAR
VERSION:2.0
PRODID:-//Wheaton College Massachusetts - ECPv6.15.17.1//NONSGML v1.0//EN
CALSCALE:GREGORIAN
METHOD:PUBLISH
X-WR-CALNAME:Wheaton College Massachusetts
X-ORIGINAL-URL:https://wheatoncollege.edu
X-WR-CALDESC:Events for Wheaton College Massachusetts
REFRESH-INTERVAL;VALUE=DURATION:PT1H
X-Robots-Tag:noindex
X-PUBLISHED-TTL:PT1H
BEGIN:VTIMEZONE
TZID:America/New_York
BEGIN:DAYLIGHT
TZOFFSETFROM:-0500
TZOFFSETTO:-0400
TZNAME:EDT
DTSTART:20240310T070000
END:DAYLIGHT
BEGIN:STANDARD
TZOFFSETFROM:-0400
TZOFFSETTO:-0500
TZNAME:EST
DTSTART:20241103T060000
END:STANDARD
BEGIN:DAYLIGHT
TZOFFSETFROM:-0500
TZOFFSETTO:-0400
TZNAME:EDT
DTSTART:20250309T070000
END:DAYLIGHT
BEGIN:STANDARD
TZOFFSETFROM:-0400
TZOFFSETTO:-0500
TZNAME:EST
DTSTART:20251102T060000
END:STANDARD
BEGIN:DAYLIGHT
TZOFFSETFROM:-0500
TZOFFSETTO:-0400
TZNAME:EDT
DTSTART:20260308T070000
END:DAYLIGHT
BEGIN:STANDARD
TZOFFSETFROM:-0400
TZOFFSETTO:-0500
TZNAME:EST
DTSTART:20261101T060000
END:STANDARD
END:VTIMEZONE
BEGIN:VEVENT
DTSTART;TZID=America/New_York:20250415T193000
DTEND;TZID=America/New_York:20250415T193000
DTSTAMP:20260419T140037
CREATED:20241121T184557Z
LAST-MODIFIED:20241121T184557Z
UID:10008197-1744745400-1744745400@wheatoncollege.edu
SUMMARY:Arneis Quartet World Premieres
DESCRIPTION:Join us for a performance by Arneis Quartet as they perform world premieres by Wheaton student composers written during the spring 2025 semester.
URL:https://wheatoncollege.edu/event/arneis-quartet-world-premieres/
LOCATION:Cole Memorial Chapel\, Norton\, MA\, 02766\, United States
CATEGORIES:Arts,Music,Students
GEO:41.9629235;-71.1804988
END:VEVENT
BEGIN:VEVENT
DTSTART;TZID=America/New_York:20250416T193000
DTEND;TZID=America/New_York:20250416T193000
DTSTAMP:20260419T140037
CREATED:20250318T195134Z
LAST-MODIFIED:20250318T195134Z
UID:10009443-1744831800-1744831800@wheatoncollege.edu
SUMMARY:Lauren Henderson Quartet  presented by the Mary Bloor Loser ’42 Concert Series
DESCRIPTION:Wheaton welcomes back alumna Lauren Henderson\, Class of 2009\, to share the music that has been enchanting audiences across the world. “Through every lyric\, she transmits connection and wonder; through every album\, personal discovery…”. She’ll bring to us her multifaceted approach to music\, as a bilingual songwriter\, and a singer with familial roots across the Caribbean and Central America. “Washed with bright\, bold harmonies and ruminative syncopation\, her repertoire features tender ballads\, swinging arrangements\, flamenco dance patterns\, Afro-Caribbean influences\, and heartfelt storytelling”. Lauren’s passion for the music is clearly conveyed through her highly acclaimed performances. \nTickets: free for current students & employees\, $10 alumni\, $15 general admission. Available via the Watson Box Office. \nWeber Theatre\, Watson Fine Arts\, 7:30 p.m.
URL:https://wheatoncollege.edu/event/lauren-henderson-quartet-presented-by-the-mary-bloor-loser-42-concert-series/
LOCATION:Watson Fine Arts – Weber Theatre\, Norton\, MA\, 02766\, United States
ORGANIZER;CN="Arts at Wheaton":MAILTO:kuszaj_jessica@wheatoncollege.edu
GEO:41.9629235;-71.1804988
END:VEVENT
BEGIN:VEVENT
DTSTART;TZID=America/New_York:20250417T170000
DTEND;TZID=America/New_York:20250417T170000
DTSTAMP:20260419T140037
CREATED:20240618T154627Z
LAST-MODIFIED:20250130T183639Z
UID:10007013-1744909200-1744909200@wheatoncollege.edu
SUMMARY:Student Recitals
DESCRIPTION:Gifted student performers demonstrate mastery in voice\, violin\, cello\, piano and other instruments.
URL:https://wheatoncollege.edu/event/student-recitals-21/
LOCATION:Mary Lyon Hall – Woolley Room\, Norton\, MA\, 02766\, United States
CATEGORIES:Music,Students
ORGANIZER;CN="Music Department":MAILTO:mason_william@wheatoncollege.edu
END:VEVENT
BEGIN:VEVENT
DTSTART;TZID=America/New_York:20250429T190000
DTEND;TZID=America/New_York:20250429T190000
DTSTAMP:20260419T140037
CREATED:20240618T152253Z
LAST-MODIFIED:20250428T150131Z
UID:10007012-1745953200-1745953200@wheatoncollege.edu
SUMMARY:Fauré Requiem: A Theatrical Choral Event
DESCRIPTION:Wheaton Chorale and Chamber Singers\, in collaboration with Visiting Artist Dr. Patrick Chiu\, present Fauré Requiem.  In the realm of choral music\, narratives unfold\, each carrying a distinct message.  As choral performers we explore\, identify\, and craft compelling stories within our concert programs\, establishing a profound connection with the audience.  Through a synthesis of musical\, physical\, and emotional expressions\, a theatrical choral concert transcends conventional boundaries\, inviting all participants to engage with the powerful force of relatability. \n 
URL:https://wheatoncollege.edu/event/wheaton-chorale-and-chamber-singers-2/
LOCATION:Cole Memorial Chapel\, Norton\, MA\, 02766\, United States
CATEGORIES:Arts,Community,Faculty & Staff,Music
GEO:41.9629235;-71.1804988
END:VEVENT
BEGIN:VEVENT
DTSTART;TZID=America/New_York:20250430T170000
DTEND;TZID=America/New_York:20250430T170000
DTSTAMP:20260419T140037
CREATED:20240618T154807Z
LAST-MODIFIED:20250130T183554Z
UID:10007014-1746032400-1746032400@wheatoncollege.edu
SUMMARY:Student Recitals
DESCRIPTION:Gifted student performers demonstrate mastery in voice\, violin\, cello\, piano and other instruments.
URL:https://wheatoncollege.edu/event/student-recitals-22/
LOCATION:Cole Memorial Chapel\, Norton\, MA\, 02766\, United States
CATEGORIES:Music,Students
ORGANIZER;CN="Music Department":MAILTO:mason_william@wheatoncollege.edu
GEO:41.9629235;-71.1804988
END:VEVENT
BEGIN:VEVENT
DTSTART;TZID=America/New_York:20250430T200000
DTEND;TZID=America/New_York:20250430T200000
DTSTAMP:20260419T140037
CREATED:20241119T175819Z
LAST-MODIFIED:20250428T150046Z
UID:10008189-1746043200-1746043200@wheatoncollege.edu
SUMMARY:Wheaton College Jazz Band
DESCRIPTION:The band\, under the direction of Diamond Centofanti\, Assistant Professor in Music in Performance\, performs a mix of American music ranging from jazz to rhythm and blues to rock. \n  \n  \n 
URL:https://wheatoncollege.edu/event/wheaton-college-jazz-band-9/
LOCATION:Watson Fine Arts – Weber Theatre\, Norton\, MA\, 02766\, United States
CATEGORIES:Arts,Music,Students
GEO:41.9629235;-71.1804988
END:VEVENT
END:VCALENDAR