	BEGIN:VCALENDAR
VERSION:2.0
PRODID:-//Wheaton College Massachusetts - ECPv6.15.17.1//NONSGML v1.0//EN
CALSCALE:GREGORIAN
METHOD:PUBLISH
X-WR-CALNAME:Wheaton College Massachusetts
X-ORIGINAL-URL:https://wheatoncollege.edu
X-WR-CALDESC:Events for Wheaton College Massachusetts
REFRESH-INTERVAL;VALUE=DURATION:PT1H
X-Robots-Tag:noindex
X-PUBLISHED-TTL:PT1H
BEGIN:VTIMEZONE
TZID:America/New_York
BEGIN:DAYLIGHT
TZOFFSETFROM:-0500
TZOFFSETTO:-0400
TZNAME:EDT
DTSTART:20190310T070000
END:DAYLIGHT
BEGIN:STANDARD
TZOFFSETFROM:-0400
TZOFFSETTO:-0500
TZNAME:EST
DTSTART:20191103T060000
END:STANDARD
BEGIN:DAYLIGHT
TZOFFSETFROM:-0500
TZOFFSETTO:-0400
TZNAME:EDT
DTSTART:20200308T070000
END:DAYLIGHT
BEGIN:STANDARD
TZOFFSETFROM:-0400
TZOFFSETTO:-0500
TZNAME:EST
DTSTART:20201101T060000
END:STANDARD
BEGIN:DAYLIGHT
TZOFFSETFROM:-0500
TZOFFSETTO:-0400
TZNAME:EDT
DTSTART:20210314T070000
END:DAYLIGHT
BEGIN:STANDARD
TZOFFSETFROM:-0400
TZOFFSETTO:-0500
TZNAME:EST
DTSTART:20211107T060000
END:STANDARD
END:VTIMEZONE
BEGIN:VEVENT
DTSTART;TZID=America/New_York:20201022T173000
DTEND;TZID=America/New_York:20201022T183000
DTSTAMP:20260423T201456
CREATED:20200928T194110Z
LAST-MODIFIED:20201023T182757Z
UID:10004750-1603387800-1603391400@wheatoncollege.edu
SUMMARY:Virtual Gallery Opening—Postcards from the Pandemic
DESCRIPTION:This exhibition is an open call for postcard-sized responses to the COVID-19 pandemic. All submissions will be included in the exhibition and become part of the Wheaton College Permanent Collection. The exhibition is an effort to combat the social isolation this virus has forced on us. It is a chance to see\, through the eyes of another\, an expression of this experience. It is an opportunity to come together when we still have to remain physically apart. Submissions are welcome through Oct. 10 at u.nu/postcards. \nRegister on Zoom here . \nThe exhibition will be on display October 20–November 24 2020. \nDue to the ongoing coronavirus (COVID-19) pandemic\, the Beard & Weil Galleries will only be open to the on-campus Wheaton community during the fall 2020 semester. We will make every effort to make our exhibitions available virtually during this time. We appreciate your patience as we navigate this global challenge and we look forward to welcoming you back to campus when we are able to resume normal operations.
URL:https://wheatoncollege.edu/event/virtual-gallery-opening-postcards-from-the-pandemic/
LOCATION:Virtual
CATEGORIES:Arts
ATTACH;FMTTYPE=image/jpeg:https://wheatoncollege.edu/wp-content/uploads/2020/09/postcard_poster.jpg
ORGANIZER;CN="Arts at Wheaton":MAILTO:kuszaj_jessica@wheatoncollege.edu
END:VEVENT
END:VCALENDAR