	BEGIN:VCALENDAR
VERSION:2.0
PRODID:-//Wheaton College Massachusetts - ECPv6.15.17.1//NONSGML v1.0//EN
CALSCALE:GREGORIAN
METHOD:PUBLISH
X-WR-CALNAME:Wheaton College Massachusetts
X-ORIGINAL-URL:https://wheatoncollege.edu
X-WR-CALDESC:Events for Wheaton College Massachusetts
REFRESH-INTERVAL;VALUE=DURATION:PT1H
X-Robots-Tag:noindex
X-PUBLISHED-TTL:PT1H
BEGIN:VTIMEZONE
TZID:America/New_York
BEGIN:DAYLIGHT
TZOFFSETFROM:-0500
TZOFFSETTO:-0400
TZNAME:EDT
DTSTART:20200308T070000
END:DAYLIGHT
BEGIN:STANDARD
TZOFFSETFROM:-0400
TZOFFSETTO:-0500
TZNAME:EST
DTSTART:20201101T060000
END:STANDARD
BEGIN:DAYLIGHT
TZOFFSETFROM:-0500
TZOFFSETTO:-0400
TZNAME:EDT
DTSTART:20210314T070000
END:DAYLIGHT
BEGIN:STANDARD
TZOFFSETFROM:-0400
TZOFFSETTO:-0500
TZNAME:EST
DTSTART:20211107T060000
END:STANDARD
BEGIN:DAYLIGHT
TZOFFSETFROM:-0500
TZOFFSETTO:-0400
TZNAME:EDT
DTSTART:20220313T070000
END:DAYLIGHT
BEGIN:STANDARD
TZOFFSETFROM:-0400
TZOFFSETTO:-0500
TZNAME:EST
DTSTART:20221106T060000
END:STANDARD
END:VTIMEZONE
BEGIN:VEVENT
DTSTART;TZID=America/New_York:20211111T110000
DTEND;TZID=America/New_York:20211111T140000
DTSTAMP:20260420T181637
CREATED:20211109T202437Z
LAST-MODIFIED:20211111T143059Z
UID:10005006-1636628400-1636639200@wheatoncollege.edu
SUMMARY:Gallery Opening—Domestic State
DESCRIPTION:Join us to celebrate the opening of our latest gallery exhibition Domestic State. This mid-day opening reception will feature doughnuts from KNEAD Doughnuts. \nAs we have all been required to spend concentrated time in our homes during the COVID-19 pandemic\, domestic spaces have developed new contexts and significance. Through humor\, tragedy\, the magical and the mundane\, the artists in Domestic State explore the meaning and narrative of domestic spaces and objects. Han Seok You photographs himself in the US and Korea\, in an effort to define what “home” means. Manal Abu Shaheen’s series Julian follows the experiences of her brother\, a Lebanese-American single father\, raising his family on a Pennsylvania farm. Elizabeth Duffy’s installations and objects allude to the apparent comforts of home while revealing its contradictions. Shabnam Janessari’s saturated paintings depict spaces that empower the complex realities of Iranian female identity. In addition to work by contemporary artists\, pieces from Wheaton’s Permanent Collection offer a contrast between past and present. Artists featured in the exhibition include: Manal Abu Shaheen\, Maria G. Baker\, Elizabeth Duffy\, Shabnam Janessari\, Andrew Raftery\, and Han Seok You.
URL:https://wheatoncollege.edu/event/gallery-opening-domestic-state/
LOCATION:Watson Fine Arts – Beard and Weil Galleries\, Norton\, MA\, 02766\, United States
CATEGORIES:Arts
ATTACH;FMTTYPE=image/jpeg:https://wheatoncollege.edu/wp-content/uploads/2021/11/domestic-state_poster.jpg
ORGANIZER;CN="Arts at Wheaton":MAILTO:kuszaj_jessica@wheatoncollege.edu
GEO:41.9629235;-71.1804988
END:VEVENT
END:VCALENDAR