	BEGIN:VCALENDAR
VERSION:2.0
PRODID:-//Wheaton College Massachusetts - ECPv6.15.20//NONSGML v1.0//EN
CALSCALE:GREGORIAN
METHOD:PUBLISH
X-ORIGINAL-URL:https://wheatoncollege.edu
X-WR-CALDESC:Events for Wheaton College Massachusetts
REFRESH-INTERVAL;VALUE=DURATION:PT1H
X-Robots-Tag:noindex
X-PUBLISHED-TTL:PT1H
BEGIN:VTIMEZONE
TZID:America/New_York
BEGIN:DAYLIGHT
TZOFFSETFROM:-0500
TZOFFSETTO:-0400
TZNAME:EDT
DTSTART:20200308T070000
END:DAYLIGHT
BEGIN:STANDARD
TZOFFSETFROM:-0400
TZOFFSETTO:-0500
TZNAME:EST
DTSTART:20201101T060000
END:STANDARD
BEGIN:DAYLIGHT
TZOFFSETFROM:-0500
TZOFFSETTO:-0400
TZNAME:EDT
DTSTART:20210314T070000
END:DAYLIGHT
BEGIN:STANDARD
TZOFFSETFROM:-0400
TZOFFSETTO:-0500
TZNAME:EST
DTSTART:20211107T060000
END:STANDARD
BEGIN:DAYLIGHT
TZOFFSETFROM:-0500
TZOFFSETTO:-0400
TZNAME:EDT
DTSTART:20220313T070000
END:DAYLIGHT
BEGIN:STANDARD
TZOFFSETFROM:-0400
TZOFFSETTO:-0500
TZNAME:EST
DTSTART:20221106T060000
END:STANDARD
END:VTIMEZONE
BEGIN:VEVENT
DTSTART;TZID=America/New_York:20210401T193000
DTEND;TZID=America/New_York:20210401T193000
DTSTAMP:20260425T125847
CREATED:20210319T210637Z
LAST-MODIFIED:20210331T133116Z
UID:10004952-1617305400-1617305400@wheatoncollege.edu
SUMMARY:Ritual of Remembrance
DESCRIPTION:Writer\, performer\, musician Jillian Walker will work with playwriting students to create a performance ritual drawing from her training as a dramaturg and fromBlack spiritual wisdom and liberation healing practices. Jillian’s own plays and sacred texts for the theatre include SKiNFoLK: an American Show\, Sarah’s Salt\, and Songs of Speculation. This will be a journey in facing collective truths and building community empathy. Via Zoom\, registration required. \nRegister Here.
URL:https://wheatoncollege.edu/event/ritual-of-remembrance/
LOCATION:Virtual
CATEGORIES:Arts
ATTACH;FMTTYPE=image/jpeg:https://wheatoncollege.edu/wp-content/uploads/2021/03/jillian_walker_poster.jpg
ORGANIZER;CN="Arts at Wheaton":MAILTO:kuszaj_jessica@wheatoncollege.edu
END:VEVENT
BEGIN:VEVENT
DTSTART;TZID=America/New_York:20210422T170000
DTEND;TZID=America/New_York:20210422T170000
DTSTAMP:20260425T125847
CREATED:20210319T214430Z
LAST-MODIFIED:20210422T030043Z
UID:10004177-1619110800-1619110800@wheatoncollege.edu
SUMMARY:Readings by the Writer—Rebecca Long
DESCRIPTION:A freelance writer and editor\, Rebecca Long reports on a wide range of topics\, including politics\, TV\, film\, literature\, and environmental justice. Her writing has been featured in VICE\, Bitch Media\, Bust Magazine\, and Electric Literature. Long’s essay about Stranger Things’ Jim Hopper was Bitch Media’s most-read article of 2019. She currently works as the Digital Content Editor at a women’s non-profit organization and previously held full-time editorial roles at National Geographic Learning and SAGE Publications. Via Zoom\, registration required. \nRegister Here.
URL:https://wheatoncollege.edu/event/readings-by-the-writer-rebecca-long/
LOCATION:Virtual
CATEGORIES:Arts
ATTACH;FMTTYPE=image/jpeg:https://wheatoncollege.edu/wp-content/uploads/2021/03/rebecca-long_poster.jpg
ORGANIZER;CN="Arts at Wheaton":MAILTO:kuszaj_jessica@wheatoncollege.edu
END:VEVENT
BEGIN:VEVENT
DTSTART;TZID=America/New_York:20210428T170000
DTEND;TZID=America/New_York:20210428T170000
DTSTAMP:20260425T125847
CREATED:20210319T214942Z
LAST-MODIFIED:20210426T121220Z
UID:10004179-1619629200-1619629200@wheatoncollege.edu
SUMMARY:Creative Writing Senior Reading
DESCRIPTION:Graduating seniors from the Creative Writing program read from their original work. The program features all genres. Join us in congratulating these students on their outstanding writing. Via Zoom\, registration required. \nRegister Here.
URL:https://wheatoncollege.edu/event/creative-writing-senior-reading/
LOCATION:Virtual
CATEGORIES:Arts
ATTACH;FMTTYPE=image/jpeg:https://wheatoncollege.edu/wp-content/uploads/2021/03/2021-cw-senior-reading.jpg
ORGANIZER;CN="Arts at Wheaton":MAILTO:kuszaj_jessica@wheatoncollege.edu
END:VEVENT
END:VCALENDAR