	BEGIN:VCALENDAR
VERSION:2.0
PRODID:-//Wheaton College Massachusetts - ECPv6.15.17.1//NONSGML v1.0//EN
CALSCALE:GREGORIAN
METHOD:PUBLISH
X-WR-CALNAME:Wheaton College Massachusetts
X-ORIGINAL-URL:https://wheatoncollege.edu
X-WR-CALDESC:Events for Wheaton College Massachusetts
REFRESH-INTERVAL;VALUE=DURATION:PT1H
X-Robots-Tag:noindex
X-PUBLISHED-TTL:PT1H
BEGIN:VTIMEZONE
TZID:America/New_York
BEGIN:DAYLIGHT
TZOFFSETFROM:-0500
TZOFFSETTO:-0400
TZNAME:EDT
DTSTART:20200308T070000
END:DAYLIGHT
BEGIN:STANDARD
TZOFFSETFROM:-0400
TZOFFSETTO:-0500
TZNAME:EST
DTSTART:20201101T060000
END:STANDARD
BEGIN:DAYLIGHT
TZOFFSETFROM:-0500
TZOFFSETTO:-0400
TZNAME:EDT
DTSTART:20210314T070000
END:DAYLIGHT
BEGIN:STANDARD
TZOFFSETFROM:-0400
TZOFFSETTO:-0500
TZNAME:EST
DTSTART:20211107T060000
END:STANDARD
BEGIN:DAYLIGHT
TZOFFSETFROM:-0500
TZOFFSETTO:-0400
TZNAME:EDT
DTSTART:20220313T070000
END:DAYLIGHT
BEGIN:STANDARD
TZOFFSETFROM:-0400
TZOFFSETTO:-0500
TZNAME:EST
DTSTART:20221106T060000
END:STANDARD
END:VTIMEZONE
BEGIN:VEVENT
DTSTART;TZID=America/New_York:20210325T190000
DTEND;TZID=America/New_York:20210325T200000
DTSTAMP:20260422T190258
CREATED:20210311T162904Z
LAST-MODIFIED:20210311T163225Z
UID:10004943-1616698800-1616702400@wheatoncollege.edu
SUMMARY:Community Memorial Service
DESCRIPTION:In recognition of this ongoing period of loss\, trauma\, and grief\, the Center for Religious and Spiritual Life\, along with the COVID-19 Return to Campus Task Force\, would like to host this Community Memorial Service as a space to remember and mourn those we’ve lost (both to COVID-19 and other causes) over this past year. This service will be held over Zoom on March 25th at 7pm and is open to all members of the Wheaton community including students\, staff\, faculty\, and alumni. Those on campus are also encouraged to visit the COVID-19 Luminaria display that will bet set up in the Dimple on the evening of the 25th. \nRegister here to receive the Zoom link
URL:https://wheatoncollege.edu/event/community-memorial-service/
LOCATION:Online
CATEGORIES:Virtual
ATTACH;FMTTYPE=image/png:https://wheatoncollege.edu/wp-content/uploads/2021/03/WHEATON-COMMUNITY-MEMORIAL-2-800.png
ORGANIZER;CN="Center for Religious and Spiritual Life":MAILTO:cozad_laurie@wheatoncollege.edu
END:VEVENT
END:VCALENDAR