	BEGIN:VCALENDAR
VERSION:2.0
PRODID:-//Wheaton College Massachusetts - ECPv6.15.17.1//NONSGML v1.0//EN
CALSCALE:GREGORIAN
METHOD:PUBLISH
X-ORIGINAL-URL:https://wheatoncollege.edu
X-WR-CALDESC:Events for Wheaton College Massachusetts
REFRESH-INTERVAL;VALUE=DURATION:PT1H
X-Robots-Tag:noindex
X-PUBLISHED-TTL:PT1H
BEGIN:VTIMEZONE
TZID:America/New_York
BEGIN:DAYLIGHT
TZOFFSETFROM:-0500
TZOFFSETTO:-0400
TZNAME:EDT
DTSTART:20230312T070000
END:DAYLIGHT
BEGIN:STANDARD
TZOFFSETFROM:-0400
TZOFFSETTO:-0500
TZNAME:EST
DTSTART:20231105T060000
END:STANDARD
BEGIN:DAYLIGHT
TZOFFSETFROM:-0500
TZOFFSETTO:-0400
TZNAME:EDT
DTSTART:20240310T070000
END:DAYLIGHT
BEGIN:STANDARD
TZOFFSETFROM:-0400
TZOFFSETTO:-0500
TZNAME:EST
DTSTART:20241103T060000
END:STANDARD
BEGIN:DAYLIGHT
TZOFFSETFROM:-0500
TZOFFSETTO:-0400
TZNAME:EDT
DTSTART:20250309T070000
END:DAYLIGHT
BEGIN:STANDARD
TZOFFSETFROM:-0400
TZOFFSETTO:-0500
TZNAME:EST
DTSTART:20251102T060000
END:STANDARD
END:VTIMEZONE
BEGIN:VEVENT
DTSTART;TZID=America/New_York:20241005T210000
DTEND;TZID=America/New_York:20241005T220000
DTSTAMP:20260419T094542
CREATED:20240903T153747Z
LAST-MODIFIED:20240903T153747Z
UID:10006996-1728162000-1728165600@wheatoncollege.edu
SUMMARY:5 Minute Play Festival
DESCRIPTION:Original five-minute plays—written\, directed\, and performed by Wheaton students—are showcased in our biannual festival. \n 
URL:https://wheatoncollege.edu/event/5-minute-play-festival/
LOCATION:Watson Fine Arts – Experimental Theatre\, Norton\, 02766\, United States
CATEGORIES:Arts,Students,Theatre
GEO:41.9629235;-71.1804988
END:VEVENT
BEGIN:VEVENT
DTSTART;TZID=America/New_York:20241008T180000
DTEND;TZID=America/New_York:20241008T180000
DTSTAMP:20260419T094542
CREATED:20240917T145711Z
LAST-MODIFIED:20240923T171021Z
UID:10007522-1728410400-1728410400@wheatoncollege.edu
SUMMARY:Talk with author and illustrator Jarrett J. Krosoczka
DESCRIPTION:In connection with the exhibition Drug Addiction: Real People\, Real Stories in the Beard + Weil Galleries\, author/illustrator Jarrett Krosoczka will share his graphic novel\, Hey\, Kiddo\, a profoundly important graphic memoir about growing up in a family grappling with addiction and finding the art that helps you survive.
URL:https://wheatoncollege.edu/event/talk-with-author-and-illustrator-jarrett-j-krosoczka/
LOCATION:Watson Fine Arts – Weber Theatre\, Norton\, MA\, 02766\, United States
CATEGORIES:Arts,Community
GEO:41.9629235;-71.1804988
END:VEVENT
BEGIN:VEVENT
DTSTART;TZID=America/New_York:20241010T170000
DTEND;TZID=America/New_York:20241010T170000
DTSTAMP:20260419T094542
CREATED:20240912T161042Z
LAST-MODIFIED:20241007T152055Z
UID:10007520-1728579600-1728579600@wheatoncollege.edu
SUMMARY:Readings by the Writers: Stella Corso & Leah Nieboer
DESCRIPTION:Poets and co-hosts of the podcast The Ritter read from their work\, discuss their decision to enroll the podcast in a VC Accelerator\, and how they’ve been translating their academic training into a marketable foundation for running their podcast.  A brief Q&A session will be included in this event. 
URL:https://wheatoncollege.edu/event/readings-by-the-writers-stella-corso-leah-nieboer/
LOCATION:Mary Lyon Hall – May Room\, Norton\, MA\, 02766
CATEGORIES:Reading
END:VEVENT
BEGIN:VEVENT
DTSTART;TZID=America/New_York:20241017T190000
DTEND;TZID=America/New_York:20241017T190000
DTSTAMP:20260419T094542
CREATED:20240917T174833Z
LAST-MODIFIED:20240917T174833Z
UID:10007526-1729191600-1729191600@wheatoncollege.edu
SUMMARY:Afro-Latin Dance with The Haus of Glitter
DESCRIPTION:Open to all levels\, beginner dancer to advanced. The Haus of Glitter Dance Company specializes in activist dance lineages that come from Africa and Latin America. Explore (Queer) Afro-Latinx dance forms like Vogue\, Hip Hop\, Merengue\, Bachata and traditional Mande West African Dance as embodied history\, civil rights advocacy\, gender affirming care and community wellness practice. Come ready to move your hips\, get low\, and strut the runway to explore the transformative power of these cultural traditions.
URL:https://wheatoncollege.edu/event/afro-latin-dance-with-the-haus-of-glitter/
LOCATION:Balfour-Hood – Ellison Dance Studio\, Norton\, 02766\, United States
CATEGORIES:Arts
GEO:41.9629235;-71.1804988
END:VEVENT
BEGIN:VEVENT
DTSTART;TZID=America/New_York:20241024T193000
DTEND;TZID=America/New_York:20241024T193000
DTSTAMP:20260419T094542
CREATED:20240911T150338Z
LAST-MODIFIED:20241016T160824Z
UID:10007517-1729798200-1729798200@wheatoncollege.edu
SUMMARY:GEORGE
DESCRIPTION:Join us for an evening-length live concert featuring John Hollenbeck\, Sarah Rossy\, Anna Webber\, and Chiquita Magic as they combine experimental jazz\, ambient electronics\, synth pop music and more.
URL:https://wheatoncollege.edu/event/george/
LOCATION:Kresge Experimental Theatre\, Watson Fine Arts
CATEGORIES:Arts,Music
END:VEVENT
BEGIN:VEVENT
DTSTART;TZID=America/New_York:20241027T110000
DTEND;TZID=America/New_York:20241027T110000
DTSTAMP:20260419T094542
CREATED:20240924T173336Z
LAST-MODIFIED:20240924T173336Z
UID:10007533-1730026800-1730026800@wheatoncollege.edu
SUMMARY:Peer Grief Support Groups
DESCRIPTION:In conjunction with Drug Addiction: Real People\, Real Stories Massachusetts INTO LIGHT Project currently on display in the Beard & Weil Galleries\, this special peer grief support group is open to anyone 18+ who has experienced the death of someone they care about due to substance use.
URL:https://wheatoncollege.edu/event/peer-grief-support-groups/2024-10-27/
LOCATION:Watson Fine Arts – Beard and Weil Galleries\, Norton\, MA\, 02766\, United States
CATEGORIES:Community
GEO:41.9629235;-71.1804988
END:VEVENT
END:VCALENDAR