	BEGIN:VCALENDAR
VERSION:2.0
PRODID:-//Wheaton College Massachusetts - ECPv6.15.20//NONSGML v1.0//EN
CALSCALE:GREGORIAN
METHOD:PUBLISH
X-WR-CALNAME:Wheaton College Massachusetts
X-ORIGINAL-URL:https://wheatoncollege.edu
X-WR-CALDESC:Events for Wheaton College Massachusetts
REFRESH-INTERVAL;VALUE=DURATION:PT1H
X-Robots-Tag:noindex
X-PUBLISHED-TTL:PT1H
BEGIN:VTIMEZONE
TZID:America/New_York
BEGIN:DAYLIGHT
TZOFFSETFROM:-0500
TZOFFSETTO:-0400
TZNAME:EDT
DTSTART:20180311T070000
END:DAYLIGHT
BEGIN:STANDARD
TZOFFSETFROM:-0400
TZOFFSETTO:-0500
TZNAME:EST
DTSTART:20181104T060000
END:STANDARD
BEGIN:DAYLIGHT
TZOFFSETFROM:-0500
TZOFFSETTO:-0400
TZNAME:EDT
DTSTART:20190310T070000
END:DAYLIGHT
BEGIN:STANDARD
TZOFFSETFROM:-0400
TZOFFSETTO:-0500
TZNAME:EST
DTSTART:20191103T060000
END:STANDARD
BEGIN:DAYLIGHT
TZOFFSETFROM:-0500
TZOFFSETTO:-0400
TZNAME:EDT
DTSTART:20200308T070000
END:DAYLIGHT
BEGIN:STANDARD
TZOFFSETFROM:-0400
TZOFFSETTO:-0500
TZNAME:EST
DTSTART:20201101T060000
END:STANDARD
END:VTIMEZONE
BEGIN:VEVENT
DTSTART;TZID=America/New_York:20190903T130000
DTEND;TZID=America/New_York:20190903T170000
DTSTAMP:20260425T232841
CREATED:20190909T155017Z
LAST-MODIFIED:20190917T205107Z
UID:10004540-1567515600-1567530000@wheatoncollege.edu
SUMMARY:For the Record: Political/Personal/Historical
DESCRIPTION:This exhibition brings together six artists\, Sara Jimenez\, Antonio McAfee\, Annu Palakunnathu Matthew\, Mendi + Keith Obadike\, and Dano Wall\, who are reframing historical images and information to encourage a shift in perceptions of race\, immigration\, and colonialism.
URL:https://wheatoncollege.edu/event/for-the-record-political-personal-historical/2019-09-03/
LOCATION:Watson Fine Arts – Beard and Weil Galleries\, Norton\, MA\, 02766\, United States
CATEGORIES:Arts
ATTACH;FMTTYPE=image/jpeg:https://wheatoncollege.edu/wp-content/uploads/2019/07/for-the-record_poster.jpg
ORGANIZER;CN="Elizabeth Hoy":MAILTO:hoy_elizabeth@wheatoncollege.edu
GEO:41.9629235;-71.1804988
END:VEVENT
BEGIN:VEVENT
DTSTART;TZID=America/New_York:20190904T130000
DTEND;TZID=America/New_York:20190904T170000
DTSTAMP:20260425T232841
CREATED:20190909T155017Z
LAST-MODIFIED:20190917T205107Z
UID:10004541-1567602000-1567616400@wheatoncollege.edu
SUMMARY:For the Record: Political/Personal/Historical
DESCRIPTION:This exhibition brings together six artists\, Sara Jimenez\, Antonio McAfee\, Annu Palakunnathu Matthew\, Mendi + Keith Obadike\, and Dano Wall\, who are reframing historical images and information to encourage a shift in perceptions of race\, immigration\, and colonialism.
URL:https://wheatoncollege.edu/event/for-the-record-political-personal-historical/2019-09-04/
LOCATION:Watson Fine Arts – Beard and Weil Galleries\, Norton\, MA\, 02766\, United States
CATEGORIES:Arts
ATTACH;FMTTYPE=image/jpeg:https://wheatoncollege.edu/wp-content/uploads/2019/07/for-the-record_poster.jpg
ORGANIZER;CN="Elizabeth Hoy":MAILTO:hoy_elizabeth@wheatoncollege.edu
GEO:41.9629235;-71.1804988
END:VEVENT
BEGIN:VEVENT
DTSTART;TZID=America/New_York:20190905T130000
DTEND;TZID=America/New_York:20190905T200000
DTSTAMP:20260425T232841
CREATED:20221214T204910Z
LAST-MODIFIED:20221214T204910Z
UID:10004563-1567688400-1567713600@wheatoncollege.edu
SUMMARY:For the Record: Political/Personal/Historical
DESCRIPTION:This exhibition brings together six artists\, Sara Jimenez\, Antonio McAfee\, Annu Palakunnathu Matthew\, Mendi + Keith Obadike\, and Dano Wall\, who are reframing historical images and information to encourage a shift in perceptions of race\, immigration\, and colonialism.
URL:https://wheatoncollege.edu/event/for-the-record-political-personal-historical/2019-09-05/
LOCATION:Watson Fine Arts – Beard and Weil Galleries\, Norton\, MA\, 02766\, United States
CATEGORIES:Arts
ATTACH;FMTTYPE=image/jpeg:https://wheatoncollege.edu/wp-content/uploads/2019/07/for-the-record_poster.jpg
ORGANIZER;CN="Elizabeth Hoy":MAILTO:hoy_elizabeth@wheatoncollege.edu
GEO:41.9629235;-71.1804988
END:VEVENT
BEGIN:VEVENT
DTSTART;TZID=America/New_York:20190906T130000
DTEND;TZID=America/New_York:20190906T170000
DTSTAMP:20260425T232841
CREATED:20190909T155017Z
LAST-MODIFIED:20190917T205107Z
UID:10004542-1567774800-1567789200@wheatoncollege.edu
SUMMARY:For the Record: Political/Personal/Historical
DESCRIPTION:This exhibition brings together six artists\, Sara Jimenez\, Antonio McAfee\, Annu Palakunnathu Matthew\, Mendi + Keith Obadike\, and Dano Wall\, who are reframing historical images and information to encourage a shift in perceptions of race\, immigration\, and colonialism.
URL:https://wheatoncollege.edu/event/for-the-record-political-personal-historical/2019-09-06/
LOCATION:Watson Fine Arts – Beard and Weil Galleries\, Norton\, MA\, 02766\, United States
CATEGORIES:Arts
ATTACH;FMTTYPE=image/jpeg:https://wheatoncollege.edu/wp-content/uploads/2019/07/for-the-record_poster.jpg
ORGANIZER;CN="Elizabeth Hoy":MAILTO:hoy_elizabeth@wheatoncollege.edu
GEO:41.9629235;-71.1804988
END:VEVENT
BEGIN:VEVENT
DTSTART;TZID=America/New_York:20190907T130000
DTEND;TZID=America/New_York:20190907T170000
DTSTAMP:20260425T232842
CREATED:20190909T155017Z
LAST-MODIFIED:20190917T205107Z
UID:10004543-1567861200-1567875600@wheatoncollege.edu
SUMMARY:For the Record: Political/Personal/Historical
DESCRIPTION:This exhibition brings together six artists\, Sara Jimenez\, Antonio McAfee\, Annu Palakunnathu Matthew\, Mendi + Keith Obadike\, and Dano Wall\, who are reframing historical images and information to encourage a shift in perceptions of race\, immigration\, and colonialism.
URL:https://wheatoncollege.edu/event/for-the-record-political-personal-historical/2019-09-07/
LOCATION:Watson Fine Arts – Beard and Weil Galleries\, Norton\, MA\, 02766\, United States
CATEGORIES:Arts
ATTACH;FMTTYPE=image/jpeg:https://wheatoncollege.edu/wp-content/uploads/2019/07/for-the-record_poster.jpg
ORGANIZER;CN="Elizabeth Hoy":MAILTO:hoy_elizabeth@wheatoncollege.edu
GEO:41.9629235;-71.1804988
END:VEVENT
BEGIN:VEVENT
DTSTART;TZID=America/New_York:20190910T130000
DTEND;TZID=America/New_York:20190910T170000
DTSTAMP:20260425T232842
CREATED:20190909T155017Z
LAST-MODIFIED:20190917T205107Z
UID:10004544-1568120400-1568134800@wheatoncollege.edu
SUMMARY:For the Record: Political/Personal/Historical
DESCRIPTION:This exhibition brings together six artists\, Sara Jimenez\, Antonio McAfee\, Annu Palakunnathu Matthew\, Mendi + Keith Obadike\, and Dano Wall\, who are reframing historical images and information to encourage a shift in perceptions of race\, immigration\, and colonialism.
URL:https://wheatoncollege.edu/event/for-the-record-political-personal-historical/2019-09-10/
LOCATION:Watson Fine Arts – Beard and Weil Galleries\, Norton\, MA\, 02766\, United States
CATEGORIES:Arts
ATTACH;FMTTYPE=image/jpeg:https://wheatoncollege.edu/wp-content/uploads/2019/07/for-the-record_poster.jpg
ORGANIZER;CN="Elizabeth Hoy":MAILTO:hoy_elizabeth@wheatoncollege.edu
GEO:41.9629235;-71.1804988
END:VEVENT
BEGIN:VEVENT
DTSTART;TZID=America/New_York:20190911T073000
DTEND;TZID=America/New_York:20190911T210000
DTSTAMP:20260425T232842
CREATED:20190711T150109Z
LAST-MODIFIED:20190909T154054Z
UID:10004493-1568187000-1568235600@wheatoncollege.edu
SUMMARY:Faculty Recital
DESCRIPTION:The faculty members in the Department of Music perform as part of the Faculty and Friends Music Series.
URL:https://wheatoncollege.edu/event/faculty-recital-2/
LOCATION:Watson Fine Arts – Weber Theatre\, Norton\, MA\, 02766\, United States
CATEGORIES:Arts,Music
ATTACH;FMTTYPE=image/jpeg:https://wheatoncollege.edu/wp-content/uploads/2019/07/faculty-recital-f2019.jpg
ORGANIZER;CN="Jessica Kuszaj":MAILTO:kuszaj_jessica@wheatoncollege.edu
GEO:41.9629235;-71.1804988
END:VEVENT
BEGIN:VEVENT
DTSTART;TZID=America/New_York:20190911T130000
DTEND;TZID=America/New_York:20190911T170000
DTSTAMP:20260425T232842
CREATED:20190909T155017Z
LAST-MODIFIED:20190917T205107Z
UID:10004545-1568206800-1568221200@wheatoncollege.edu
SUMMARY:For the Record: Political/Personal/Historical
DESCRIPTION:This exhibition brings together six artists\, Sara Jimenez\, Antonio McAfee\, Annu Palakunnathu Matthew\, Mendi + Keith Obadike\, and Dano Wall\, who are reframing historical images and information to encourage a shift in perceptions of race\, immigration\, and colonialism.
URL:https://wheatoncollege.edu/event/for-the-record-political-personal-historical/2019-09-11/
LOCATION:Watson Fine Arts – Beard and Weil Galleries\, Norton\, MA\, 02766\, United States
CATEGORIES:Arts
ATTACH;FMTTYPE=image/jpeg:https://wheatoncollege.edu/wp-content/uploads/2019/07/for-the-record_poster.jpg
ORGANIZER;CN="Elizabeth Hoy":MAILTO:hoy_elizabeth@wheatoncollege.edu
GEO:41.9629235;-71.1804988
END:VEVENT
BEGIN:VEVENT
DTSTART;TZID=America/New_York:20190912T130000
DTEND;TZID=America/New_York:20190912T200000
DTSTAMP:20260425T232842
CREATED:20221214T204910Z
LAST-MODIFIED:20221214T204910Z
UID:10004564-1568293200-1568318400@wheatoncollege.edu
SUMMARY:For the Record: Political/Personal/Historical
DESCRIPTION:This exhibition brings together six artists\, Sara Jimenez\, Antonio McAfee\, Annu Palakunnathu Matthew\, Mendi + Keith Obadike\, and Dano Wall\, who are reframing historical images and information to encourage a shift in perceptions of race\, immigration\, and colonialism.
URL:https://wheatoncollege.edu/event/for-the-record-political-personal-historical/2019-09-12/
LOCATION:Watson Fine Arts – Beard and Weil Galleries\, Norton\, MA\, 02766\, United States
CATEGORIES:Arts
ATTACH;FMTTYPE=image/jpeg:https://wheatoncollege.edu/wp-content/uploads/2019/07/for-the-record_poster.jpg
ORGANIZER;CN="Elizabeth Hoy":MAILTO:hoy_elizabeth@wheatoncollege.edu
GEO:41.9629235;-71.1804988
END:VEVENT
BEGIN:VEVENT
DTSTART;TZID=America/New_York:20190913T130000
DTEND;TZID=America/New_York:20190913T170000
DTSTAMP:20260425T232842
CREATED:20190909T155017Z
LAST-MODIFIED:20190917T205107Z
UID:10004546-1568379600-1568394000@wheatoncollege.edu
SUMMARY:For the Record: Political/Personal/Historical
DESCRIPTION:This exhibition brings together six artists\, Sara Jimenez\, Antonio McAfee\, Annu Palakunnathu Matthew\, Mendi + Keith Obadike\, and Dano Wall\, who are reframing historical images and information to encourage a shift in perceptions of race\, immigration\, and colonialism.
URL:https://wheatoncollege.edu/event/for-the-record-political-personal-historical/2019-09-13/
LOCATION:Watson Fine Arts – Beard and Weil Galleries\, Norton\, MA\, 02766\, United States
CATEGORIES:Arts
ATTACH;FMTTYPE=image/jpeg:https://wheatoncollege.edu/wp-content/uploads/2019/07/for-the-record_poster.jpg
ORGANIZER;CN="Elizabeth Hoy":MAILTO:hoy_elizabeth@wheatoncollege.edu
GEO:41.9629235;-71.1804988
END:VEVENT
BEGIN:VEVENT
DTSTART;TZID=America/New_York:20190913T160000
DTEND;TZID=America/New_York:20190913T170000
DTSTAMP:20260425T232842
CREATED:20190904T145223Z
LAST-MODIFIED:20190911T145743Z
UID:10004534-1568390400-1568394000@wheatoncollege.edu
SUMMARY:Introducing Jump!Star
DESCRIPTION:Did you know that Polaris won’t always be our North Star? Artist George Ferrandi will talk about this lesser-known fact and the future cultural customs she’s been inventing with communities around the world to say goodbye to Polaris and welcome our next North Star through her expansive interdisciplinary initiative\, Jump!Star.
URL:https://wheatoncollege.edu/event/introducing-jumpstar/
CATEGORIES:Arts
ATTACH;FMTTYPE=image/jpeg:https://wheatoncollege.edu/wp-content/uploads/2019/09/geroge-ferrandi.jpg
ORGANIZER;CN="Jessica Kuszaj":MAILTO:kuszaj_jessica@wheatoncollege.edu
END:VEVENT
BEGIN:VEVENT
DTSTART;TZID=America/New_York:20190914T130000
DTEND;TZID=America/New_York:20190914T170000
DTSTAMP:20260425T232842
CREATED:20190909T155017Z
LAST-MODIFIED:20190917T205107Z
UID:10004547-1568466000-1568480400@wheatoncollege.edu
SUMMARY:For the Record: Political/Personal/Historical
DESCRIPTION:This exhibition brings together six artists\, Sara Jimenez\, Antonio McAfee\, Annu Palakunnathu Matthew\, Mendi + Keith Obadike\, and Dano Wall\, who are reframing historical images and information to encourage a shift in perceptions of race\, immigration\, and colonialism.
URL:https://wheatoncollege.edu/event/for-the-record-political-personal-historical/2019-09-14/
LOCATION:Watson Fine Arts – Beard and Weil Galleries\, Norton\, MA\, 02766\, United States
CATEGORIES:Arts
ATTACH;FMTTYPE=image/jpeg:https://wheatoncollege.edu/wp-content/uploads/2019/07/for-the-record_poster.jpg
ORGANIZER;CN="Elizabeth Hoy":MAILTO:hoy_elizabeth@wheatoncollege.edu
GEO:41.9629235;-71.1804988
END:VEVENT
BEGIN:VEVENT
DTSTART;TZID=America/New_York:20190917T130000
DTEND;TZID=America/New_York:20190917T170000
DTSTAMP:20260425T232842
CREATED:20190909T155017Z
LAST-MODIFIED:20190917T205107Z
UID:10004548-1568725200-1568739600@wheatoncollege.edu
SUMMARY:For the Record: Political/Personal/Historical
DESCRIPTION:This exhibition brings together six artists\, Sara Jimenez\, Antonio McAfee\, Annu Palakunnathu Matthew\, Mendi + Keith Obadike\, and Dano Wall\, who are reframing historical images and information to encourage a shift in perceptions of race\, immigration\, and colonialism.
URL:https://wheatoncollege.edu/event/for-the-record-political-personal-historical/2019-09-17/
LOCATION:Watson Fine Arts – Beard and Weil Galleries\, Norton\, MA\, 02766\, United States
CATEGORIES:Arts
ATTACH;FMTTYPE=image/jpeg:https://wheatoncollege.edu/wp-content/uploads/2019/07/for-the-record_poster.jpg
ORGANIZER;CN="Elizabeth Hoy":MAILTO:hoy_elizabeth@wheatoncollege.edu
GEO:41.9629235;-71.1804988
END:VEVENT
BEGIN:VEVENT
DTSTART;TZID=America/New_York:20190918T130000
DTEND;TZID=America/New_York:20190918T170000
DTSTAMP:20260425T232842
CREATED:20190909T155017Z
LAST-MODIFIED:20190917T205107Z
UID:10004549-1568811600-1568826000@wheatoncollege.edu
SUMMARY:For the Record: Political/Personal/Historical
DESCRIPTION:This exhibition brings together six artists\, Sara Jimenez\, Antonio McAfee\, Annu Palakunnathu Matthew\, Mendi + Keith Obadike\, and Dano Wall\, who are reframing historical images and information to encourage a shift in perceptions of race\, immigration\, and colonialism.
URL:https://wheatoncollege.edu/event/for-the-record-political-personal-historical/2019-09-18/
LOCATION:Watson Fine Arts – Beard and Weil Galleries\, Norton\, MA\, 02766\, United States
CATEGORIES:Arts
ATTACH;FMTTYPE=image/jpeg:https://wheatoncollege.edu/wp-content/uploads/2019/07/for-the-record_poster.jpg
ORGANIZER;CN="Elizabeth Hoy":MAILTO:hoy_elizabeth@wheatoncollege.edu
GEO:41.9629235;-71.1804988
END:VEVENT
BEGIN:VEVENT
DTSTART;TZID=America/New_York:20190919T130000
DTEND;TZID=America/New_York:20190919T200000
DTSTAMP:20260425T232842
CREATED:20221214T204910Z
LAST-MODIFIED:20221214T204910Z
UID:10004565-1568898000-1568923200@wheatoncollege.edu
SUMMARY:For the Record: Political/Personal/Historical
DESCRIPTION:This exhibition brings together six artists\, Sara Jimenez\, Antonio McAfee\, Annu Palakunnathu Matthew\, Mendi + Keith Obadike\, and Dano Wall\, who are reframing historical images and information to encourage a shift in perceptions of race\, immigration\, and colonialism.
URL:https://wheatoncollege.edu/event/for-the-record-political-personal-historical/2019-09-19/
LOCATION:Watson Fine Arts – Beard and Weil Galleries\, Norton\, MA\, 02766\, United States
CATEGORIES:Arts
ATTACH;FMTTYPE=image/jpeg:https://wheatoncollege.edu/wp-content/uploads/2019/07/for-the-record_poster.jpg
ORGANIZER;CN="Elizabeth Hoy":MAILTO:hoy_elizabeth@wheatoncollege.edu
GEO:41.9629235;-71.1804988
END:VEVENT
BEGIN:VEVENT
DTSTART;TZID=America/New_York:20190920T130000
DTEND;TZID=America/New_York:20190920T170000
DTSTAMP:20260425T232842
CREATED:20190909T155017Z
LAST-MODIFIED:20190917T205107Z
UID:10004550-1568984400-1568998800@wheatoncollege.edu
SUMMARY:For the Record: Political/Personal/Historical
DESCRIPTION:This exhibition brings together six artists\, Sara Jimenez\, Antonio McAfee\, Annu Palakunnathu Matthew\, Mendi + Keith Obadike\, and Dano Wall\, who are reframing historical images and information to encourage a shift in perceptions of race\, immigration\, and colonialism.
URL:https://wheatoncollege.edu/event/for-the-record-political-personal-historical/2019-09-20/
LOCATION:Watson Fine Arts – Beard and Weil Galleries\, Norton\, MA\, 02766\, United States
CATEGORIES:Arts
ATTACH;FMTTYPE=image/jpeg:https://wheatoncollege.edu/wp-content/uploads/2019/07/for-the-record_poster.jpg
ORGANIZER;CN="Elizabeth Hoy":MAILTO:hoy_elizabeth@wheatoncollege.edu
GEO:41.9629235;-71.1804988
END:VEVENT
BEGIN:VEVENT
DTSTART;TZID=America/New_York:20190921T130000
DTEND;TZID=America/New_York:20190921T170000
DTSTAMP:20260425T232842
CREATED:20190909T155017Z
LAST-MODIFIED:20190917T205107Z
UID:10004551-1569070800-1569085200@wheatoncollege.edu
SUMMARY:For the Record: Political/Personal/Historical
DESCRIPTION:This exhibition brings together six artists\, Sara Jimenez\, Antonio McAfee\, Annu Palakunnathu Matthew\, Mendi + Keith Obadike\, and Dano Wall\, who are reframing historical images and information to encourage a shift in perceptions of race\, immigration\, and colonialism.
URL:https://wheatoncollege.edu/event/for-the-record-political-personal-historical/2019-09-21/
LOCATION:Watson Fine Arts – Beard and Weil Galleries\, Norton\, MA\, 02766\, United States
CATEGORIES:Arts
ATTACH;FMTTYPE=image/jpeg:https://wheatoncollege.edu/wp-content/uploads/2019/07/for-the-record_poster.jpg
ORGANIZER;CN="Elizabeth Hoy":MAILTO:hoy_elizabeth@wheatoncollege.edu
GEO:41.9629235;-71.1804988
END:VEVENT
BEGIN:VEVENT
DTSTART;TZID=America/New_York:20190924T130000
DTEND;TZID=America/New_York:20190924T170000
DTSTAMP:20260425T232842
CREATED:20190909T155017Z
LAST-MODIFIED:20190917T205107Z
UID:10004552-1569330000-1569344400@wheatoncollege.edu
SUMMARY:For the Record: Political/Personal/Historical
DESCRIPTION:This exhibition brings together six artists\, Sara Jimenez\, Antonio McAfee\, Annu Palakunnathu Matthew\, Mendi + Keith Obadike\, and Dano Wall\, who are reframing historical images and information to encourage a shift in perceptions of race\, immigration\, and colonialism.
URL:https://wheatoncollege.edu/event/for-the-record-political-personal-historical/2019-09-24/
LOCATION:Watson Fine Arts – Beard and Weil Galleries\, Norton\, MA\, 02766\, United States
CATEGORIES:Arts
ATTACH;FMTTYPE=image/jpeg:https://wheatoncollege.edu/wp-content/uploads/2019/07/for-the-record_poster.jpg
ORGANIZER;CN="Elizabeth Hoy":MAILTO:hoy_elizabeth@wheatoncollege.edu
GEO:41.9629235;-71.1804988
END:VEVENT
BEGIN:VEVENT
DTSTART;TZID=America/New_York:20190925T130000
DTEND;TZID=America/New_York:20190925T170000
DTSTAMP:20260425T232842
CREATED:20190909T155017Z
LAST-MODIFIED:20190917T205107Z
UID:10004553-1569416400-1569430800@wheatoncollege.edu
SUMMARY:For the Record: Political/Personal/Historical
DESCRIPTION:This exhibition brings together six artists\, Sara Jimenez\, Antonio McAfee\, Annu Palakunnathu Matthew\, Mendi + Keith Obadike\, and Dano Wall\, who are reframing historical images and information to encourage a shift in perceptions of race\, immigration\, and colonialism.
URL:https://wheatoncollege.edu/event/for-the-record-political-personal-historical/2019-09-25/
LOCATION:Watson Fine Arts – Beard and Weil Galleries\, Norton\, MA\, 02766\, United States
CATEGORIES:Arts
ATTACH;FMTTYPE=image/jpeg:https://wheatoncollege.edu/wp-content/uploads/2019/07/for-the-record_poster.jpg
ORGANIZER;CN="Elizabeth Hoy":MAILTO:hoy_elizabeth@wheatoncollege.edu
GEO:41.9629235;-71.1804988
END:VEVENT
BEGIN:VEVENT
DTSTART;TZID=America/New_York:20190926T130000
DTEND;TZID=America/New_York:20190926T200000
DTSTAMP:20260425T232842
CREATED:20221214T204910Z
LAST-MODIFIED:20221214T204910Z
UID:10004566-1569502800-1569528000@wheatoncollege.edu
SUMMARY:For the Record: Political/Personal/Historical
DESCRIPTION:This exhibition brings together six artists\, Sara Jimenez\, Antonio McAfee\, Annu Palakunnathu Matthew\, Mendi + Keith Obadike\, and Dano Wall\, who are reframing historical images and information to encourage a shift in perceptions of race\, immigration\, and colonialism.
URL:https://wheatoncollege.edu/event/for-the-record-political-personal-historical/2019-09-26/
LOCATION:Watson Fine Arts – Beard and Weil Galleries\, Norton\, MA\, 02766\, United States
CATEGORIES:Arts
ATTACH;FMTTYPE=image/jpeg:https://wheatoncollege.edu/wp-content/uploads/2019/07/for-the-record_poster.jpg
ORGANIZER;CN="Elizabeth Hoy":MAILTO:hoy_elizabeth@wheatoncollege.edu
GEO:41.9629235;-71.1804988
END:VEVENT
BEGIN:VEVENT
DTSTART;TZID=America/New_York:20190927T130000
DTEND;TZID=America/New_York:20190927T170000
DTSTAMP:20260425T232842
CREATED:20190909T155017Z
LAST-MODIFIED:20190917T205107Z
UID:10004554-1569589200-1569603600@wheatoncollege.edu
SUMMARY:For the Record: Political/Personal/Historical
DESCRIPTION:This exhibition brings together six artists\, Sara Jimenez\, Antonio McAfee\, Annu Palakunnathu Matthew\, Mendi + Keith Obadike\, and Dano Wall\, who are reframing historical images and information to encourage a shift in perceptions of race\, immigration\, and colonialism.
URL:https://wheatoncollege.edu/event/for-the-record-political-personal-historical/2019-09-27/
LOCATION:Watson Fine Arts – Beard and Weil Galleries\, Norton\, MA\, 02766\, United States
CATEGORIES:Arts
ATTACH;FMTTYPE=image/jpeg:https://wheatoncollege.edu/wp-content/uploads/2019/07/for-the-record_poster.jpg
ORGANIZER;CN="Elizabeth Hoy":MAILTO:hoy_elizabeth@wheatoncollege.edu
GEO:41.9629235;-71.1804988
END:VEVENT
BEGIN:VEVENT
DTSTART;TZID=America/New_York:20190928T130000
DTEND;TZID=America/New_York:20190928T170000
DTSTAMP:20260425T232842
CREATED:20190909T155017Z
LAST-MODIFIED:20190917T205107Z
UID:10004555-1569675600-1569690000@wheatoncollege.edu
SUMMARY:For the Record: Political/Personal/Historical
DESCRIPTION:This exhibition brings together six artists\, Sara Jimenez\, Antonio McAfee\, Annu Palakunnathu Matthew\, Mendi + Keith Obadike\, and Dano Wall\, who are reframing historical images and information to encourage a shift in perceptions of race\, immigration\, and colonialism.
URL:https://wheatoncollege.edu/event/for-the-record-political-personal-historical/2019-09-28/
LOCATION:Watson Fine Arts – Beard and Weil Galleries\, Norton\, MA\, 02766\, United States
CATEGORIES:Arts
ATTACH;FMTTYPE=image/jpeg:https://wheatoncollege.edu/wp-content/uploads/2019/07/for-the-record_poster.jpg
ORGANIZER;CN="Elizabeth Hoy":MAILTO:hoy_elizabeth@wheatoncollege.edu
GEO:41.9629235;-71.1804988
END:VEVENT
END:VCALENDAR