	BEGIN:VCALENDAR
VERSION:2.0
PRODID:-//Wheaton College Massachusetts - ECPv6.15.17.1//NONSGML v1.0//EN
CALSCALE:GREGORIAN
METHOD:PUBLISH
X-WR-CALNAME:Wheaton College Massachusetts
X-ORIGINAL-URL:https://wheatoncollege.edu
X-WR-CALDESC:Events for Wheaton College Massachusetts
REFRESH-INTERVAL;VALUE=DURATION:PT1H
X-Robots-Tag:noindex
X-PUBLISHED-TTL:PT1H
BEGIN:VTIMEZONE
TZID:America/New_York
BEGIN:DAYLIGHT
TZOFFSETFROM:-0500
TZOFFSETTO:-0400
TZNAME:EDT
DTSTART:20180311T070000
END:DAYLIGHT
BEGIN:STANDARD
TZOFFSETFROM:-0400
TZOFFSETTO:-0500
TZNAME:EST
DTSTART:20181104T060000
END:STANDARD
BEGIN:DAYLIGHT
TZOFFSETFROM:-0500
TZOFFSETTO:-0400
TZNAME:EDT
DTSTART:20190310T070000
END:DAYLIGHT
BEGIN:STANDARD
TZOFFSETFROM:-0400
TZOFFSETTO:-0500
TZNAME:EST
DTSTART:20191103T060000
END:STANDARD
BEGIN:DAYLIGHT
TZOFFSETFROM:-0500
TZOFFSETTO:-0400
TZNAME:EDT
DTSTART:20200308T070000
END:DAYLIGHT
BEGIN:STANDARD
TZOFFSETFROM:-0400
TZOFFSETTO:-0500
TZNAME:EST
DTSTART:20201101T060000
END:STANDARD
END:VTIMEZONE
BEGIN:VEVENT
DTSTART;TZID=America/New_York:20191024T200000
DTEND;TZID=America/New_York:20191024T213000
DTSTAMP:20260420T224034
CREATED:20190711T152401Z
LAST-MODIFIED:20191011T210126Z
UID:10003797-1571947200-1571952600@wheatoncollege.edu
SUMMARY:Christian Lane\, organ presented by the Mary Bloor Loser ’42 Concert Series
DESCRIPTION:Christian Lane is the winner of the 2011 Canadian International Organ Competition and director of the Boston Organ Studio. He is one of America’s most accomplished\, respected\, and versatile concert organists and pedagogues. Lane performs regularly throughout the United States and Europe\, notable venues include St. Patrick’s Cathedral (New York)\, both St. Paul’s Cathedral and Westminster Abbey in London\, and Washington National Cathedral. Free tickets may be reserved online through the Box Office.
URL:https://wheatoncollege.edu/event/loser-concert-christian-lang-by-the-mary-bloor-loser-42-concert-series/
LOCATION:Cole Memorial Chapel\, Norton\, MA\, 02766\, United States
CATEGORIES:Arts,Music
ATTACH;FMTTYPE=image/jpeg:https://wheatoncollege.edu/wp-content/uploads/2019/07/loser-christian-lane-f2019.jpg
ORGANIZER;CN="Jessica Kuszaj":MAILTO:kuszaj_jessica@wheatoncollege.edu
GEO:41.9629235;-71.1804988
END:VEVENT
BEGIN:VEVENT
DTSTART;TZID=America/New_York:20191031T110000
DTEND;TZID=America/New_York:20191031T123000
DTSTAMP:20260420T224034
CREATED:20191024T193152Z
LAST-MODIFIED:20191024T193221Z
UID:10003864-1572519600-1572525000@wheatoncollege.edu
SUMMARY:loop: Viral Musicking and the Aesthetics of Contagion
DESCRIPTION:Dr. Paula Harper\, Washington University in St. Louis\, will deliver the talk “<loop>: Viral Musicking and the Aesthetics of Contagion” on Thursday\, October 31\, at 11 a.m. at Knapton Lecture. Dr. Harper’s presentation maps the circular structures of media and behavior that enable viral circulation\, as well as the cyclical nature of digital viruses themselves. From the obnoxious lo-fi loops of GeoCities sites and WebRings\, to a contemporary landscape of TikTok and silently-sonic .gifs\, this talk explores how early-Internet necessity and limitation became aesthetic\, and traces the spiraling interplays between platforms and participation through which content becomes contagion. For more information\, contact Will Mason at mason_william@wheatoncollege.edu.
URL:https://wheatoncollege.edu/event/viral-musicking-and-the-aesthetics-of-contagion/
LOCATION:Knapton Lecture Hall\, Norton\, Massachusetts\, 02766
CATEGORIES:Academic,Music
ATTACH;FMTTYPE=image/jpeg:https://wheatoncollege.edu/wp-content/uploads/2019/10/harper_loop.jpg
ORGANIZER;CN="Music Department":MAILTO:mason_william@wheatoncollege.edu
GEO:41.9629235;-71.1804988
END:VEVENT
END:VCALENDAR