	BEGIN:VCALENDAR
VERSION:2.0
PRODID:-//Wheaton College Massachusetts - ECPv6.15.17.1//NONSGML v1.0//EN
CALSCALE:GREGORIAN
METHOD:PUBLISH
X-WR-CALNAME:Wheaton College Massachusetts
X-ORIGINAL-URL:https://wheatoncollege.edu
X-WR-CALDESC:Events for Wheaton College Massachusetts
REFRESH-INTERVAL;VALUE=DURATION:PT1H
X-Robots-Tag:noindex
X-PUBLISHED-TTL:PT1H
BEGIN:VTIMEZONE
TZID:America/New_York
BEGIN:DAYLIGHT
TZOFFSETFROM:-0500
TZOFFSETTO:-0400
TZNAME:EDT
DTSTART:20260308T070000
END:DAYLIGHT
BEGIN:STANDARD
TZOFFSETFROM:-0400
TZOFFSETTO:-0500
TZNAME:EST
DTSTART:20261101T060000
END:STANDARD
BEGIN:DAYLIGHT
TZOFFSETFROM:-0500
TZOFFSETTO:-0400
TZNAME:EDT
DTSTART:20270314T070000
END:DAYLIGHT
BEGIN:STANDARD
TZOFFSETFROM:-0400
TZOFFSETTO:-0500
TZNAME:EST
DTSTART:20271107T060000
END:STANDARD
BEGIN:DAYLIGHT
TZOFFSETFROM:-0500
TZOFFSETTO:-0400
TZNAME:EDT
DTSTART:20280312T070000
END:DAYLIGHT
BEGIN:STANDARD
TZOFFSETFROM:-0400
TZOFFSETTO:-0500
TZNAME:EST
DTSTART:20281105T060000
END:STANDARD
END:VTIMEZONE
BEGIN:VEVENT
DTSTART;VALUE=DATE:20270411
DTEND;VALUE=DATE:20270412
DTSTAMP:20260423T105741
CREATED:20260422T184751Z
LAST-MODIFIED:20260422T184751Z
UID:10010602-1807401600-1807487999@wheatoncollege.edu
SUMMARY:2026 Design Capstone poster display
DESCRIPTION:The design capstone is a chance for senior design majors to apply their knowledge and skills to a topic of their choice. Posters show and explain what students investigated and why\, the steps they took to add depth to their understanding and how they responded with design concepts through sketches\, diagrams\, prototypes and mockups. \nProjects will be on display May 5–May 16\, 2026
URL:https://wheatoncollege.edu/event/2026-design-capstone-poster-display/2027-04-11/
LOCATION:Haas Concourse and Lobby\, Watson Fine Arts
CATEGORIES:Academic,Arts
ORGANIZER;CN="Arts at Wheaton":MAILTO:kuszaj_jessica@wheatoncollege.edu
END:VEVENT
BEGIN:VEVENT
DTSTART;VALUE=DATE:20270412
DTEND;VALUE=DATE:20270413
DTSTAMP:20260423T105741
CREATED:20260422T184751Z
LAST-MODIFIED:20260422T184751Z
UID:10010603-1807488000-1807574399@wheatoncollege.edu
SUMMARY:2026 Design Capstone poster display
DESCRIPTION:The design capstone is a chance for senior design majors to apply their knowledge and skills to a topic of their choice. Posters show and explain what students investigated and why\, the steps they took to add depth to their understanding and how they responded with design concepts through sketches\, diagrams\, prototypes and mockups. \nProjects will be on display May 5–May 16\, 2026
URL:https://wheatoncollege.edu/event/2026-design-capstone-poster-display/2027-04-12/
LOCATION:Haas Concourse and Lobby\, Watson Fine Arts
CATEGORIES:Academic,Arts
ORGANIZER;CN="Arts at Wheaton":MAILTO:kuszaj_jessica@wheatoncollege.edu
END:VEVENT
BEGIN:VEVENT
DTSTART;VALUE=DATE:20270413
DTEND;VALUE=DATE:20270414
DTSTAMP:20260423T105741
CREATED:20260422T184751Z
LAST-MODIFIED:20260422T184751Z
UID:10010604-1807574400-1807660799@wheatoncollege.edu
SUMMARY:2026 Design Capstone poster display
DESCRIPTION:The design capstone is a chance for senior design majors to apply their knowledge and skills to a topic of their choice. Posters show and explain what students investigated and why\, the steps they took to add depth to their understanding and how they responded with design concepts through sketches\, diagrams\, prototypes and mockups. \nProjects will be on display May 5–May 16\, 2026
URL:https://wheatoncollege.edu/event/2026-design-capstone-poster-display/2027-04-13/
LOCATION:Haas Concourse and Lobby\, Watson Fine Arts
CATEGORIES:Academic,Arts
ORGANIZER;CN="Arts at Wheaton":MAILTO:kuszaj_jessica@wheatoncollege.edu
END:VEVENT
BEGIN:VEVENT
DTSTART;VALUE=DATE:20270414
DTEND;VALUE=DATE:20270415
DTSTAMP:20260423T105741
CREATED:20260422T184751Z
LAST-MODIFIED:20260422T184751Z
UID:10010605-1807660800-1807747199@wheatoncollege.edu
SUMMARY:2026 Design Capstone poster display
DESCRIPTION:The design capstone is a chance for senior design majors to apply their knowledge and skills to a topic of their choice. Posters show and explain what students investigated and why\, the steps they took to add depth to their understanding and how they responded with design concepts through sketches\, diagrams\, prototypes and mockups. \nProjects will be on display May 5–May 16\, 2026
URL:https://wheatoncollege.edu/event/2026-design-capstone-poster-display/2027-04-14/
LOCATION:Haas Concourse and Lobby\, Watson Fine Arts
CATEGORIES:Academic,Arts
ORGANIZER;CN="Arts at Wheaton":MAILTO:kuszaj_jessica@wheatoncollege.edu
END:VEVENT
BEGIN:VEVENT
DTSTART;VALUE=DATE:20270415
DTEND;VALUE=DATE:20270416
DTSTAMP:20260423T105741
CREATED:20260422T184751Z
LAST-MODIFIED:20260422T184751Z
UID:10010606-1807747200-1807833599@wheatoncollege.edu
SUMMARY:2026 Design Capstone poster display
DESCRIPTION:The design capstone is a chance for senior design majors to apply their knowledge and skills to a topic of their choice. Posters show and explain what students investigated and why\, the steps they took to add depth to their understanding and how they responded with design concepts through sketches\, diagrams\, prototypes and mockups. \nProjects will be on display May 5–May 16\, 2026
URL:https://wheatoncollege.edu/event/2026-design-capstone-poster-display/2027-04-15/
LOCATION:Haas Concourse and Lobby\, Watson Fine Arts
CATEGORIES:Academic,Arts
ORGANIZER;CN="Arts at Wheaton":MAILTO:kuszaj_jessica@wheatoncollege.edu
END:VEVENT
BEGIN:VEVENT
DTSTART;VALUE=DATE:20270416
DTEND;VALUE=DATE:20270417
DTSTAMP:20260423T105741
CREATED:20260422T184751Z
LAST-MODIFIED:20260422T184751Z
UID:10010607-1807833600-1807919999@wheatoncollege.edu
SUMMARY:2026 Design Capstone poster display
DESCRIPTION:The design capstone is a chance for senior design majors to apply their knowledge and skills to a topic of their choice. Posters show and explain what students investigated and why\, the steps they took to add depth to their understanding and how they responded with design concepts through sketches\, diagrams\, prototypes and mockups. \nProjects will be on display May 5–May 16\, 2026
URL:https://wheatoncollege.edu/event/2026-design-capstone-poster-display/2027-04-16/
LOCATION:Haas Concourse and Lobby\, Watson Fine Arts
CATEGORIES:Academic,Arts
ORGANIZER;CN="Arts at Wheaton":MAILTO:kuszaj_jessica@wheatoncollege.edu
END:VEVENT
BEGIN:VEVENT
DTSTART;VALUE=DATE:20270417
DTEND;VALUE=DATE:20270418
DTSTAMP:20260423T105741
CREATED:20260422T184751Z
LAST-MODIFIED:20260422T184751Z
UID:10010608-1807920000-1808006399@wheatoncollege.edu
SUMMARY:2026 Design Capstone poster display
DESCRIPTION:The design capstone is a chance for senior design majors to apply their knowledge and skills to a topic of their choice. Posters show and explain what students investigated and why\, the steps they took to add depth to their understanding and how they responded with design concepts through sketches\, diagrams\, prototypes and mockups. \nProjects will be on display May 5–May 16\, 2026
URL:https://wheatoncollege.edu/event/2026-design-capstone-poster-display/2027-04-17/
LOCATION:Haas Concourse and Lobby\, Watson Fine Arts
CATEGORIES:Academic,Arts
ORGANIZER;CN="Arts at Wheaton":MAILTO:kuszaj_jessica@wheatoncollege.edu
END:VEVENT
BEGIN:VEVENT
DTSTART;VALUE=DATE:20270418
DTEND;VALUE=DATE:20270419
DTSTAMP:20260423T105741
CREATED:20260422T184751Z
LAST-MODIFIED:20260422T184751Z
UID:10010609-1808006400-1808092799@wheatoncollege.edu
SUMMARY:2026 Design Capstone poster display
DESCRIPTION:The design capstone is a chance for senior design majors to apply their knowledge and skills to a topic of their choice. Posters show and explain what students investigated and why\, the steps they took to add depth to their understanding and how they responded with design concepts through sketches\, diagrams\, prototypes and mockups. \nProjects will be on display May 5–May 16\, 2026
URL:https://wheatoncollege.edu/event/2026-design-capstone-poster-display/2027-04-18/
LOCATION:Haas Concourse and Lobby\, Watson Fine Arts
CATEGORIES:Academic,Arts
ORGANIZER;CN="Arts at Wheaton":MAILTO:kuszaj_jessica@wheatoncollege.edu
END:VEVENT
BEGIN:VEVENT
DTSTART;VALUE=DATE:20270419
DTEND;VALUE=DATE:20270420
DTSTAMP:20260423T105741
CREATED:20260422T184751Z
LAST-MODIFIED:20260422T184751Z
UID:10010610-1808092800-1808179199@wheatoncollege.edu
SUMMARY:2026 Design Capstone poster display
DESCRIPTION:The design capstone is a chance for senior design majors to apply their knowledge and skills to a topic of their choice. Posters show and explain what students investigated and why\, the steps they took to add depth to their understanding and how they responded with design concepts through sketches\, diagrams\, prototypes and mockups. \nProjects will be on display May 5–May 16\, 2026
URL:https://wheatoncollege.edu/event/2026-design-capstone-poster-display/2027-04-19/
LOCATION:Haas Concourse and Lobby\, Watson Fine Arts
CATEGORIES:Academic,Arts
ORGANIZER;CN="Arts at Wheaton":MAILTO:kuszaj_jessica@wheatoncollege.edu
END:VEVENT
BEGIN:VEVENT
DTSTART;VALUE=DATE:20270420
DTEND;VALUE=DATE:20270421
DTSTAMP:20260423T105741
CREATED:20260422T184751Z
LAST-MODIFIED:20260422T184751Z
UID:10010611-1808179200-1808265599@wheatoncollege.edu
SUMMARY:2026 Design Capstone poster display
DESCRIPTION:The design capstone is a chance for senior design majors to apply their knowledge and skills to a topic of their choice. Posters show and explain what students investigated and why\, the steps they took to add depth to their understanding and how they responded with design concepts through sketches\, diagrams\, prototypes and mockups. \nProjects will be on display May 5–May 16\, 2026
URL:https://wheatoncollege.edu/event/2026-design-capstone-poster-display/2027-04-20/
LOCATION:Haas Concourse and Lobby\, Watson Fine Arts
CATEGORIES:Academic,Arts
ORGANIZER;CN="Arts at Wheaton":MAILTO:kuszaj_jessica@wheatoncollege.edu
END:VEVENT
BEGIN:VEVENT
DTSTART;VALUE=DATE:20270421
DTEND;VALUE=DATE:20270422
DTSTAMP:20260423T105741
CREATED:20260422T184751Z
LAST-MODIFIED:20260422T184751Z
UID:10010612-1808265600-1808351999@wheatoncollege.edu
SUMMARY:2026 Design Capstone poster display
DESCRIPTION:The design capstone is a chance for senior design majors to apply their knowledge and skills to a topic of their choice. Posters show and explain what students investigated and why\, the steps they took to add depth to their understanding and how they responded with design concepts through sketches\, diagrams\, prototypes and mockups. \nProjects will be on display May 5–May 16\, 2026
URL:https://wheatoncollege.edu/event/2026-design-capstone-poster-display/2027-04-21/
LOCATION:Haas Concourse and Lobby\, Watson Fine Arts
CATEGORIES:Academic,Arts
ORGANIZER;CN="Arts at Wheaton":MAILTO:kuszaj_jessica@wheatoncollege.edu
END:VEVENT
BEGIN:VEVENT
DTSTART;VALUE=DATE:20270422
DTEND;VALUE=DATE:20270423
DTSTAMP:20260423T105741
CREATED:20260422T184751Z
LAST-MODIFIED:20260422T184751Z
UID:10010613-1808352000-1808438399@wheatoncollege.edu
SUMMARY:2026 Design Capstone poster display
DESCRIPTION:The design capstone is a chance for senior design majors to apply their knowledge and skills to a topic of their choice. Posters show and explain what students investigated and why\, the steps they took to add depth to their understanding and how they responded with design concepts through sketches\, diagrams\, prototypes and mockups. \nProjects will be on display May 5–May 16\, 2026
URL:https://wheatoncollege.edu/event/2026-design-capstone-poster-display/2027-04-22/
LOCATION:Haas Concourse and Lobby\, Watson Fine Arts
CATEGORIES:Academic,Arts
ORGANIZER;CN="Arts at Wheaton":MAILTO:kuszaj_jessica@wheatoncollege.edu
END:VEVENT
BEGIN:VEVENT
DTSTART;VALUE=DATE:20270423
DTEND;VALUE=DATE:20270424
DTSTAMP:20260423T105741
CREATED:20260422T184751Z
LAST-MODIFIED:20260422T184751Z
UID:10010614-1808438400-1808524799@wheatoncollege.edu
SUMMARY:2026 Design Capstone poster display
DESCRIPTION:The design capstone is a chance for senior design majors to apply their knowledge and skills to a topic of their choice. Posters show and explain what students investigated and why\, the steps they took to add depth to their understanding and how they responded with design concepts through sketches\, diagrams\, prototypes and mockups. \nProjects will be on display May 5–May 16\, 2026
URL:https://wheatoncollege.edu/event/2026-design-capstone-poster-display/2027-04-23/
LOCATION:Haas Concourse and Lobby\, Watson Fine Arts
CATEGORIES:Academic,Arts
ORGANIZER;CN="Arts at Wheaton":MAILTO:kuszaj_jessica@wheatoncollege.edu
END:VEVENT
BEGIN:VEVENT
DTSTART;VALUE=DATE:20270424
DTEND;VALUE=DATE:20270425
DTSTAMP:20260423T105741
CREATED:20260422T184751Z
LAST-MODIFIED:20260422T184751Z
UID:10010615-1808524800-1808611199@wheatoncollege.edu
SUMMARY:2026 Design Capstone poster display
DESCRIPTION:The design capstone is a chance for senior design majors to apply their knowledge and skills to a topic of their choice. Posters show and explain what students investigated and why\, the steps they took to add depth to their understanding and how they responded with design concepts through sketches\, diagrams\, prototypes and mockups. \nProjects will be on display May 5–May 16\, 2026
URL:https://wheatoncollege.edu/event/2026-design-capstone-poster-display/2027-04-24/
LOCATION:Haas Concourse and Lobby\, Watson Fine Arts
CATEGORIES:Academic,Arts
ORGANIZER;CN="Arts at Wheaton":MAILTO:kuszaj_jessica@wheatoncollege.edu
END:VEVENT
BEGIN:VEVENT
DTSTART;VALUE=DATE:20270425
DTEND;VALUE=DATE:20270426
DTSTAMP:20260423T105741
CREATED:20260422T184751Z
LAST-MODIFIED:20260422T184751Z
UID:10010616-1808611200-1808697599@wheatoncollege.edu
SUMMARY:2026 Design Capstone poster display
DESCRIPTION:The design capstone is a chance for senior design majors to apply their knowledge and skills to a topic of their choice. Posters show and explain what students investigated and why\, the steps they took to add depth to their understanding and how they responded with design concepts through sketches\, diagrams\, prototypes and mockups. \nProjects will be on display May 5–May 16\, 2026
URL:https://wheatoncollege.edu/event/2026-design-capstone-poster-display/2027-04-25/
LOCATION:Haas Concourse and Lobby\, Watson Fine Arts
CATEGORIES:Academic,Arts
ORGANIZER;CN="Arts at Wheaton":MAILTO:kuszaj_jessica@wheatoncollege.edu
END:VEVENT
BEGIN:VEVENT
DTSTART;VALUE=DATE:20270426
DTEND;VALUE=DATE:20270427
DTSTAMP:20260423T105741
CREATED:20260422T184751Z
LAST-MODIFIED:20260422T184751Z
UID:10010617-1808697600-1808783999@wheatoncollege.edu
SUMMARY:2026 Design Capstone poster display
DESCRIPTION:The design capstone is a chance for senior design majors to apply their knowledge and skills to a topic of their choice. Posters show and explain what students investigated and why\, the steps they took to add depth to their understanding and how they responded with design concepts through sketches\, diagrams\, prototypes and mockups. \nProjects will be on display May 5–May 16\, 2026
URL:https://wheatoncollege.edu/event/2026-design-capstone-poster-display/2027-04-26/
LOCATION:Haas Concourse and Lobby\, Watson Fine Arts
CATEGORIES:Academic,Arts
ORGANIZER;CN="Arts at Wheaton":MAILTO:kuszaj_jessica@wheatoncollege.edu
END:VEVENT
BEGIN:VEVENT
DTSTART;VALUE=DATE:20270427
DTEND;VALUE=DATE:20270428
DTSTAMP:20260423T105741
CREATED:20260422T184751Z
LAST-MODIFIED:20260422T184751Z
UID:10010618-1808784000-1808870399@wheatoncollege.edu
SUMMARY:2026 Design Capstone poster display
DESCRIPTION:The design capstone is a chance for senior design majors to apply their knowledge and skills to a topic of their choice. Posters show and explain what students investigated and why\, the steps they took to add depth to their understanding and how they responded with design concepts through sketches\, diagrams\, prototypes and mockups. \nProjects will be on display May 5–May 16\, 2026
URL:https://wheatoncollege.edu/event/2026-design-capstone-poster-display/2027-04-27/
LOCATION:Haas Concourse and Lobby\, Watson Fine Arts
CATEGORIES:Academic,Arts
ORGANIZER;CN="Arts at Wheaton":MAILTO:kuszaj_jessica@wheatoncollege.edu
END:VEVENT
BEGIN:VEVENT
DTSTART;VALUE=DATE:20270428
DTEND;VALUE=DATE:20270429
DTSTAMP:20260423T105741
CREATED:20260422T184751Z
LAST-MODIFIED:20260422T184751Z
UID:10010619-1808870400-1808956799@wheatoncollege.edu
SUMMARY:2026 Design Capstone poster display
DESCRIPTION:The design capstone is a chance for senior design majors to apply their knowledge and skills to a topic of their choice. Posters show and explain what students investigated and why\, the steps they took to add depth to their understanding and how they responded with design concepts through sketches\, diagrams\, prototypes and mockups. \nProjects will be on display May 5–May 16\, 2026
URL:https://wheatoncollege.edu/event/2026-design-capstone-poster-display/2027-04-28/
LOCATION:Haas Concourse and Lobby\, Watson Fine Arts
CATEGORIES:Academic,Arts
ORGANIZER;CN="Arts at Wheaton":MAILTO:kuszaj_jessica@wheatoncollege.edu
END:VEVENT
BEGIN:VEVENT
DTSTART;VALUE=DATE:20270429
DTEND;VALUE=DATE:20270430
DTSTAMP:20260423T105741
CREATED:20260422T184751Z
LAST-MODIFIED:20260422T184751Z
UID:10010620-1808956800-1809043199@wheatoncollege.edu
SUMMARY:2026 Design Capstone poster display
DESCRIPTION:The design capstone is a chance for senior design majors to apply their knowledge and skills to a topic of their choice. Posters show and explain what students investigated and why\, the steps they took to add depth to their understanding and how they responded with design concepts through sketches\, diagrams\, prototypes and mockups. \nProjects will be on display May 5–May 16\, 2026
URL:https://wheatoncollege.edu/event/2026-design-capstone-poster-display/2027-04-29/
LOCATION:Haas Concourse and Lobby\, Watson Fine Arts
CATEGORIES:Academic,Arts
ORGANIZER;CN="Arts at Wheaton":MAILTO:kuszaj_jessica@wheatoncollege.edu
END:VEVENT
BEGIN:VEVENT
DTSTART;VALUE=DATE:20270430
DTEND;VALUE=DATE:20270501
DTSTAMP:20260423T105741
CREATED:20260422T184751Z
LAST-MODIFIED:20260422T184751Z
UID:10010621-1809043200-1809129599@wheatoncollege.edu
SUMMARY:2026 Design Capstone poster display
DESCRIPTION:The design capstone is a chance for senior design majors to apply their knowledge and skills to a topic of their choice. Posters show and explain what students investigated and why\, the steps they took to add depth to their understanding and how they responded with design concepts through sketches\, diagrams\, prototypes and mockups. \nProjects will be on display May 5–May 16\, 2026
URL:https://wheatoncollege.edu/event/2026-design-capstone-poster-display/2027-04-30/
LOCATION:Haas Concourse and Lobby\, Watson Fine Arts
CATEGORIES:Academic,Arts
ORGANIZER;CN="Arts at Wheaton":MAILTO:kuszaj_jessica@wheatoncollege.edu
END:VEVENT
BEGIN:VEVENT
DTSTART;VALUE=DATE:20270501
DTEND;VALUE=DATE:20270502
DTSTAMP:20260423T105741
CREATED:20260422T184751Z
LAST-MODIFIED:20260422T184751Z
UID:10010622-1809129600-1809215999@wheatoncollege.edu
SUMMARY:2026 Design Capstone poster display
DESCRIPTION:The design capstone is a chance for senior design majors to apply their knowledge and skills to a topic of their choice. Posters show and explain what students investigated and why\, the steps they took to add depth to their understanding and how they responded with design concepts through sketches\, diagrams\, prototypes and mockups. \nProjects will be on display May 5–May 16\, 2026
URL:https://wheatoncollege.edu/event/2026-design-capstone-poster-display/2027-05-01/
LOCATION:Haas Concourse and Lobby\, Watson Fine Arts
CATEGORIES:Academic,Arts
ORGANIZER;CN="Arts at Wheaton":MAILTO:kuszaj_jessica@wheatoncollege.edu
END:VEVENT
BEGIN:VEVENT
DTSTART;VALUE=DATE:20270502
DTEND;VALUE=DATE:20270503
DTSTAMP:20260423T105741
CREATED:20260422T184751Z
LAST-MODIFIED:20260422T184751Z
UID:10010623-1809216000-1809302399@wheatoncollege.edu
SUMMARY:2026 Design Capstone poster display
DESCRIPTION:The design capstone is a chance for senior design majors to apply their knowledge and skills to a topic of their choice. Posters show and explain what students investigated and why\, the steps they took to add depth to their understanding and how they responded with design concepts through sketches\, diagrams\, prototypes and mockups. \nProjects will be on display May 5–May 16\, 2026
URL:https://wheatoncollege.edu/event/2026-design-capstone-poster-display/2027-05-02/
LOCATION:Haas Concourse and Lobby\, Watson Fine Arts
CATEGORIES:Academic,Arts
ORGANIZER;CN="Arts at Wheaton":MAILTO:kuszaj_jessica@wheatoncollege.edu
END:VEVENT
BEGIN:VEVENT
DTSTART;VALUE=DATE:20270503
DTEND;VALUE=DATE:20270504
DTSTAMP:20260423T105741
CREATED:20260422T184751Z
LAST-MODIFIED:20260422T184751Z
UID:10010624-1809302400-1809388799@wheatoncollege.edu
SUMMARY:2026 Design Capstone poster display
DESCRIPTION:The design capstone is a chance for senior design majors to apply their knowledge and skills to a topic of their choice. Posters show and explain what students investigated and why\, the steps they took to add depth to their understanding and how they responded with design concepts through sketches\, diagrams\, prototypes and mockups. \nProjects will be on display May 5–May 16\, 2026
URL:https://wheatoncollege.edu/event/2026-design-capstone-poster-display/2027-05-03/
LOCATION:Haas Concourse and Lobby\, Watson Fine Arts
CATEGORIES:Academic,Arts
ORGANIZER;CN="Arts at Wheaton":MAILTO:kuszaj_jessica@wheatoncollege.edu
END:VEVENT
BEGIN:VEVENT
DTSTART;VALUE=DATE:20270504
DTEND;VALUE=DATE:20270505
DTSTAMP:20260423T105741
CREATED:20260422T184751Z
LAST-MODIFIED:20260422T184751Z
UID:10010625-1809388800-1809475199@wheatoncollege.edu
SUMMARY:2026 Design Capstone poster display
DESCRIPTION:The design capstone is a chance for senior design majors to apply their knowledge and skills to a topic of their choice. Posters show and explain what students investigated and why\, the steps they took to add depth to their understanding and how they responded with design concepts through sketches\, diagrams\, prototypes and mockups. \nProjects will be on display May 5–May 16\, 2026
URL:https://wheatoncollege.edu/event/2026-design-capstone-poster-display/2027-05-04/
LOCATION:Haas Concourse and Lobby\, Watson Fine Arts
CATEGORIES:Academic,Arts
ORGANIZER;CN="Arts at Wheaton":MAILTO:kuszaj_jessica@wheatoncollege.edu
END:VEVENT
BEGIN:VEVENT
DTSTART;VALUE=DATE:20270505
DTEND;VALUE=DATE:20270506
DTSTAMP:20260423T105742
CREATED:20260422T184751Z
LAST-MODIFIED:20260422T184751Z
UID:10010626-1809475200-1809561599@wheatoncollege.edu
SUMMARY:2026 Design Capstone poster display
DESCRIPTION:The design capstone is a chance for senior design majors to apply their knowledge and skills to a topic of their choice. Posters show and explain what students investigated and why\, the steps they took to add depth to their understanding and how they responded with design concepts through sketches\, diagrams\, prototypes and mockups. \nProjects will be on display May 5–May 16\, 2026
URL:https://wheatoncollege.edu/event/2026-design-capstone-poster-display/2027-05-05/
LOCATION:Haas Concourse and Lobby\, Watson Fine Arts
CATEGORIES:Academic,Arts
ORGANIZER;CN="Arts at Wheaton":MAILTO:kuszaj_jessica@wheatoncollege.edu
END:VEVENT
BEGIN:VEVENT
DTSTART;VALUE=DATE:20270506
DTEND;VALUE=DATE:20270507
DTSTAMP:20260423T105742
CREATED:20260422T184751Z
LAST-MODIFIED:20260422T184751Z
UID:10010627-1809561600-1809647999@wheatoncollege.edu
SUMMARY:2026 Design Capstone poster display
DESCRIPTION:The design capstone is a chance for senior design majors to apply their knowledge and skills to a topic of their choice. Posters show and explain what students investigated and why\, the steps they took to add depth to their understanding and how they responded with design concepts through sketches\, diagrams\, prototypes and mockups. \nProjects will be on display May 5–May 16\, 2026
URL:https://wheatoncollege.edu/event/2026-design-capstone-poster-display/2027-05-06/
LOCATION:Haas Concourse and Lobby\, Watson Fine Arts
CATEGORIES:Academic,Arts
ORGANIZER;CN="Arts at Wheaton":MAILTO:kuszaj_jessica@wheatoncollege.edu
END:VEVENT
BEGIN:VEVENT
DTSTART;VALUE=DATE:20270507
DTEND;VALUE=DATE:20270508
DTSTAMP:20260423T105742
CREATED:20260422T184751Z
LAST-MODIFIED:20260422T184751Z
UID:10010628-1809648000-1809734399@wheatoncollege.edu
SUMMARY:2026 Design Capstone poster display
DESCRIPTION:The design capstone is a chance for senior design majors to apply their knowledge and skills to a topic of their choice. Posters show and explain what students investigated and why\, the steps they took to add depth to their understanding and how they responded with design concepts through sketches\, diagrams\, prototypes and mockups. \nProjects will be on display May 5–May 16\, 2026
URL:https://wheatoncollege.edu/event/2026-design-capstone-poster-display/2027-05-07/
LOCATION:Haas Concourse and Lobby\, Watson Fine Arts
CATEGORIES:Academic,Arts
ORGANIZER;CN="Arts at Wheaton":MAILTO:kuszaj_jessica@wheatoncollege.edu
END:VEVENT
BEGIN:VEVENT
DTSTART;VALUE=DATE:20270508
DTEND;VALUE=DATE:20270509
DTSTAMP:20260423T105742
CREATED:20260422T184751Z
LAST-MODIFIED:20260422T184751Z
UID:10010629-1809734400-1809820799@wheatoncollege.edu
SUMMARY:2026 Design Capstone poster display
DESCRIPTION:The design capstone is a chance for senior design majors to apply their knowledge and skills to a topic of their choice. Posters show and explain what students investigated and why\, the steps they took to add depth to their understanding and how they responded with design concepts through sketches\, diagrams\, prototypes and mockups. \nProjects will be on display May 5–May 16\, 2026
URL:https://wheatoncollege.edu/event/2026-design-capstone-poster-display/2027-05-08/
LOCATION:Haas Concourse and Lobby\, Watson Fine Arts
CATEGORIES:Academic,Arts
ORGANIZER;CN="Arts at Wheaton":MAILTO:kuszaj_jessica@wheatoncollege.edu
END:VEVENT
BEGIN:VEVENT
DTSTART;VALUE=DATE:20270509
DTEND;VALUE=DATE:20270510
DTSTAMP:20260423T105742
CREATED:20260422T184751Z
LAST-MODIFIED:20260422T184751Z
UID:10010630-1809820800-1809907199@wheatoncollege.edu
SUMMARY:2026 Design Capstone poster display
DESCRIPTION:The design capstone is a chance for senior design majors to apply their knowledge and skills to a topic of their choice. Posters show and explain what students investigated and why\, the steps they took to add depth to their understanding and how they responded with design concepts through sketches\, diagrams\, prototypes and mockups. \nProjects will be on display May 5–May 16\, 2026
URL:https://wheatoncollege.edu/event/2026-design-capstone-poster-display/2027-05-09/
LOCATION:Haas Concourse and Lobby\, Watson Fine Arts
CATEGORIES:Academic,Arts
ORGANIZER;CN="Arts at Wheaton":MAILTO:kuszaj_jessica@wheatoncollege.edu
END:VEVENT
BEGIN:VEVENT
DTSTART;VALUE=DATE:20270510
DTEND;VALUE=DATE:20270511
DTSTAMP:20260423T105742
CREATED:20260422T184751Z
LAST-MODIFIED:20260422T184751Z
UID:10010631-1809907200-1809993599@wheatoncollege.edu
SUMMARY:2026 Design Capstone poster display
DESCRIPTION:The design capstone is a chance for senior design majors to apply their knowledge and skills to a topic of their choice. Posters show and explain what students investigated and why\, the steps they took to add depth to their understanding and how they responded with design concepts through sketches\, diagrams\, prototypes and mockups. \nProjects will be on display May 5–May 16\, 2026
URL:https://wheatoncollege.edu/event/2026-design-capstone-poster-display/2027-05-10/
LOCATION:Haas Concourse and Lobby\, Watson Fine Arts
CATEGORIES:Academic,Arts
ORGANIZER;CN="Arts at Wheaton":MAILTO:kuszaj_jessica@wheatoncollege.edu
END:VEVENT
END:VCALENDAR