	BEGIN:VCALENDAR
VERSION:2.0
PRODID:-//Wheaton College Massachusetts - ECPv6.15.17.1//NONSGML v1.0//EN
CALSCALE:GREGORIAN
METHOD:PUBLISH
X-WR-CALNAME:Wheaton College Massachusetts
X-ORIGINAL-URL:https://wheatoncollege.edu
X-WR-CALDESC:Events for Wheaton College Massachusetts
REFRESH-INTERVAL;VALUE=DURATION:PT1H
X-Robots-Tag:noindex
X-PUBLISHED-TTL:PT1H
BEGIN:VTIMEZONE
TZID:America/New_York
BEGIN:DAYLIGHT
TZOFFSETFROM:-0500
TZOFFSETTO:-0400
TZNAME:EDT
DTSTART:20260308T070000
END:DAYLIGHT
BEGIN:STANDARD
TZOFFSETFROM:-0400
TZOFFSETTO:-0500
TZNAME:EST
DTSTART:20261101T060000
END:STANDARD
BEGIN:DAYLIGHT
TZOFFSETFROM:-0500
TZOFFSETTO:-0400
TZNAME:EDT
DTSTART:20270314T070000
END:DAYLIGHT
BEGIN:STANDARD
TZOFFSETFROM:-0400
TZOFFSETTO:-0500
TZNAME:EST
DTSTART:20271107T060000
END:STANDARD
BEGIN:DAYLIGHT
TZOFFSETFROM:-0500
TZOFFSETTO:-0400
TZNAME:EDT
DTSTART:20280312T070000
END:DAYLIGHT
BEGIN:STANDARD
TZOFFSETFROM:-0400
TZOFFSETTO:-0500
TZNAME:EST
DTSTART:20281105T060000
END:STANDARD
END:VTIMEZONE
BEGIN:VEVENT
DTSTART;VALUE=DATE:20270303
DTEND;VALUE=DATE:20270304
DTSTAMP:20260423T002720
CREATED:20260422T184751Z
LAST-MODIFIED:20260422T184751Z
UID:10010563-1804032000-1804118399@wheatoncollege.edu
SUMMARY:2026 Design Capstone poster display
DESCRIPTION:The design capstone is a chance for senior design majors to apply their knowledge and skills to a topic of their choice. Posters show and explain what students investigated and why\, the steps they took to add depth to their understanding and how they responded with design concepts through sketches\, diagrams\, prototypes and mockups. \nProjects will be on display May 5–May 16\, 2026
URL:https://wheatoncollege.edu/event/2026-design-capstone-poster-display/2027-03-03/
LOCATION:Haas Concourse and Lobby\, Watson Fine Arts
CATEGORIES:Academic,Arts
ORGANIZER;CN="Arts at Wheaton":MAILTO:kuszaj_jessica@wheatoncollege.edu
END:VEVENT
BEGIN:VEVENT
DTSTART;VALUE=DATE:20270304
DTEND;VALUE=DATE:20270305
DTSTAMP:20260423T002720
CREATED:20260422T184751Z
LAST-MODIFIED:20260422T184751Z
UID:10010564-1804118400-1804204799@wheatoncollege.edu
SUMMARY:2026 Design Capstone poster display
DESCRIPTION:The design capstone is a chance for senior design majors to apply their knowledge and skills to a topic of their choice. Posters show and explain what students investigated and why\, the steps they took to add depth to their understanding and how they responded with design concepts through sketches\, diagrams\, prototypes and mockups. \nProjects will be on display May 5–May 16\, 2026
URL:https://wheatoncollege.edu/event/2026-design-capstone-poster-display/2027-03-04/
LOCATION:Haas Concourse and Lobby\, Watson Fine Arts
CATEGORIES:Academic,Arts
ORGANIZER;CN="Arts at Wheaton":MAILTO:kuszaj_jessica@wheatoncollege.edu
END:VEVENT
BEGIN:VEVENT
DTSTART;VALUE=DATE:20270305
DTEND;VALUE=DATE:20270306
DTSTAMP:20260423T002720
CREATED:20260422T184751Z
LAST-MODIFIED:20260422T184751Z
UID:10010565-1804204800-1804291199@wheatoncollege.edu
SUMMARY:2026 Design Capstone poster display
DESCRIPTION:The design capstone is a chance for senior design majors to apply their knowledge and skills to a topic of their choice. Posters show and explain what students investigated and why\, the steps they took to add depth to their understanding and how they responded with design concepts through sketches\, diagrams\, prototypes and mockups. \nProjects will be on display May 5–May 16\, 2026
URL:https://wheatoncollege.edu/event/2026-design-capstone-poster-display/2027-03-05/
LOCATION:Haas Concourse and Lobby\, Watson Fine Arts
CATEGORIES:Academic,Arts
ORGANIZER;CN="Arts at Wheaton":MAILTO:kuszaj_jessica@wheatoncollege.edu
END:VEVENT
BEGIN:VEVENT
DTSTART;VALUE=DATE:20270306
DTEND;VALUE=DATE:20270307
DTSTAMP:20260423T002720
CREATED:20260422T184751Z
LAST-MODIFIED:20260422T184751Z
UID:10010566-1804291200-1804377599@wheatoncollege.edu
SUMMARY:2026 Design Capstone poster display
DESCRIPTION:The design capstone is a chance for senior design majors to apply their knowledge and skills to a topic of their choice. Posters show and explain what students investigated and why\, the steps they took to add depth to their understanding and how they responded with design concepts through sketches\, diagrams\, prototypes and mockups. \nProjects will be on display May 5–May 16\, 2026
URL:https://wheatoncollege.edu/event/2026-design-capstone-poster-display/2027-03-06/
LOCATION:Haas Concourse and Lobby\, Watson Fine Arts
CATEGORIES:Academic,Arts
ORGANIZER;CN="Arts at Wheaton":MAILTO:kuszaj_jessica@wheatoncollege.edu
END:VEVENT
BEGIN:VEVENT
DTSTART;VALUE=DATE:20270307
DTEND;VALUE=DATE:20270308
DTSTAMP:20260423T002720
CREATED:20260422T184751Z
LAST-MODIFIED:20260422T184751Z
UID:10010567-1804377600-1804463999@wheatoncollege.edu
SUMMARY:2026 Design Capstone poster display
DESCRIPTION:The design capstone is a chance for senior design majors to apply their knowledge and skills to a topic of their choice. Posters show and explain what students investigated and why\, the steps they took to add depth to their understanding and how they responded with design concepts through sketches\, diagrams\, prototypes and mockups. \nProjects will be on display May 5–May 16\, 2026
URL:https://wheatoncollege.edu/event/2026-design-capstone-poster-display/2027-03-07/
LOCATION:Haas Concourse and Lobby\, Watson Fine Arts
CATEGORIES:Academic,Arts
ORGANIZER;CN="Arts at Wheaton":MAILTO:kuszaj_jessica@wheatoncollege.edu
END:VEVENT
BEGIN:VEVENT
DTSTART;VALUE=DATE:20270308
DTEND;VALUE=DATE:20270309
DTSTAMP:20260423T002720
CREATED:20260422T184751Z
LAST-MODIFIED:20260422T184751Z
UID:10010568-1804464000-1804550399@wheatoncollege.edu
SUMMARY:2026 Design Capstone poster display
DESCRIPTION:The design capstone is a chance for senior design majors to apply their knowledge and skills to a topic of their choice. Posters show and explain what students investigated and why\, the steps they took to add depth to their understanding and how they responded with design concepts through sketches\, diagrams\, prototypes and mockups. \nProjects will be on display May 5–May 16\, 2026
URL:https://wheatoncollege.edu/event/2026-design-capstone-poster-display/2027-03-08/
LOCATION:Haas Concourse and Lobby\, Watson Fine Arts
CATEGORIES:Academic,Arts
ORGANIZER;CN="Arts at Wheaton":MAILTO:kuszaj_jessica@wheatoncollege.edu
END:VEVENT
BEGIN:VEVENT
DTSTART;VALUE=DATE:20270309
DTEND;VALUE=DATE:20270310
DTSTAMP:20260423T002720
CREATED:20260422T184751Z
LAST-MODIFIED:20260422T184751Z
UID:10010569-1804550400-1804636799@wheatoncollege.edu
SUMMARY:2026 Design Capstone poster display
DESCRIPTION:The design capstone is a chance for senior design majors to apply their knowledge and skills to a topic of their choice. Posters show and explain what students investigated and why\, the steps they took to add depth to their understanding and how they responded with design concepts through sketches\, diagrams\, prototypes and mockups. \nProjects will be on display May 5–May 16\, 2026
URL:https://wheatoncollege.edu/event/2026-design-capstone-poster-display/2027-03-09/
LOCATION:Haas Concourse and Lobby\, Watson Fine Arts
CATEGORIES:Academic,Arts
ORGANIZER;CN="Arts at Wheaton":MAILTO:kuszaj_jessica@wheatoncollege.edu
END:VEVENT
BEGIN:VEVENT
DTSTART;VALUE=DATE:20270310
DTEND;VALUE=DATE:20270311
DTSTAMP:20260423T002720
CREATED:20260422T184751Z
LAST-MODIFIED:20260422T184751Z
UID:10010570-1804636800-1804723199@wheatoncollege.edu
SUMMARY:2026 Design Capstone poster display
DESCRIPTION:The design capstone is a chance for senior design majors to apply their knowledge and skills to a topic of their choice. Posters show and explain what students investigated and why\, the steps they took to add depth to their understanding and how they responded with design concepts through sketches\, diagrams\, prototypes and mockups. \nProjects will be on display May 5–May 16\, 2026
URL:https://wheatoncollege.edu/event/2026-design-capstone-poster-display/2027-03-10/
LOCATION:Haas Concourse and Lobby\, Watson Fine Arts
CATEGORIES:Academic,Arts
ORGANIZER;CN="Arts at Wheaton":MAILTO:kuszaj_jessica@wheatoncollege.edu
END:VEVENT
BEGIN:VEVENT
DTSTART;VALUE=DATE:20270311
DTEND;VALUE=DATE:20270312
DTSTAMP:20260423T002720
CREATED:20260422T184751Z
LAST-MODIFIED:20260422T184751Z
UID:10010571-1804723200-1804809599@wheatoncollege.edu
SUMMARY:2026 Design Capstone poster display
DESCRIPTION:The design capstone is a chance for senior design majors to apply their knowledge and skills to a topic of their choice. Posters show and explain what students investigated and why\, the steps they took to add depth to their understanding and how they responded with design concepts through sketches\, diagrams\, prototypes and mockups. \nProjects will be on display May 5–May 16\, 2026
URL:https://wheatoncollege.edu/event/2026-design-capstone-poster-display/2027-03-11/
LOCATION:Haas Concourse and Lobby\, Watson Fine Arts
CATEGORIES:Academic,Arts
ORGANIZER;CN="Arts at Wheaton":MAILTO:kuszaj_jessica@wheatoncollege.edu
END:VEVENT
BEGIN:VEVENT
DTSTART;VALUE=DATE:20270312
DTEND;VALUE=DATE:20270313
DTSTAMP:20260423T002720
CREATED:20260422T184751Z
LAST-MODIFIED:20260422T184751Z
UID:10010572-1804809600-1804895999@wheatoncollege.edu
SUMMARY:2026 Design Capstone poster display
DESCRIPTION:The design capstone is a chance for senior design majors to apply their knowledge and skills to a topic of their choice. Posters show and explain what students investigated and why\, the steps they took to add depth to their understanding and how they responded with design concepts through sketches\, diagrams\, prototypes and mockups. \nProjects will be on display May 5–May 16\, 2026
URL:https://wheatoncollege.edu/event/2026-design-capstone-poster-display/2027-03-12/
LOCATION:Haas Concourse and Lobby\, Watson Fine Arts
CATEGORIES:Academic,Arts
ORGANIZER;CN="Arts at Wheaton":MAILTO:kuszaj_jessica@wheatoncollege.edu
END:VEVENT
BEGIN:VEVENT
DTSTART;VALUE=DATE:20270313
DTEND;VALUE=DATE:20270314
DTSTAMP:20260423T002720
CREATED:20260422T184751Z
LAST-MODIFIED:20260422T184751Z
UID:10010573-1804896000-1804982399@wheatoncollege.edu
SUMMARY:2026 Design Capstone poster display
DESCRIPTION:The design capstone is a chance for senior design majors to apply their knowledge and skills to a topic of their choice. Posters show and explain what students investigated and why\, the steps they took to add depth to their understanding and how they responded with design concepts through sketches\, diagrams\, prototypes and mockups. \nProjects will be on display May 5–May 16\, 2026
URL:https://wheatoncollege.edu/event/2026-design-capstone-poster-display/2027-03-13/
LOCATION:Haas Concourse and Lobby\, Watson Fine Arts
CATEGORIES:Academic,Arts
ORGANIZER;CN="Arts at Wheaton":MAILTO:kuszaj_jessica@wheatoncollege.edu
END:VEVENT
BEGIN:VEVENT
DTSTART;VALUE=DATE:20270314
DTEND;VALUE=DATE:20270316
DTSTAMP:20260423T002720
CREATED:20260422T184751Z
LAST-MODIFIED:20260422T184751Z
UID:10010574-1804982400-1805072399@wheatoncollege.edu
SUMMARY:2026 Design Capstone poster display
DESCRIPTION:The design capstone is a chance for senior design majors to apply their knowledge and skills to a topic of their choice. Posters show and explain what students investigated and why\, the steps they took to add depth to their understanding and how they responded with design concepts through sketches\, diagrams\, prototypes and mockups. \nProjects will be on display May 5–May 16\, 2026
URL:https://wheatoncollege.edu/event/2026-design-capstone-poster-display/2027-03-14/
LOCATION:Haas Concourse and Lobby\, Watson Fine Arts
CATEGORIES:Academic,Arts
ORGANIZER;CN="Arts at Wheaton":MAILTO:kuszaj_jessica@wheatoncollege.edu
END:VEVENT
BEGIN:VEVENT
DTSTART;VALUE=DATE:20270315
DTEND;VALUE=DATE:20270316
DTSTAMP:20260423T002720
CREATED:20260422T184751Z
LAST-MODIFIED:20260422T184751Z
UID:10010575-1805068800-1805155199@wheatoncollege.edu
SUMMARY:2026 Design Capstone poster display
DESCRIPTION:The design capstone is a chance for senior design majors to apply their knowledge and skills to a topic of their choice. Posters show and explain what students investigated and why\, the steps they took to add depth to their understanding and how they responded with design concepts through sketches\, diagrams\, prototypes and mockups. \nProjects will be on display May 5–May 16\, 2026
URL:https://wheatoncollege.edu/event/2026-design-capstone-poster-display/2027-03-15/
LOCATION:Haas Concourse and Lobby\, Watson Fine Arts
CATEGORIES:Academic,Arts
ORGANIZER;CN="Arts at Wheaton":MAILTO:kuszaj_jessica@wheatoncollege.edu
END:VEVENT
BEGIN:VEVENT
DTSTART;VALUE=DATE:20270316
DTEND;VALUE=DATE:20270317
DTSTAMP:20260423T002720
CREATED:20260422T184751Z
LAST-MODIFIED:20260422T184751Z
UID:10010576-1805155200-1805241599@wheatoncollege.edu
SUMMARY:2026 Design Capstone poster display
DESCRIPTION:The design capstone is a chance for senior design majors to apply their knowledge and skills to a topic of their choice. Posters show and explain what students investigated and why\, the steps they took to add depth to their understanding and how they responded with design concepts through sketches\, diagrams\, prototypes and mockups. \nProjects will be on display May 5–May 16\, 2026
URL:https://wheatoncollege.edu/event/2026-design-capstone-poster-display/2027-03-16/
LOCATION:Haas Concourse and Lobby\, Watson Fine Arts
CATEGORIES:Academic,Arts
ORGANIZER;CN="Arts at Wheaton":MAILTO:kuszaj_jessica@wheatoncollege.edu
END:VEVENT
BEGIN:VEVENT
DTSTART;VALUE=DATE:20270317
DTEND;VALUE=DATE:20270318
DTSTAMP:20260423T002720
CREATED:20260422T184751Z
LAST-MODIFIED:20260422T184751Z
UID:10010577-1805241600-1805327999@wheatoncollege.edu
SUMMARY:2026 Design Capstone poster display
DESCRIPTION:The design capstone is a chance for senior design majors to apply their knowledge and skills to a topic of their choice. Posters show and explain what students investigated and why\, the steps they took to add depth to their understanding and how they responded with design concepts through sketches\, diagrams\, prototypes and mockups. \nProjects will be on display May 5–May 16\, 2026
URL:https://wheatoncollege.edu/event/2026-design-capstone-poster-display/2027-03-17/
LOCATION:Haas Concourse and Lobby\, Watson Fine Arts
CATEGORIES:Academic,Arts
ORGANIZER;CN="Arts at Wheaton":MAILTO:kuszaj_jessica@wheatoncollege.edu
END:VEVENT
BEGIN:VEVENT
DTSTART;VALUE=DATE:20270318
DTEND;VALUE=DATE:20270319
DTSTAMP:20260423T002720
CREATED:20260422T184751Z
LAST-MODIFIED:20260422T184751Z
UID:10010578-1805328000-1805414399@wheatoncollege.edu
SUMMARY:2026 Design Capstone poster display
DESCRIPTION:The design capstone is a chance for senior design majors to apply their knowledge and skills to a topic of their choice. Posters show and explain what students investigated and why\, the steps they took to add depth to their understanding and how they responded with design concepts through sketches\, diagrams\, prototypes and mockups. \nProjects will be on display May 5–May 16\, 2026
URL:https://wheatoncollege.edu/event/2026-design-capstone-poster-display/2027-03-18/
LOCATION:Haas Concourse and Lobby\, Watson Fine Arts
CATEGORIES:Academic,Arts
ORGANIZER;CN="Arts at Wheaton":MAILTO:kuszaj_jessica@wheatoncollege.edu
END:VEVENT
BEGIN:VEVENT
DTSTART;VALUE=DATE:20270319
DTEND;VALUE=DATE:20270320
DTSTAMP:20260423T002720
CREATED:20260422T184751Z
LAST-MODIFIED:20260422T184751Z
UID:10010579-1805414400-1805500799@wheatoncollege.edu
SUMMARY:2026 Design Capstone poster display
DESCRIPTION:The design capstone is a chance for senior design majors to apply their knowledge and skills to a topic of their choice. Posters show and explain what students investigated and why\, the steps they took to add depth to their understanding and how they responded with design concepts through sketches\, diagrams\, prototypes and mockups. \nProjects will be on display May 5–May 16\, 2026
URL:https://wheatoncollege.edu/event/2026-design-capstone-poster-display/2027-03-19/
LOCATION:Haas Concourse and Lobby\, Watson Fine Arts
CATEGORIES:Academic,Arts
ORGANIZER;CN="Arts at Wheaton":MAILTO:kuszaj_jessica@wheatoncollege.edu
END:VEVENT
BEGIN:VEVENT
DTSTART;VALUE=DATE:20270320
DTEND;VALUE=DATE:20270321
DTSTAMP:20260423T002720
CREATED:20260422T184751Z
LAST-MODIFIED:20260422T184751Z
UID:10010580-1805500800-1805587199@wheatoncollege.edu
SUMMARY:2026 Design Capstone poster display
DESCRIPTION:The design capstone is a chance for senior design majors to apply their knowledge and skills to a topic of their choice. Posters show and explain what students investigated and why\, the steps they took to add depth to their understanding and how they responded with design concepts through sketches\, diagrams\, prototypes and mockups. \nProjects will be on display May 5–May 16\, 2026
URL:https://wheatoncollege.edu/event/2026-design-capstone-poster-display/2027-03-20/
LOCATION:Haas Concourse and Lobby\, Watson Fine Arts
CATEGORIES:Academic,Arts
ORGANIZER;CN="Arts at Wheaton":MAILTO:kuszaj_jessica@wheatoncollege.edu
END:VEVENT
BEGIN:VEVENT
DTSTART;VALUE=DATE:20270321
DTEND;VALUE=DATE:20270322
DTSTAMP:20260423T002720
CREATED:20260422T184751Z
LAST-MODIFIED:20260422T184751Z
UID:10010581-1805587200-1805673599@wheatoncollege.edu
SUMMARY:2026 Design Capstone poster display
DESCRIPTION:The design capstone is a chance for senior design majors to apply their knowledge and skills to a topic of their choice. Posters show and explain what students investigated and why\, the steps they took to add depth to their understanding and how they responded with design concepts through sketches\, diagrams\, prototypes and mockups. \nProjects will be on display May 5–May 16\, 2026
URL:https://wheatoncollege.edu/event/2026-design-capstone-poster-display/2027-03-21/
LOCATION:Haas Concourse and Lobby\, Watson Fine Arts
CATEGORIES:Academic,Arts
ORGANIZER;CN="Arts at Wheaton":MAILTO:kuszaj_jessica@wheatoncollege.edu
END:VEVENT
BEGIN:VEVENT
DTSTART;VALUE=DATE:20270322
DTEND;VALUE=DATE:20270323
DTSTAMP:20260423T002720
CREATED:20260422T184751Z
LAST-MODIFIED:20260422T184751Z
UID:10010582-1805673600-1805759999@wheatoncollege.edu
SUMMARY:2026 Design Capstone poster display
DESCRIPTION:The design capstone is a chance for senior design majors to apply their knowledge and skills to a topic of their choice. Posters show and explain what students investigated and why\, the steps they took to add depth to their understanding and how they responded with design concepts through sketches\, diagrams\, prototypes and mockups. \nProjects will be on display May 5–May 16\, 2026
URL:https://wheatoncollege.edu/event/2026-design-capstone-poster-display/2027-03-22/
LOCATION:Haas Concourse and Lobby\, Watson Fine Arts
CATEGORIES:Academic,Arts
ORGANIZER;CN="Arts at Wheaton":MAILTO:kuszaj_jessica@wheatoncollege.edu
END:VEVENT
BEGIN:VEVENT
DTSTART;VALUE=DATE:20270323
DTEND;VALUE=DATE:20270324
DTSTAMP:20260423T002720
CREATED:20260422T184751Z
LAST-MODIFIED:20260422T184751Z
UID:10010583-1805760000-1805846399@wheatoncollege.edu
SUMMARY:2026 Design Capstone poster display
DESCRIPTION:The design capstone is a chance for senior design majors to apply their knowledge and skills to a topic of their choice. Posters show and explain what students investigated and why\, the steps they took to add depth to their understanding and how they responded with design concepts through sketches\, diagrams\, prototypes and mockups. \nProjects will be on display May 5–May 16\, 2026
URL:https://wheatoncollege.edu/event/2026-design-capstone-poster-display/2027-03-23/
LOCATION:Haas Concourse and Lobby\, Watson Fine Arts
CATEGORIES:Academic,Arts
ORGANIZER;CN="Arts at Wheaton":MAILTO:kuszaj_jessica@wheatoncollege.edu
END:VEVENT
BEGIN:VEVENT
DTSTART;VALUE=DATE:20270324
DTEND;VALUE=DATE:20270325
DTSTAMP:20260423T002720
CREATED:20260422T184751Z
LAST-MODIFIED:20260422T184751Z
UID:10010584-1805846400-1805932799@wheatoncollege.edu
SUMMARY:2026 Design Capstone poster display
DESCRIPTION:The design capstone is a chance for senior design majors to apply their knowledge and skills to a topic of their choice. Posters show and explain what students investigated and why\, the steps they took to add depth to their understanding and how they responded with design concepts through sketches\, diagrams\, prototypes and mockups. \nProjects will be on display May 5–May 16\, 2026
URL:https://wheatoncollege.edu/event/2026-design-capstone-poster-display/2027-03-24/
LOCATION:Haas Concourse and Lobby\, Watson Fine Arts
CATEGORIES:Academic,Arts
ORGANIZER;CN="Arts at Wheaton":MAILTO:kuszaj_jessica@wheatoncollege.edu
END:VEVENT
BEGIN:VEVENT
DTSTART;VALUE=DATE:20270325
DTEND;VALUE=DATE:20270326
DTSTAMP:20260423T002720
CREATED:20260422T184751Z
LAST-MODIFIED:20260422T184751Z
UID:10010585-1805932800-1806019199@wheatoncollege.edu
SUMMARY:2026 Design Capstone poster display
DESCRIPTION:The design capstone is a chance for senior design majors to apply their knowledge and skills to a topic of their choice. Posters show and explain what students investigated and why\, the steps they took to add depth to their understanding and how they responded with design concepts through sketches\, diagrams\, prototypes and mockups. \nProjects will be on display May 5–May 16\, 2026
URL:https://wheatoncollege.edu/event/2026-design-capstone-poster-display/2027-03-25/
LOCATION:Haas Concourse and Lobby\, Watson Fine Arts
CATEGORIES:Academic,Arts
ORGANIZER;CN="Arts at Wheaton":MAILTO:kuszaj_jessica@wheatoncollege.edu
END:VEVENT
BEGIN:VEVENT
DTSTART;VALUE=DATE:20270326
DTEND;VALUE=DATE:20270327
DTSTAMP:20260423T002720
CREATED:20260422T184751Z
LAST-MODIFIED:20260422T184751Z
UID:10010586-1806019200-1806105599@wheatoncollege.edu
SUMMARY:2026 Design Capstone poster display
DESCRIPTION:The design capstone is a chance for senior design majors to apply their knowledge and skills to a topic of their choice. Posters show and explain what students investigated and why\, the steps they took to add depth to their understanding and how they responded with design concepts through sketches\, diagrams\, prototypes and mockups. \nProjects will be on display May 5–May 16\, 2026
URL:https://wheatoncollege.edu/event/2026-design-capstone-poster-display/2027-03-26/
LOCATION:Haas Concourse and Lobby\, Watson Fine Arts
CATEGORIES:Academic,Arts
ORGANIZER;CN="Arts at Wheaton":MAILTO:kuszaj_jessica@wheatoncollege.edu
END:VEVENT
BEGIN:VEVENT
DTSTART;VALUE=DATE:20270327
DTEND;VALUE=DATE:20270328
DTSTAMP:20260423T002720
CREATED:20260422T184751Z
LAST-MODIFIED:20260422T184751Z
UID:10010587-1806105600-1806191999@wheatoncollege.edu
SUMMARY:2026 Design Capstone poster display
DESCRIPTION:The design capstone is a chance for senior design majors to apply their knowledge and skills to a topic of their choice. Posters show and explain what students investigated and why\, the steps they took to add depth to their understanding and how they responded with design concepts through sketches\, diagrams\, prototypes and mockups. \nProjects will be on display May 5–May 16\, 2026
URL:https://wheatoncollege.edu/event/2026-design-capstone-poster-display/2027-03-27/
LOCATION:Haas Concourse and Lobby\, Watson Fine Arts
CATEGORIES:Academic,Arts
ORGANIZER;CN="Arts at Wheaton":MAILTO:kuszaj_jessica@wheatoncollege.edu
END:VEVENT
BEGIN:VEVENT
DTSTART;VALUE=DATE:20270328
DTEND;VALUE=DATE:20270329
DTSTAMP:20260423T002720
CREATED:20260422T184751Z
LAST-MODIFIED:20260422T184751Z
UID:10010588-1806192000-1806278399@wheatoncollege.edu
SUMMARY:2026 Design Capstone poster display
DESCRIPTION:The design capstone is a chance for senior design majors to apply their knowledge and skills to a topic of their choice. Posters show and explain what students investigated and why\, the steps they took to add depth to their understanding and how they responded with design concepts through sketches\, diagrams\, prototypes and mockups. \nProjects will be on display May 5–May 16\, 2026
URL:https://wheatoncollege.edu/event/2026-design-capstone-poster-display/2027-03-28/
LOCATION:Haas Concourse and Lobby\, Watson Fine Arts
CATEGORIES:Academic,Arts
ORGANIZER;CN="Arts at Wheaton":MAILTO:kuszaj_jessica@wheatoncollege.edu
END:VEVENT
BEGIN:VEVENT
DTSTART;VALUE=DATE:20270329
DTEND;VALUE=DATE:20270330
DTSTAMP:20260423T002720
CREATED:20260422T184751Z
LAST-MODIFIED:20260422T184751Z
UID:10010589-1806278400-1806364799@wheatoncollege.edu
SUMMARY:2026 Design Capstone poster display
DESCRIPTION:The design capstone is a chance for senior design majors to apply their knowledge and skills to a topic of their choice. Posters show and explain what students investigated and why\, the steps they took to add depth to their understanding and how they responded with design concepts through sketches\, diagrams\, prototypes and mockups. \nProjects will be on display May 5–May 16\, 2026
URL:https://wheatoncollege.edu/event/2026-design-capstone-poster-display/2027-03-29/
LOCATION:Haas Concourse and Lobby\, Watson Fine Arts
CATEGORIES:Academic,Arts
ORGANIZER;CN="Arts at Wheaton":MAILTO:kuszaj_jessica@wheatoncollege.edu
END:VEVENT
BEGIN:VEVENT
DTSTART;VALUE=DATE:20270330
DTEND;VALUE=DATE:20270331
DTSTAMP:20260423T002720
CREATED:20260422T184751Z
LAST-MODIFIED:20260422T184751Z
UID:10010590-1806364800-1806451199@wheatoncollege.edu
SUMMARY:2026 Design Capstone poster display
DESCRIPTION:The design capstone is a chance for senior design majors to apply their knowledge and skills to a topic of their choice. Posters show and explain what students investigated and why\, the steps they took to add depth to their understanding and how they responded with design concepts through sketches\, diagrams\, prototypes and mockups. \nProjects will be on display May 5–May 16\, 2026
URL:https://wheatoncollege.edu/event/2026-design-capstone-poster-display/2027-03-30/
LOCATION:Haas Concourse and Lobby\, Watson Fine Arts
CATEGORIES:Academic,Arts
ORGANIZER;CN="Arts at Wheaton":MAILTO:kuszaj_jessica@wheatoncollege.edu
END:VEVENT
BEGIN:VEVENT
DTSTART;VALUE=DATE:20270331
DTEND;VALUE=DATE:20270401
DTSTAMP:20260423T002720
CREATED:20260422T184751Z
LAST-MODIFIED:20260422T184751Z
UID:10010591-1806451200-1806537599@wheatoncollege.edu
SUMMARY:2026 Design Capstone poster display
DESCRIPTION:The design capstone is a chance for senior design majors to apply their knowledge and skills to a topic of their choice. Posters show and explain what students investigated and why\, the steps they took to add depth to their understanding and how they responded with design concepts through sketches\, diagrams\, prototypes and mockups. \nProjects will be on display May 5–May 16\, 2026
URL:https://wheatoncollege.edu/event/2026-design-capstone-poster-display/2027-03-31/
LOCATION:Haas Concourse and Lobby\, Watson Fine Arts
CATEGORIES:Academic,Arts
ORGANIZER;CN="Arts at Wheaton":MAILTO:kuszaj_jessica@wheatoncollege.edu
END:VEVENT
BEGIN:VEVENT
DTSTART;VALUE=DATE:20270401
DTEND;VALUE=DATE:20270402
DTSTAMP:20260423T002720
CREATED:20260422T184751Z
LAST-MODIFIED:20260422T184751Z
UID:10010592-1806537600-1806623999@wheatoncollege.edu
SUMMARY:2026 Design Capstone poster display
DESCRIPTION:The design capstone is a chance for senior design majors to apply their knowledge and skills to a topic of their choice. Posters show and explain what students investigated and why\, the steps they took to add depth to their understanding and how they responded with design concepts through sketches\, diagrams\, prototypes and mockups. \nProjects will be on display May 5–May 16\, 2026
URL:https://wheatoncollege.edu/event/2026-design-capstone-poster-display/2027-04-01/
LOCATION:Haas Concourse and Lobby\, Watson Fine Arts
CATEGORIES:Academic,Arts
ORGANIZER;CN="Arts at Wheaton":MAILTO:kuszaj_jessica@wheatoncollege.edu
END:VEVENT
END:VCALENDAR