	BEGIN:VCALENDAR
VERSION:2.0
PRODID:-//Wheaton College Massachusetts - ECPv6.15.17.1//NONSGML v1.0//EN
CALSCALE:GREGORIAN
METHOD:PUBLISH
X-WR-CALNAME:Wheaton College Massachusetts
X-ORIGINAL-URL:https://wheatoncollege.edu
X-WR-CALDESC:Events for Wheaton College Massachusetts
REFRESH-INTERVAL;VALUE=DURATION:PT1H
X-Robots-Tag:noindex
X-PUBLISHED-TTL:PT1H
BEGIN:VTIMEZONE
TZID:America/New_York
BEGIN:DAYLIGHT
TZOFFSETFROM:-0500
TZOFFSETTO:-0400
TZNAME:EDT
DTSTART:20250309T070000
END:DAYLIGHT
BEGIN:STANDARD
TZOFFSETFROM:-0400
TZOFFSETTO:-0500
TZNAME:EST
DTSTART:20251102T060000
END:STANDARD
BEGIN:DAYLIGHT
TZOFFSETFROM:-0500
TZOFFSETTO:-0400
TZNAME:EDT
DTSTART:20260308T070000
END:DAYLIGHT
BEGIN:STANDARD
TZOFFSETFROM:-0400
TZOFFSETTO:-0500
TZNAME:EST
DTSTART:20261101T060000
END:STANDARD
BEGIN:DAYLIGHT
TZOFFSETFROM:-0500
TZOFFSETTO:-0400
TZNAME:EDT
DTSTART:20270314T070000
END:DAYLIGHT
BEGIN:STANDARD
TZOFFSETFROM:-0400
TZOFFSETTO:-0500
TZNAME:EST
DTSTART:20271107T060000
END:STANDARD
END:VTIMEZONE
BEGIN:VEVENT
DTSTART;VALUE=DATE:20261118
DTEND;VALUE=DATE:20261119
DTSTAMP:20260423T075430
CREATED:20260422T184751Z
LAST-MODIFIED:20260422T184751Z
UID:10010458-1794960000-1795046399@wheatoncollege.edu
SUMMARY:2026 Design Capstone poster display
DESCRIPTION:The design capstone is a chance for senior design majors to apply their knowledge and skills to a topic of their choice. Posters show and explain what students investigated and why\, the steps they took to add depth to their understanding and how they responded with design concepts through sketches\, diagrams\, prototypes and mockups. \nProjects will be on display May 5–May 16\, 2026
URL:https://wheatoncollege.edu/event/2026-design-capstone-poster-display/2026-11-18/
LOCATION:Haas Concourse and Lobby\, Watson Fine Arts
CATEGORIES:Academic,Arts
ORGANIZER;CN="Arts at Wheaton":MAILTO:kuszaj_jessica@wheatoncollege.edu
END:VEVENT
BEGIN:VEVENT
DTSTART;VALUE=DATE:20261119
DTEND;VALUE=DATE:20261120
DTSTAMP:20260423T075430
CREATED:20260422T184751Z
LAST-MODIFIED:20260422T184751Z
UID:10010459-1795046400-1795132799@wheatoncollege.edu
SUMMARY:2026 Design Capstone poster display
DESCRIPTION:The design capstone is a chance for senior design majors to apply their knowledge and skills to a topic of their choice. Posters show and explain what students investigated and why\, the steps they took to add depth to their understanding and how they responded with design concepts through sketches\, diagrams\, prototypes and mockups. \nProjects will be on display May 5–May 16\, 2026
URL:https://wheatoncollege.edu/event/2026-design-capstone-poster-display/2026-11-19/
LOCATION:Haas Concourse and Lobby\, Watson Fine Arts
CATEGORIES:Academic,Arts
ORGANIZER;CN="Arts at Wheaton":MAILTO:kuszaj_jessica@wheatoncollege.edu
END:VEVENT
BEGIN:VEVENT
DTSTART;VALUE=DATE:20261120
DTEND;VALUE=DATE:20261121
DTSTAMP:20260423T075430
CREATED:20260422T184751Z
LAST-MODIFIED:20260422T184751Z
UID:10010460-1795132800-1795219199@wheatoncollege.edu
SUMMARY:2026 Design Capstone poster display
DESCRIPTION:The design capstone is a chance for senior design majors to apply their knowledge and skills to a topic of their choice. Posters show and explain what students investigated and why\, the steps they took to add depth to their understanding and how they responded with design concepts through sketches\, diagrams\, prototypes and mockups. \nProjects will be on display May 5–May 16\, 2026
URL:https://wheatoncollege.edu/event/2026-design-capstone-poster-display/2026-11-20/
LOCATION:Haas Concourse and Lobby\, Watson Fine Arts
CATEGORIES:Academic,Arts
ORGANIZER;CN="Arts at Wheaton":MAILTO:kuszaj_jessica@wheatoncollege.edu
END:VEVENT
BEGIN:VEVENT
DTSTART;VALUE=DATE:20261121
DTEND;VALUE=DATE:20261122
DTSTAMP:20260423T075430
CREATED:20260422T184751Z
LAST-MODIFIED:20260422T184751Z
UID:10010461-1795219200-1795305599@wheatoncollege.edu
SUMMARY:2026 Design Capstone poster display
DESCRIPTION:The design capstone is a chance for senior design majors to apply their knowledge and skills to a topic of their choice. Posters show and explain what students investigated and why\, the steps they took to add depth to their understanding and how they responded with design concepts through sketches\, diagrams\, prototypes and mockups. \nProjects will be on display May 5–May 16\, 2026
URL:https://wheatoncollege.edu/event/2026-design-capstone-poster-display/2026-11-21/
LOCATION:Haas Concourse and Lobby\, Watson Fine Arts
CATEGORIES:Academic,Arts
ORGANIZER;CN="Arts at Wheaton":MAILTO:kuszaj_jessica@wheatoncollege.edu
END:VEVENT
BEGIN:VEVENT
DTSTART;VALUE=DATE:20261122
DTEND;VALUE=DATE:20261123
DTSTAMP:20260423T075430
CREATED:20260422T184751Z
LAST-MODIFIED:20260422T184751Z
UID:10010462-1795305600-1795391999@wheatoncollege.edu
SUMMARY:2026 Design Capstone poster display
DESCRIPTION:The design capstone is a chance for senior design majors to apply their knowledge and skills to a topic of their choice. Posters show and explain what students investigated and why\, the steps they took to add depth to their understanding and how they responded with design concepts through sketches\, diagrams\, prototypes and mockups. \nProjects will be on display May 5–May 16\, 2026
URL:https://wheatoncollege.edu/event/2026-design-capstone-poster-display/2026-11-22/
LOCATION:Haas Concourse and Lobby\, Watson Fine Arts
CATEGORIES:Academic,Arts
ORGANIZER;CN="Arts at Wheaton":MAILTO:kuszaj_jessica@wheatoncollege.edu
END:VEVENT
BEGIN:VEVENT
DTSTART;VALUE=DATE:20261123
DTEND;VALUE=DATE:20261124
DTSTAMP:20260423T075430
CREATED:20260422T184751Z
LAST-MODIFIED:20260422T184751Z
UID:10010463-1795392000-1795478399@wheatoncollege.edu
SUMMARY:2026 Design Capstone poster display
DESCRIPTION:The design capstone is a chance for senior design majors to apply their knowledge and skills to a topic of their choice. Posters show and explain what students investigated and why\, the steps they took to add depth to their understanding and how they responded with design concepts through sketches\, diagrams\, prototypes and mockups. \nProjects will be on display May 5–May 16\, 2026
URL:https://wheatoncollege.edu/event/2026-design-capstone-poster-display/2026-11-23/
LOCATION:Haas Concourse and Lobby\, Watson Fine Arts
CATEGORIES:Academic,Arts
ORGANIZER;CN="Arts at Wheaton":MAILTO:kuszaj_jessica@wheatoncollege.edu
END:VEVENT
BEGIN:VEVENT
DTSTART;VALUE=DATE:20261124
DTEND;VALUE=DATE:20261125
DTSTAMP:20260423T075430
CREATED:20260422T184751Z
LAST-MODIFIED:20260422T184751Z
UID:10010464-1795478400-1795564799@wheatoncollege.edu
SUMMARY:2026 Design Capstone poster display
DESCRIPTION:The design capstone is a chance for senior design majors to apply their knowledge and skills to a topic of their choice. Posters show and explain what students investigated and why\, the steps they took to add depth to their understanding and how they responded with design concepts through sketches\, diagrams\, prototypes and mockups. \nProjects will be on display May 5–May 16\, 2026
URL:https://wheatoncollege.edu/event/2026-design-capstone-poster-display/2026-11-24/
LOCATION:Haas Concourse and Lobby\, Watson Fine Arts
CATEGORIES:Academic,Arts
ORGANIZER;CN="Arts at Wheaton":MAILTO:kuszaj_jessica@wheatoncollege.edu
END:VEVENT
BEGIN:VEVENT
DTSTART;VALUE=DATE:20261125
DTEND;VALUE=DATE:20261126
DTSTAMP:20260423T075430
CREATED:20260422T184751Z
LAST-MODIFIED:20260422T184751Z
UID:10010465-1795564800-1795651199@wheatoncollege.edu
SUMMARY:2026 Design Capstone poster display
DESCRIPTION:The design capstone is a chance for senior design majors to apply their knowledge and skills to a topic of their choice. Posters show and explain what students investigated and why\, the steps they took to add depth to their understanding and how they responded with design concepts through sketches\, diagrams\, prototypes and mockups. \nProjects will be on display May 5–May 16\, 2026
URL:https://wheatoncollege.edu/event/2026-design-capstone-poster-display/2026-11-25/
LOCATION:Haas Concourse and Lobby\, Watson Fine Arts
CATEGORIES:Academic,Arts
ORGANIZER;CN="Arts at Wheaton":MAILTO:kuszaj_jessica@wheatoncollege.edu
END:VEVENT
BEGIN:VEVENT
DTSTART;VALUE=DATE:20261126
DTEND;VALUE=DATE:20261127
DTSTAMP:20260423T075430
CREATED:20260422T184751Z
LAST-MODIFIED:20260422T184751Z
UID:10010466-1795651200-1795737599@wheatoncollege.edu
SUMMARY:2026 Design Capstone poster display
DESCRIPTION:The design capstone is a chance for senior design majors to apply their knowledge and skills to a topic of their choice. Posters show and explain what students investigated and why\, the steps they took to add depth to their understanding and how they responded with design concepts through sketches\, diagrams\, prototypes and mockups. \nProjects will be on display May 5–May 16\, 2026
URL:https://wheatoncollege.edu/event/2026-design-capstone-poster-display/2026-11-26/
LOCATION:Haas Concourse and Lobby\, Watson Fine Arts
CATEGORIES:Academic,Arts
ORGANIZER;CN="Arts at Wheaton":MAILTO:kuszaj_jessica@wheatoncollege.edu
END:VEVENT
BEGIN:VEVENT
DTSTART;VALUE=DATE:20261127
DTEND;VALUE=DATE:20261128
DTSTAMP:20260423T075430
CREATED:20260422T184751Z
LAST-MODIFIED:20260422T184751Z
UID:10010467-1795737600-1795823999@wheatoncollege.edu
SUMMARY:2026 Design Capstone poster display
DESCRIPTION:The design capstone is a chance for senior design majors to apply their knowledge and skills to a topic of their choice. Posters show and explain what students investigated and why\, the steps they took to add depth to their understanding and how they responded with design concepts through sketches\, diagrams\, prototypes and mockups. \nProjects will be on display May 5–May 16\, 2026
URL:https://wheatoncollege.edu/event/2026-design-capstone-poster-display/2026-11-27/
LOCATION:Haas Concourse and Lobby\, Watson Fine Arts
CATEGORIES:Academic,Arts
ORGANIZER;CN="Arts at Wheaton":MAILTO:kuszaj_jessica@wheatoncollege.edu
END:VEVENT
BEGIN:VEVENT
DTSTART;VALUE=DATE:20261128
DTEND;VALUE=DATE:20261129
DTSTAMP:20260423T075430
CREATED:20260422T184751Z
LAST-MODIFIED:20260422T184751Z
UID:10010468-1795824000-1795910399@wheatoncollege.edu
SUMMARY:2026 Design Capstone poster display
DESCRIPTION:The design capstone is a chance for senior design majors to apply their knowledge and skills to a topic of their choice. Posters show and explain what students investigated and why\, the steps they took to add depth to their understanding and how they responded with design concepts through sketches\, diagrams\, prototypes and mockups. \nProjects will be on display May 5–May 16\, 2026
URL:https://wheatoncollege.edu/event/2026-design-capstone-poster-display/2026-11-28/
LOCATION:Haas Concourse and Lobby\, Watson Fine Arts
CATEGORIES:Academic,Arts
ORGANIZER;CN="Arts at Wheaton":MAILTO:kuszaj_jessica@wheatoncollege.edu
END:VEVENT
BEGIN:VEVENT
DTSTART;VALUE=DATE:20261129
DTEND;VALUE=DATE:20261130
DTSTAMP:20260423T075430
CREATED:20260422T184751Z
LAST-MODIFIED:20260422T184751Z
UID:10010469-1795910400-1795996799@wheatoncollege.edu
SUMMARY:2026 Design Capstone poster display
DESCRIPTION:The design capstone is a chance for senior design majors to apply their knowledge and skills to a topic of their choice. Posters show and explain what students investigated and why\, the steps they took to add depth to their understanding and how they responded with design concepts through sketches\, diagrams\, prototypes and mockups. \nProjects will be on display May 5–May 16\, 2026
URL:https://wheatoncollege.edu/event/2026-design-capstone-poster-display/2026-11-29/
LOCATION:Haas Concourse and Lobby\, Watson Fine Arts
CATEGORIES:Academic,Arts
ORGANIZER;CN="Arts at Wheaton":MAILTO:kuszaj_jessica@wheatoncollege.edu
END:VEVENT
BEGIN:VEVENT
DTSTART;VALUE=DATE:20261130
DTEND;VALUE=DATE:20261201
DTSTAMP:20260423T075430
CREATED:20260422T184751Z
LAST-MODIFIED:20260422T184751Z
UID:10010470-1795996800-1796083199@wheatoncollege.edu
SUMMARY:2026 Design Capstone poster display
DESCRIPTION:The design capstone is a chance for senior design majors to apply their knowledge and skills to a topic of their choice. Posters show and explain what students investigated and why\, the steps they took to add depth to their understanding and how they responded with design concepts through sketches\, diagrams\, prototypes and mockups. \nProjects will be on display May 5–May 16\, 2026
URL:https://wheatoncollege.edu/event/2026-design-capstone-poster-display/2026-11-30/
LOCATION:Haas Concourse and Lobby\, Watson Fine Arts
CATEGORIES:Academic,Arts
ORGANIZER;CN="Arts at Wheaton":MAILTO:kuszaj_jessica@wheatoncollege.edu
END:VEVENT
BEGIN:VEVENT
DTSTART;VALUE=DATE:20261201
DTEND;VALUE=DATE:20261202
DTSTAMP:20260423T075430
CREATED:20260422T184751Z
LAST-MODIFIED:20260422T184751Z
UID:10010471-1796083200-1796169599@wheatoncollege.edu
SUMMARY:2026 Design Capstone poster display
DESCRIPTION:The design capstone is a chance for senior design majors to apply their knowledge and skills to a topic of their choice. Posters show and explain what students investigated and why\, the steps they took to add depth to their understanding and how they responded with design concepts through sketches\, diagrams\, prototypes and mockups. \nProjects will be on display May 5–May 16\, 2026
URL:https://wheatoncollege.edu/event/2026-design-capstone-poster-display/2026-12-01/
LOCATION:Haas Concourse and Lobby\, Watson Fine Arts
CATEGORIES:Academic,Arts
ORGANIZER;CN="Arts at Wheaton":MAILTO:kuszaj_jessica@wheatoncollege.edu
END:VEVENT
BEGIN:VEVENT
DTSTART;VALUE=DATE:20261202
DTEND;VALUE=DATE:20261203
DTSTAMP:20260423T075430
CREATED:20260422T184751Z
LAST-MODIFIED:20260422T184751Z
UID:10010472-1796169600-1796255999@wheatoncollege.edu
SUMMARY:2026 Design Capstone poster display
DESCRIPTION:The design capstone is a chance for senior design majors to apply their knowledge and skills to a topic of their choice. Posters show and explain what students investigated and why\, the steps they took to add depth to their understanding and how they responded with design concepts through sketches\, diagrams\, prototypes and mockups. \nProjects will be on display May 5–May 16\, 2026
URL:https://wheatoncollege.edu/event/2026-design-capstone-poster-display/2026-12-02/
LOCATION:Haas Concourse and Lobby\, Watson Fine Arts
CATEGORIES:Academic,Arts
ORGANIZER;CN="Arts at Wheaton":MAILTO:kuszaj_jessica@wheatoncollege.edu
END:VEVENT
BEGIN:VEVENT
DTSTART;VALUE=DATE:20261203
DTEND;VALUE=DATE:20261204
DTSTAMP:20260423T075430
CREATED:20260422T184751Z
LAST-MODIFIED:20260422T184751Z
UID:10010473-1796256000-1796342399@wheatoncollege.edu
SUMMARY:2026 Design Capstone poster display
DESCRIPTION:The design capstone is a chance for senior design majors to apply their knowledge and skills to a topic of their choice. Posters show and explain what students investigated and why\, the steps they took to add depth to their understanding and how they responded with design concepts through sketches\, diagrams\, prototypes and mockups. \nProjects will be on display May 5–May 16\, 2026
URL:https://wheatoncollege.edu/event/2026-design-capstone-poster-display/2026-12-03/
LOCATION:Haas Concourse and Lobby\, Watson Fine Arts
CATEGORIES:Academic,Arts
ORGANIZER;CN="Arts at Wheaton":MAILTO:kuszaj_jessica@wheatoncollege.edu
END:VEVENT
BEGIN:VEVENT
DTSTART;VALUE=DATE:20261204
DTEND;VALUE=DATE:20261205
DTSTAMP:20260423T075430
CREATED:20260422T184751Z
LAST-MODIFIED:20260422T184751Z
UID:10010474-1796342400-1796428799@wheatoncollege.edu
SUMMARY:2026 Design Capstone poster display
DESCRIPTION:The design capstone is a chance for senior design majors to apply their knowledge and skills to a topic of their choice. Posters show and explain what students investigated and why\, the steps they took to add depth to their understanding and how they responded with design concepts through sketches\, diagrams\, prototypes and mockups. \nProjects will be on display May 5–May 16\, 2026
URL:https://wheatoncollege.edu/event/2026-design-capstone-poster-display/2026-12-04/
LOCATION:Haas Concourse and Lobby\, Watson Fine Arts
CATEGORIES:Academic,Arts
ORGANIZER;CN="Arts at Wheaton":MAILTO:kuszaj_jessica@wheatoncollege.edu
END:VEVENT
BEGIN:VEVENT
DTSTART;VALUE=DATE:20261205
DTEND;VALUE=DATE:20261206
DTSTAMP:20260423T075430
CREATED:20260422T184751Z
LAST-MODIFIED:20260422T184751Z
UID:10010475-1796428800-1796515199@wheatoncollege.edu
SUMMARY:2026 Design Capstone poster display
DESCRIPTION:The design capstone is a chance for senior design majors to apply their knowledge and skills to a topic of their choice. Posters show and explain what students investigated and why\, the steps they took to add depth to their understanding and how they responded with design concepts through sketches\, diagrams\, prototypes and mockups. \nProjects will be on display May 5–May 16\, 2026
URL:https://wheatoncollege.edu/event/2026-design-capstone-poster-display/2026-12-05/
LOCATION:Haas Concourse and Lobby\, Watson Fine Arts
CATEGORIES:Academic,Arts
ORGANIZER;CN="Arts at Wheaton":MAILTO:kuszaj_jessica@wheatoncollege.edu
END:VEVENT
BEGIN:VEVENT
DTSTART;VALUE=DATE:20261206
DTEND;VALUE=DATE:20261207
DTSTAMP:20260423T075430
CREATED:20260422T184751Z
LAST-MODIFIED:20260422T184751Z
UID:10010476-1796515200-1796601599@wheatoncollege.edu
SUMMARY:2026 Design Capstone poster display
DESCRIPTION:The design capstone is a chance for senior design majors to apply their knowledge and skills to a topic of their choice. Posters show and explain what students investigated and why\, the steps they took to add depth to their understanding and how they responded with design concepts through sketches\, diagrams\, prototypes and mockups. \nProjects will be on display May 5–May 16\, 2026
URL:https://wheatoncollege.edu/event/2026-design-capstone-poster-display/2026-12-06/
LOCATION:Haas Concourse and Lobby\, Watson Fine Arts
CATEGORIES:Academic,Arts
ORGANIZER;CN="Arts at Wheaton":MAILTO:kuszaj_jessica@wheatoncollege.edu
END:VEVENT
BEGIN:VEVENT
DTSTART;VALUE=DATE:20261207
DTEND;VALUE=DATE:20261208
DTSTAMP:20260423T075430
CREATED:20260422T184751Z
LAST-MODIFIED:20260422T184751Z
UID:10010477-1796601600-1796687999@wheatoncollege.edu
SUMMARY:2026 Design Capstone poster display
DESCRIPTION:The design capstone is a chance for senior design majors to apply their knowledge and skills to a topic of their choice. Posters show and explain what students investigated and why\, the steps they took to add depth to their understanding and how they responded with design concepts through sketches\, diagrams\, prototypes and mockups. \nProjects will be on display May 5–May 16\, 2026
URL:https://wheatoncollege.edu/event/2026-design-capstone-poster-display/2026-12-07/
LOCATION:Haas Concourse and Lobby\, Watson Fine Arts
CATEGORIES:Academic,Arts
ORGANIZER;CN="Arts at Wheaton":MAILTO:kuszaj_jessica@wheatoncollege.edu
END:VEVENT
BEGIN:VEVENT
DTSTART;VALUE=DATE:20261208
DTEND;VALUE=DATE:20261209
DTSTAMP:20260423T075430
CREATED:20260422T184751Z
LAST-MODIFIED:20260422T184751Z
UID:10010478-1796688000-1796774399@wheatoncollege.edu
SUMMARY:2026 Design Capstone poster display
DESCRIPTION:The design capstone is a chance for senior design majors to apply their knowledge and skills to a topic of their choice. Posters show and explain what students investigated and why\, the steps they took to add depth to their understanding and how they responded with design concepts through sketches\, diagrams\, prototypes and mockups. \nProjects will be on display May 5–May 16\, 2026
URL:https://wheatoncollege.edu/event/2026-design-capstone-poster-display/2026-12-08/
LOCATION:Haas Concourse and Lobby\, Watson Fine Arts
CATEGORIES:Academic,Arts
ORGANIZER;CN="Arts at Wheaton":MAILTO:kuszaj_jessica@wheatoncollege.edu
END:VEVENT
BEGIN:VEVENT
DTSTART;VALUE=DATE:20261209
DTEND;VALUE=DATE:20261210
DTSTAMP:20260423T075430
CREATED:20260422T184751Z
LAST-MODIFIED:20260422T184751Z
UID:10010479-1796774400-1796860799@wheatoncollege.edu
SUMMARY:2026 Design Capstone poster display
DESCRIPTION:The design capstone is a chance for senior design majors to apply their knowledge and skills to a topic of their choice. Posters show and explain what students investigated and why\, the steps they took to add depth to their understanding and how they responded with design concepts through sketches\, diagrams\, prototypes and mockups. \nProjects will be on display May 5–May 16\, 2026
URL:https://wheatoncollege.edu/event/2026-design-capstone-poster-display/2026-12-09/
LOCATION:Haas Concourse and Lobby\, Watson Fine Arts
CATEGORIES:Academic,Arts
ORGANIZER;CN="Arts at Wheaton":MAILTO:kuszaj_jessica@wheatoncollege.edu
END:VEVENT
BEGIN:VEVENT
DTSTART;VALUE=DATE:20261210
DTEND;VALUE=DATE:20261211
DTSTAMP:20260423T075430
CREATED:20260422T184751Z
LAST-MODIFIED:20260422T184751Z
UID:10010480-1796860800-1796947199@wheatoncollege.edu
SUMMARY:2026 Design Capstone poster display
DESCRIPTION:The design capstone is a chance for senior design majors to apply their knowledge and skills to a topic of their choice. Posters show and explain what students investigated and why\, the steps they took to add depth to their understanding and how they responded with design concepts through sketches\, diagrams\, prototypes and mockups. \nProjects will be on display May 5–May 16\, 2026
URL:https://wheatoncollege.edu/event/2026-design-capstone-poster-display/2026-12-10/
LOCATION:Haas Concourse and Lobby\, Watson Fine Arts
CATEGORIES:Academic,Arts
ORGANIZER;CN="Arts at Wheaton":MAILTO:kuszaj_jessica@wheatoncollege.edu
END:VEVENT
BEGIN:VEVENT
DTSTART;VALUE=DATE:20261211
DTEND;VALUE=DATE:20261212
DTSTAMP:20260423T075430
CREATED:20260422T184751Z
LAST-MODIFIED:20260422T184751Z
UID:10010481-1796947200-1797033599@wheatoncollege.edu
SUMMARY:2026 Design Capstone poster display
DESCRIPTION:The design capstone is a chance for senior design majors to apply their knowledge and skills to a topic of their choice. Posters show and explain what students investigated and why\, the steps they took to add depth to their understanding and how they responded with design concepts through sketches\, diagrams\, prototypes and mockups. \nProjects will be on display May 5–May 16\, 2026
URL:https://wheatoncollege.edu/event/2026-design-capstone-poster-display/2026-12-11/
LOCATION:Haas Concourse and Lobby\, Watson Fine Arts
CATEGORIES:Academic,Arts
ORGANIZER;CN="Arts at Wheaton":MAILTO:kuszaj_jessica@wheatoncollege.edu
END:VEVENT
BEGIN:VEVENT
DTSTART;VALUE=DATE:20261212
DTEND;VALUE=DATE:20261213
DTSTAMP:20260423T075430
CREATED:20260422T184751Z
LAST-MODIFIED:20260422T184751Z
UID:10010482-1797033600-1797119999@wheatoncollege.edu
SUMMARY:2026 Design Capstone poster display
DESCRIPTION:The design capstone is a chance for senior design majors to apply their knowledge and skills to a topic of their choice. Posters show and explain what students investigated and why\, the steps they took to add depth to their understanding and how they responded with design concepts through sketches\, diagrams\, prototypes and mockups. \nProjects will be on display May 5–May 16\, 2026
URL:https://wheatoncollege.edu/event/2026-design-capstone-poster-display/2026-12-12/
LOCATION:Haas Concourse and Lobby\, Watson Fine Arts
CATEGORIES:Academic,Arts
ORGANIZER;CN="Arts at Wheaton":MAILTO:kuszaj_jessica@wheatoncollege.edu
END:VEVENT
BEGIN:VEVENT
DTSTART;VALUE=DATE:20261213
DTEND;VALUE=DATE:20261214
DTSTAMP:20260423T075430
CREATED:20260422T184751Z
LAST-MODIFIED:20260422T184751Z
UID:10010483-1797120000-1797206399@wheatoncollege.edu
SUMMARY:2026 Design Capstone poster display
DESCRIPTION:The design capstone is a chance for senior design majors to apply their knowledge and skills to a topic of their choice. Posters show and explain what students investigated and why\, the steps they took to add depth to their understanding and how they responded with design concepts through sketches\, diagrams\, prototypes and mockups. \nProjects will be on display May 5–May 16\, 2026
URL:https://wheatoncollege.edu/event/2026-design-capstone-poster-display/2026-12-13/
LOCATION:Haas Concourse and Lobby\, Watson Fine Arts
CATEGORIES:Academic,Arts
ORGANIZER;CN="Arts at Wheaton":MAILTO:kuszaj_jessica@wheatoncollege.edu
END:VEVENT
BEGIN:VEVENT
DTSTART;VALUE=DATE:20261214
DTEND;VALUE=DATE:20261215
DTSTAMP:20260423T075430
CREATED:20260422T184751Z
LAST-MODIFIED:20260422T184751Z
UID:10010484-1797206400-1797292799@wheatoncollege.edu
SUMMARY:2026 Design Capstone poster display
DESCRIPTION:The design capstone is a chance for senior design majors to apply their knowledge and skills to a topic of their choice. Posters show and explain what students investigated and why\, the steps they took to add depth to their understanding and how they responded with design concepts through sketches\, diagrams\, prototypes and mockups. \nProjects will be on display May 5–May 16\, 2026
URL:https://wheatoncollege.edu/event/2026-design-capstone-poster-display/2026-12-14/
LOCATION:Haas Concourse and Lobby\, Watson Fine Arts
CATEGORIES:Academic,Arts
ORGANIZER;CN="Arts at Wheaton":MAILTO:kuszaj_jessica@wheatoncollege.edu
END:VEVENT
BEGIN:VEVENT
DTSTART;VALUE=DATE:20261215
DTEND;VALUE=DATE:20261216
DTSTAMP:20260423T075430
CREATED:20260422T184751Z
LAST-MODIFIED:20260422T184751Z
UID:10010485-1797292800-1797379199@wheatoncollege.edu
SUMMARY:2026 Design Capstone poster display
DESCRIPTION:The design capstone is a chance for senior design majors to apply their knowledge and skills to a topic of their choice. Posters show and explain what students investigated and why\, the steps they took to add depth to their understanding and how they responded with design concepts through sketches\, diagrams\, prototypes and mockups. \nProjects will be on display May 5–May 16\, 2026
URL:https://wheatoncollege.edu/event/2026-design-capstone-poster-display/2026-12-15/
LOCATION:Haas Concourse and Lobby\, Watson Fine Arts
CATEGORIES:Academic,Arts
ORGANIZER;CN="Arts at Wheaton":MAILTO:kuszaj_jessica@wheatoncollege.edu
END:VEVENT
BEGIN:VEVENT
DTSTART;VALUE=DATE:20261216
DTEND;VALUE=DATE:20261217
DTSTAMP:20260423T075430
CREATED:20260422T184751Z
LAST-MODIFIED:20260422T184751Z
UID:10010486-1797379200-1797465599@wheatoncollege.edu
SUMMARY:2026 Design Capstone poster display
DESCRIPTION:The design capstone is a chance for senior design majors to apply their knowledge and skills to a topic of their choice. Posters show and explain what students investigated and why\, the steps they took to add depth to their understanding and how they responded with design concepts through sketches\, diagrams\, prototypes and mockups. \nProjects will be on display May 5–May 16\, 2026
URL:https://wheatoncollege.edu/event/2026-design-capstone-poster-display/2026-12-16/
LOCATION:Haas Concourse and Lobby\, Watson Fine Arts
CATEGORIES:Academic,Arts
ORGANIZER;CN="Arts at Wheaton":MAILTO:kuszaj_jessica@wheatoncollege.edu
END:VEVENT
BEGIN:VEVENT
DTSTART;VALUE=DATE:20261217
DTEND;VALUE=DATE:20261218
DTSTAMP:20260423T075430
CREATED:20260422T184751Z
LAST-MODIFIED:20260422T184751Z
UID:10010487-1797465600-1797551999@wheatoncollege.edu
SUMMARY:2026 Design Capstone poster display
DESCRIPTION:The design capstone is a chance for senior design majors to apply their knowledge and skills to a topic of their choice. Posters show and explain what students investigated and why\, the steps they took to add depth to their understanding and how they responded with design concepts through sketches\, diagrams\, prototypes and mockups. \nProjects will be on display May 5–May 16\, 2026
URL:https://wheatoncollege.edu/event/2026-design-capstone-poster-display/2026-12-17/
LOCATION:Haas Concourse and Lobby\, Watson Fine Arts
CATEGORIES:Academic,Arts
ORGANIZER;CN="Arts at Wheaton":MAILTO:kuszaj_jessica@wheatoncollege.edu
END:VEVENT
END:VCALENDAR