	BEGIN:VCALENDAR
VERSION:2.0
PRODID:-//Wheaton College Massachusetts - ECPv6.15.17.1//NONSGML v1.0//EN
CALSCALE:GREGORIAN
METHOD:PUBLISH
X-WR-CALNAME:Wheaton College Massachusetts
X-ORIGINAL-URL:https://wheatoncollege.edu
X-WR-CALDESC:Events for Wheaton College Massachusetts
REFRESH-INTERVAL;VALUE=DURATION:PT1H
X-Robots-Tag:noindex
X-PUBLISHED-TTL:PT1H
BEGIN:VTIMEZONE
TZID:America/New_York
BEGIN:DAYLIGHT
TZOFFSETFROM:-0500
TZOFFSETTO:-0400
TZNAME:EDT
DTSTART:20250309T070000
END:DAYLIGHT
BEGIN:STANDARD
TZOFFSETFROM:-0400
TZOFFSETTO:-0500
TZNAME:EST
DTSTART:20251102T060000
END:STANDARD
BEGIN:DAYLIGHT
TZOFFSETFROM:-0500
TZOFFSETTO:-0400
TZNAME:EDT
DTSTART:20260308T070000
END:DAYLIGHT
BEGIN:STANDARD
TZOFFSETFROM:-0400
TZOFFSETTO:-0500
TZNAME:EST
DTSTART:20261101T060000
END:STANDARD
BEGIN:DAYLIGHT
TZOFFSETFROM:-0500
TZOFFSETTO:-0400
TZNAME:EDT
DTSTART:20270314T070000
END:DAYLIGHT
BEGIN:STANDARD
TZOFFSETFROM:-0400
TZOFFSETTO:-0500
TZNAME:EST
DTSTART:20271107T060000
END:STANDARD
END:VTIMEZONE
BEGIN:VEVENT
DTSTART;VALUE=DATE:20260626
DTEND;VALUE=DATE:20260627
DTSTAMP:20260422T224138
CREATED:20260422T184751Z
LAST-MODIFIED:20260422T184751Z
UID:10010313-1782432000-1782518399@wheatoncollege.edu
SUMMARY:2026 Design Capstone poster display
DESCRIPTION:The design capstone is a chance for senior design majors to apply their knowledge and skills to a topic of their choice. Posters show and explain what students investigated and why\, the steps they took to add depth to their understanding and how they responded with design concepts through sketches\, diagrams\, prototypes and mockups. \nProjects will be on display May 5–May 16\, 2026
URL:https://wheatoncollege.edu/event/2026-design-capstone-poster-display/2026-06-26/
LOCATION:Haas Concourse and Lobby\, Watson Fine Arts
CATEGORIES:Academic,Arts
ORGANIZER;CN="Arts at Wheaton":MAILTO:kuszaj_jessica@wheatoncollege.edu
END:VEVENT
BEGIN:VEVENT
DTSTART;VALUE=DATE:20260627
DTEND;VALUE=DATE:20260628
DTSTAMP:20260422T224138
CREATED:20260422T184751Z
LAST-MODIFIED:20260422T184751Z
UID:10010314-1782518400-1782604799@wheatoncollege.edu
SUMMARY:2026 Design Capstone poster display
DESCRIPTION:The design capstone is a chance for senior design majors to apply their knowledge and skills to a topic of their choice. Posters show and explain what students investigated and why\, the steps they took to add depth to their understanding and how they responded with design concepts through sketches\, diagrams\, prototypes and mockups. \nProjects will be on display May 5–May 16\, 2026
URL:https://wheatoncollege.edu/event/2026-design-capstone-poster-display/2026-06-27/
LOCATION:Haas Concourse and Lobby\, Watson Fine Arts
CATEGORIES:Academic,Arts
ORGANIZER;CN="Arts at Wheaton":MAILTO:kuszaj_jessica@wheatoncollege.edu
END:VEVENT
BEGIN:VEVENT
DTSTART;VALUE=DATE:20260628
DTEND;VALUE=DATE:20260629
DTSTAMP:20260422T224138
CREATED:20260422T184751Z
LAST-MODIFIED:20260422T184751Z
UID:10010315-1782604800-1782691199@wheatoncollege.edu
SUMMARY:2026 Design Capstone poster display
DESCRIPTION:The design capstone is a chance for senior design majors to apply their knowledge and skills to a topic of their choice. Posters show and explain what students investigated and why\, the steps they took to add depth to their understanding and how they responded with design concepts through sketches\, diagrams\, prototypes and mockups. \nProjects will be on display May 5–May 16\, 2026
URL:https://wheatoncollege.edu/event/2026-design-capstone-poster-display/2026-06-28/
LOCATION:Haas Concourse and Lobby\, Watson Fine Arts
CATEGORIES:Academic,Arts
ORGANIZER;CN="Arts at Wheaton":MAILTO:kuszaj_jessica@wheatoncollege.edu
END:VEVENT
BEGIN:VEVENT
DTSTART;VALUE=DATE:20260629
DTEND;VALUE=DATE:20260630
DTSTAMP:20260422T224138
CREATED:20260422T184751Z
LAST-MODIFIED:20260422T184751Z
UID:10010316-1782691200-1782777599@wheatoncollege.edu
SUMMARY:2026 Design Capstone poster display
DESCRIPTION:The design capstone is a chance for senior design majors to apply their knowledge and skills to a topic of their choice. Posters show and explain what students investigated and why\, the steps they took to add depth to their understanding and how they responded with design concepts through sketches\, diagrams\, prototypes and mockups. \nProjects will be on display May 5–May 16\, 2026
URL:https://wheatoncollege.edu/event/2026-design-capstone-poster-display/2026-06-29/
LOCATION:Haas Concourse and Lobby\, Watson Fine Arts
CATEGORIES:Academic,Arts
ORGANIZER;CN="Arts at Wheaton":MAILTO:kuszaj_jessica@wheatoncollege.edu
END:VEVENT
BEGIN:VEVENT
DTSTART;VALUE=DATE:20260630
DTEND;VALUE=DATE:20260701
DTSTAMP:20260422T224138
CREATED:20260422T184751Z
LAST-MODIFIED:20260422T184751Z
UID:10010317-1782777600-1782863999@wheatoncollege.edu
SUMMARY:2026 Design Capstone poster display
DESCRIPTION:The design capstone is a chance for senior design majors to apply their knowledge and skills to a topic of their choice. Posters show and explain what students investigated and why\, the steps they took to add depth to their understanding and how they responded with design concepts through sketches\, diagrams\, prototypes and mockups. \nProjects will be on display May 5–May 16\, 2026
URL:https://wheatoncollege.edu/event/2026-design-capstone-poster-display/2026-06-30/
LOCATION:Haas Concourse and Lobby\, Watson Fine Arts
CATEGORIES:Academic,Arts
ORGANIZER;CN="Arts at Wheaton":MAILTO:kuszaj_jessica@wheatoncollege.edu
END:VEVENT
BEGIN:VEVENT
DTSTART;VALUE=DATE:20260701
DTEND;VALUE=DATE:20260702
DTSTAMP:20260422T224138
CREATED:20260422T184751Z
LAST-MODIFIED:20260422T184751Z
UID:10010318-1782864000-1782950399@wheatoncollege.edu
SUMMARY:2026 Design Capstone poster display
DESCRIPTION:The design capstone is a chance for senior design majors to apply their knowledge and skills to a topic of their choice. Posters show and explain what students investigated and why\, the steps they took to add depth to their understanding and how they responded with design concepts through sketches\, diagrams\, prototypes and mockups. \nProjects will be on display May 5–May 16\, 2026
URL:https://wheatoncollege.edu/event/2026-design-capstone-poster-display/2026-07-01/
LOCATION:Haas Concourse and Lobby\, Watson Fine Arts
CATEGORIES:Academic,Arts
ORGANIZER;CN="Arts at Wheaton":MAILTO:kuszaj_jessica@wheatoncollege.edu
END:VEVENT
BEGIN:VEVENT
DTSTART;VALUE=DATE:20260702
DTEND;VALUE=DATE:20260703
DTSTAMP:20260422T224138
CREATED:20260422T184751Z
LAST-MODIFIED:20260422T184751Z
UID:10010319-1782950400-1783036799@wheatoncollege.edu
SUMMARY:2026 Design Capstone poster display
DESCRIPTION:The design capstone is a chance for senior design majors to apply their knowledge and skills to a topic of their choice. Posters show and explain what students investigated and why\, the steps they took to add depth to their understanding and how they responded with design concepts through sketches\, diagrams\, prototypes and mockups. \nProjects will be on display May 5–May 16\, 2026
URL:https://wheatoncollege.edu/event/2026-design-capstone-poster-display/2026-07-02/
LOCATION:Haas Concourse and Lobby\, Watson Fine Arts
CATEGORIES:Academic,Arts
ORGANIZER;CN="Arts at Wheaton":MAILTO:kuszaj_jessica@wheatoncollege.edu
END:VEVENT
BEGIN:VEVENT
DTSTART;VALUE=DATE:20260703
DTEND;VALUE=DATE:20260704
DTSTAMP:20260422T224138
CREATED:20260422T184751Z
LAST-MODIFIED:20260422T184751Z
UID:10010320-1783036800-1783123199@wheatoncollege.edu
SUMMARY:2026 Design Capstone poster display
DESCRIPTION:The design capstone is a chance for senior design majors to apply their knowledge and skills to a topic of their choice. Posters show and explain what students investigated and why\, the steps they took to add depth to their understanding and how they responded with design concepts through sketches\, diagrams\, prototypes and mockups. \nProjects will be on display May 5–May 16\, 2026
URL:https://wheatoncollege.edu/event/2026-design-capstone-poster-display/2026-07-03/
LOCATION:Haas Concourse and Lobby\, Watson Fine Arts
CATEGORIES:Academic,Arts
ORGANIZER;CN="Arts at Wheaton":MAILTO:kuszaj_jessica@wheatoncollege.edu
END:VEVENT
BEGIN:VEVENT
DTSTART;VALUE=DATE:20260704
DTEND;VALUE=DATE:20260705
DTSTAMP:20260422T224138
CREATED:20260422T184751Z
LAST-MODIFIED:20260422T184751Z
UID:10010321-1783123200-1783209599@wheatoncollege.edu
SUMMARY:2026 Design Capstone poster display
DESCRIPTION:The design capstone is a chance for senior design majors to apply their knowledge and skills to a topic of their choice. Posters show and explain what students investigated and why\, the steps they took to add depth to their understanding and how they responded with design concepts through sketches\, diagrams\, prototypes and mockups. \nProjects will be on display May 5–May 16\, 2026
URL:https://wheatoncollege.edu/event/2026-design-capstone-poster-display/2026-07-04/
LOCATION:Haas Concourse and Lobby\, Watson Fine Arts
CATEGORIES:Academic,Arts
ORGANIZER;CN="Arts at Wheaton":MAILTO:kuszaj_jessica@wheatoncollege.edu
END:VEVENT
BEGIN:VEVENT
DTSTART;VALUE=DATE:20260705
DTEND;VALUE=DATE:20260706
DTSTAMP:20260422T224138
CREATED:20260422T184751Z
LAST-MODIFIED:20260422T184751Z
UID:10010322-1783209600-1783295999@wheatoncollege.edu
SUMMARY:2026 Design Capstone poster display
DESCRIPTION:The design capstone is a chance for senior design majors to apply their knowledge and skills to a topic of their choice. Posters show and explain what students investigated and why\, the steps they took to add depth to their understanding and how they responded with design concepts through sketches\, diagrams\, prototypes and mockups. \nProjects will be on display May 5–May 16\, 2026
URL:https://wheatoncollege.edu/event/2026-design-capstone-poster-display/2026-07-05/
LOCATION:Haas Concourse and Lobby\, Watson Fine Arts
CATEGORIES:Academic,Arts
ORGANIZER;CN="Arts at Wheaton":MAILTO:kuszaj_jessica@wheatoncollege.edu
END:VEVENT
BEGIN:VEVENT
DTSTART;VALUE=DATE:20260706
DTEND;VALUE=DATE:20260707
DTSTAMP:20260422T224138
CREATED:20260422T184751Z
LAST-MODIFIED:20260422T184751Z
UID:10010323-1783296000-1783382399@wheatoncollege.edu
SUMMARY:2026 Design Capstone poster display
DESCRIPTION:The design capstone is a chance for senior design majors to apply their knowledge and skills to a topic of their choice. Posters show and explain what students investigated and why\, the steps they took to add depth to their understanding and how they responded with design concepts through sketches\, diagrams\, prototypes and mockups. \nProjects will be on display May 5–May 16\, 2026
URL:https://wheatoncollege.edu/event/2026-design-capstone-poster-display/2026-07-06/
LOCATION:Haas Concourse and Lobby\, Watson Fine Arts
CATEGORIES:Academic,Arts
ORGANIZER;CN="Arts at Wheaton":MAILTO:kuszaj_jessica@wheatoncollege.edu
END:VEVENT
BEGIN:VEVENT
DTSTART;VALUE=DATE:20260707
DTEND;VALUE=DATE:20260708
DTSTAMP:20260422T224138
CREATED:20260422T184751Z
LAST-MODIFIED:20260422T184751Z
UID:10010324-1783382400-1783468799@wheatoncollege.edu
SUMMARY:2026 Design Capstone poster display
DESCRIPTION:The design capstone is a chance for senior design majors to apply their knowledge and skills to a topic of their choice. Posters show and explain what students investigated and why\, the steps they took to add depth to their understanding and how they responded with design concepts through sketches\, diagrams\, prototypes and mockups. \nProjects will be on display May 5–May 16\, 2026
URL:https://wheatoncollege.edu/event/2026-design-capstone-poster-display/2026-07-07/
LOCATION:Haas Concourse and Lobby\, Watson Fine Arts
CATEGORIES:Academic,Arts
ORGANIZER;CN="Arts at Wheaton":MAILTO:kuszaj_jessica@wheatoncollege.edu
END:VEVENT
BEGIN:VEVENT
DTSTART;VALUE=DATE:20260708
DTEND;VALUE=DATE:20260709
DTSTAMP:20260422T224138
CREATED:20260422T184751Z
LAST-MODIFIED:20260422T184751Z
UID:10010325-1783468800-1783555199@wheatoncollege.edu
SUMMARY:2026 Design Capstone poster display
DESCRIPTION:The design capstone is a chance for senior design majors to apply their knowledge and skills to a topic of their choice. Posters show and explain what students investigated and why\, the steps they took to add depth to their understanding and how they responded with design concepts through sketches\, diagrams\, prototypes and mockups. \nProjects will be on display May 5–May 16\, 2026
URL:https://wheatoncollege.edu/event/2026-design-capstone-poster-display/2026-07-08/
LOCATION:Haas Concourse and Lobby\, Watson Fine Arts
CATEGORIES:Academic,Arts
ORGANIZER;CN="Arts at Wheaton":MAILTO:kuszaj_jessica@wheatoncollege.edu
END:VEVENT
BEGIN:VEVENT
DTSTART;VALUE=DATE:20260709
DTEND;VALUE=DATE:20260710
DTSTAMP:20260422T224138
CREATED:20260422T184751Z
LAST-MODIFIED:20260422T184751Z
UID:10010326-1783555200-1783641599@wheatoncollege.edu
SUMMARY:2026 Design Capstone poster display
DESCRIPTION:The design capstone is a chance for senior design majors to apply their knowledge and skills to a topic of their choice. Posters show and explain what students investigated and why\, the steps they took to add depth to their understanding and how they responded with design concepts through sketches\, diagrams\, prototypes and mockups. \nProjects will be on display May 5–May 16\, 2026
URL:https://wheatoncollege.edu/event/2026-design-capstone-poster-display/2026-07-09/
LOCATION:Haas Concourse and Lobby\, Watson Fine Arts
CATEGORIES:Academic,Arts
ORGANIZER;CN="Arts at Wheaton":MAILTO:kuszaj_jessica@wheatoncollege.edu
END:VEVENT
BEGIN:VEVENT
DTSTART;VALUE=DATE:20260710
DTEND;VALUE=DATE:20260711
DTSTAMP:20260422T224138
CREATED:20260422T184751Z
LAST-MODIFIED:20260422T184751Z
UID:10010327-1783641600-1783727999@wheatoncollege.edu
SUMMARY:2026 Design Capstone poster display
DESCRIPTION:The design capstone is a chance for senior design majors to apply their knowledge and skills to a topic of their choice. Posters show and explain what students investigated and why\, the steps they took to add depth to their understanding and how they responded with design concepts through sketches\, diagrams\, prototypes and mockups. \nProjects will be on display May 5–May 16\, 2026
URL:https://wheatoncollege.edu/event/2026-design-capstone-poster-display/2026-07-10/
LOCATION:Haas Concourse and Lobby\, Watson Fine Arts
CATEGORIES:Academic,Arts
ORGANIZER;CN="Arts at Wheaton":MAILTO:kuszaj_jessica@wheatoncollege.edu
END:VEVENT
BEGIN:VEVENT
DTSTART;VALUE=DATE:20260711
DTEND;VALUE=DATE:20260712
DTSTAMP:20260422T224138
CREATED:20260422T184751Z
LAST-MODIFIED:20260422T184751Z
UID:10010328-1783728000-1783814399@wheatoncollege.edu
SUMMARY:2026 Design Capstone poster display
DESCRIPTION:The design capstone is a chance for senior design majors to apply their knowledge and skills to a topic of their choice. Posters show and explain what students investigated and why\, the steps they took to add depth to their understanding and how they responded with design concepts through sketches\, diagrams\, prototypes and mockups. \nProjects will be on display May 5–May 16\, 2026
URL:https://wheatoncollege.edu/event/2026-design-capstone-poster-display/2026-07-11/
LOCATION:Haas Concourse and Lobby\, Watson Fine Arts
CATEGORIES:Academic,Arts
ORGANIZER;CN="Arts at Wheaton":MAILTO:kuszaj_jessica@wheatoncollege.edu
END:VEVENT
BEGIN:VEVENT
DTSTART;VALUE=DATE:20260712
DTEND;VALUE=DATE:20260713
DTSTAMP:20260422T224138
CREATED:20260422T184751Z
LAST-MODIFIED:20260422T184751Z
UID:10010329-1783814400-1783900799@wheatoncollege.edu
SUMMARY:2026 Design Capstone poster display
DESCRIPTION:The design capstone is a chance for senior design majors to apply their knowledge and skills to a topic of their choice. Posters show and explain what students investigated and why\, the steps they took to add depth to their understanding and how they responded with design concepts through sketches\, diagrams\, prototypes and mockups. \nProjects will be on display May 5–May 16\, 2026
URL:https://wheatoncollege.edu/event/2026-design-capstone-poster-display/2026-07-12/
LOCATION:Haas Concourse and Lobby\, Watson Fine Arts
CATEGORIES:Academic,Arts
ORGANIZER;CN="Arts at Wheaton":MAILTO:kuszaj_jessica@wheatoncollege.edu
END:VEVENT
BEGIN:VEVENT
DTSTART;VALUE=DATE:20260713
DTEND;VALUE=DATE:20260714
DTSTAMP:20260422T224138
CREATED:20260422T184751Z
LAST-MODIFIED:20260422T184751Z
UID:10010330-1783900800-1783987199@wheatoncollege.edu
SUMMARY:2026 Design Capstone poster display
DESCRIPTION:The design capstone is a chance for senior design majors to apply their knowledge and skills to a topic of their choice. Posters show and explain what students investigated and why\, the steps they took to add depth to their understanding and how they responded with design concepts through sketches\, diagrams\, prototypes and mockups. \nProjects will be on display May 5–May 16\, 2026
URL:https://wheatoncollege.edu/event/2026-design-capstone-poster-display/2026-07-13/
LOCATION:Haas Concourse and Lobby\, Watson Fine Arts
CATEGORIES:Academic,Arts
ORGANIZER;CN="Arts at Wheaton":MAILTO:kuszaj_jessica@wheatoncollege.edu
END:VEVENT
BEGIN:VEVENT
DTSTART;VALUE=DATE:20260714
DTEND;VALUE=DATE:20260715
DTSTAMP:20260422T224138
CREATED:20260422T184751Z
LAST-MODIFIED:20260422T184751Z
UID:10010331-1783987200-1784073599@wheatoncollege.edu
SUMMARY:2026 Design Capstone poster display
DESCRIPTION:The design capstone is a chance for senior design majors to apply their knowledge and skills to a topic of their choice. Posters show and explain what students investigated and why\, the steps they took to add depth to their understanding and how they responded with design concepts through sketches\, diagrams\, prototypes and mockups. \nProjects will be on display May 5–May 16\, 2026
URL:https://wheatoncollege.edu/event/2026-design-capstone-poster-display/2026-07-14/
LOCATION:Haas Concourse and Lobby\, Watson Fine Arts
CATEGORIES:Academic,Arts
ORGANIZER;CN="Arts at Wheaton":MAILTO:kuszaj_jessica@wheatoncollege.edu
END:VEVENT
BEGIN:VEVENT
DTSTART;VALUE=DATE:20260715
DTEND;VALUE=DATE:20260716
DTSTAMP:20260422T224138
CREATED:20260422T184751Z
LAST-MODIFIED:20260422T184751Z
UID:10010332-1784073600-1784159999@wheatoncollege.edu
SUMMARY:2026 Design Capstone poster display
DESCRIPTION:The design capstone is a chance for senior design majors to apply their knowledge and skills to a topic of their choice. Posters show and explain what students investigated and why\, the steps they took to add depth to their understanding and how they responded with design concepts through sketches\, diagrams\, prototypes and mockups. \nProjects will be on display May 5–May 16\, 2026
URL:https://wheatoncollege.edu/event/2026-design-capstone-poster-display/2026-07-15/
LOCATION:Haas Concourse and Lobby\, Watson Fine Arts
CATEGORIES:Academic,Arts
ORGANIZER;CN="Arts at Wheaton":MAILTO:kuszaj_jessica@wheatoncollege.edu
END:VEVENT
BEGIN:VEVENT
DTSTART;VALUE=DATE:20260716
DTEND;VALUE=DATE:20260717
DTSTAMP:20260422T224138
CREATED:20260422T184751Z
LAST-MODIFIED:20260422T184751Z
UID:10010333-1784160000-1784246399@wheatoncollege.edu
SUMMARY:2026 Design Capstone poster display
DESCRIPTION:The design capstone is a chance for senior design majors to apply their knowledge and skills to a topic of their choice. Posters show and explain what students investigated and why\, the steps they took to add depth to their understanding and how they responded with design concepts through sketches\, diagrams\, prototypes and mockups. \nProjects will be on display May 5–May 16\, 2026
URL:https://wheatoncollege.edu/event/2026-design-capstone-poster-display/2026-07-16/
LOCATION:Haas Concourse and Lobby\, Watson Fine Arts
CATEGORIES:Academic,Arts
ORGANIZER;CN="Arts at Wheaton":MAILTO:kuszaj_jessica@wheatoncollege.edu
END:VEVENT
BEGIN:VEVENT
DTSTART;VALUE=DATE:20260717
DTEND;VALUE=DATE:20260718
DTSTAMP:20260422T224138
CREATED:20260422T184751Z
LAST-MODIFIED:20260422T184751Z
UID:10010334-1784246400-1784332799@wheatoncollege.edu
SUMMARY:2026 Design Capstone poster display
DESCRIPTION:The design capstone is a chance for senior design majors to apply their knowledge and skills to a topic of their choice. Posters show and explain what students investigated and why\, the steps they took to add depth to their understanding and how they responded with design concepts through sketches\, diagrams\, prototypes and mockups. \nProjects will be on display May 5–May 16\, 2026
URL:https://wheatoncollege.edu/event/2026-design-capstone-poster-display/2026-07-17/
LOCATION:Haas Concourse and Lobby\, Watson Fine Arts
CATEGORIES:Academic,Arts
ORGANIZER;CN="Arts at Wheaton":MAILTO:kuszaj_jessica@wheatoncollege.edu
END:VEVENT
BEGIN:VEVENT
DTSTART;VALUE=DATE:20260718
DTEND;VALUE=DATE:20260719
DTSTAMP:20260422T224138
CREATED:20260422T184751Z
LAST-MODIFIED:20260422T184751Z
UID:10010335-1784332800-1784419199@wheatoncollege.edu
SUMMARY:2026 Design Capstone poster display
DESCRIPTION:The design capstone is a chance for senior design majors to apply their knowledge and skills to a topic of their choice. Posters show and explain what students investigated and why\, the steps they took to add depth to their understanding and how they responded with design concepts through sketches\, diagrams\, prototypes and mockups. \nProjects will be on display May 5–May 16\, 2026
URL:https://wheatoncollege.edu/event/2026-design-capstone-poster-display/2026-07-18/
LOCATION:Haas Concourse and Lobby\, Watson Fine Arts
CATEGORIES:Academic,Arts
ORGANIZER;CN="Arts at Wheaton":MAILTO:kuszaj_jessica@wheatoncollege.edu
END:VEVENT
BEGIN:VEVENT
DTSTART;VALUE=DATE:20260719
DTEND;VALUE=DATE:20260720
DTSTAMP:20260422T224138
CREATED:20260422T184751Z
LAST-MODIFIED:20260422T184751Z
UID:10010336-1784419200-1784505599@wheatoncollege.edu
SUMMARY:2026 Design Capstone poster display
DESCRIPTION:The design capstone is a chance for senior design majors to apply their knowledge and skills to a topic of their choice. Posters show and explain what students investigated and why\, the steps they took to add depth to their understanding and how they responded with design concepts through sketches\, diagrams\, prototypes and mockups. \nProjects will be on display May 5–May 16\, 2026
URL:https://wheatoncollege.edu/event/2026-design-capstone-poster-display/2026-07-19/
LOCATION:Haas Concourse and Lobby\, Watson Fine Arts
CATEGORIES:Academic,Arts
ORGANIZER;CN="Arts at Wheaton":MAILTO:kuszaj_jessica@wheatoncollege.edu
END:VEVENT
BEGIN:VEVENT
DTSTART;VALUE=DATE:20260720
DTEND;VALUE=DATE:20260721
DTSTAMP:20260422T224138
CREATED:20260422T184751Z
LAST-MODIFIED:20260422T184751Z
UID:10010337-1784505600-1784591999@wheatoncollege.edu
SUMMARY:2026 Design Capstone poster display
DESCRIPTION:The design capstone is a chance for senior design majors to apply their knowledge and skills to a topic of their choice. Posters show and explain what students investigated and why\, the steps they took to add depth to their understanding and how they responded with design concepts through sketches\, diagrams\, prototypes and mockups. \nProjects will be on display May 5–May 16\, 2026
URL:https://wheatoncollege.edu/event/2026-design-capstone-poster-display/2026-07-20/
LOCATION:Haas Concourse and Lobby\, Watson Fine Arts
CATEGORIES:Academic,Arts
ORGANIZER;CN="Arts at Wheaton":MAILTO:kuszaj_jessica@wheatoncollege.edu
END:VEVENT
BEGIN:VEVENT
DTSTART;VALUE=DATE:20260721
DTEND;VALUE=DATE:20260722
DTSTAMP:20260422T224138
CREATED:20260422T184751Z
LAST-MODIFIED:20260422T184751Z
UID:10010338-1784592000-1784678399@wheatoncollege.edu
SUMMARY:2026 Design Capstone poster display
DESCRIPTION:The design capstone is a chance for senior design majors to apply their knowledge and skills to a topic of their choice. Posters show and explain what students investigated and why\, the steps they took to add depth to their understanding and how they responded with design concepts through sketches\, diagrams\, prototypes and mockups. \nProjects will be on display May 5–May 16\, 2026
URL:https://wheatoncollege.edu/event/2026-design-capstone-poster-display/2026-07-21/
LOCATION:Haas Concourse and Lobby\, Watson Fine Arts
CATEGORIES:Academic,Arts
ORGANIZER;CN="Arts at Wheaton":MAILTO:kuszaj_jessica@wheatoncollege.edu
END:VEVENT
BEGIN:VEVENT
DTSTART;VALUE=DATE:20260722
DTEND;VALUE=DATE:20260723
DTSTAMP:20260422T224138
CREATED:20260422T184751Z
LAST-MODIFIED:20260422T184751Z
UID:10010339-1784678400-1784764799@wheatoncollege.edu
SUMMARY:2026 Design Capstone poster display
DESCRIPTION:The design capstone is a chance for senior design majors to apply their knowledge and skills to a topic of their choice. Posters show and explain what students investigated and why\, the steps they took to add depth to their understanding and how they responded with design concepts through sketches\, diagrams\, prototypes and mockups. \nProjects will be on display May 5–May 16\, 2026
URL:https://wheatoncollege.edu/event/2026-design-capstone-poster-display/2026-07-22/
LOCATION:Haas Concourse and Lobby\, Watson Fine Arts
CATEGORIES:Academic,Arts
ORGANIZER;CN="Arts at Wheaton":MAILTO:kuszaj_jessica@wheatoncollege.edu
END:VEVENT
BEGIN:VEVENT
DTSTART;VALUE=DATE:20260723
DTEND;VALUE=DATE:20260724
DTSTAMP:20260422T224138
CREATED:20260422T184751Z
LAST-MODIFIED:20260422T184751Z
UID:10010340-1784764800-1784851199@wheatoncollege.edu
SUMMARY:2026 Design Capstone poster display
DESCRIPTION:The design capstone is a chance for senior design majors to apply their knowledge and skills to a topic of their choice. Posters show and explain what students investigated and why\, the steps they took to add depth to their understanding and how they responded with design concepts through sketches\, diagrams\, prototypes and mockups. \nProjects will be on display May 5–May 16\, 2026
URL:https://wheatoncollege.edu/event/2026-design-capstone-poster-display/2026-07-23/
LOCATION:Haas Concourse and Lobby\, Watson Fine Arts
CATEGORIES:Academic,Arts
ORGANIZER;CN="Arts at Wheaton":MAILTO:kuszaj_jessica@wheatoncollege.edu
END:VEVENT
BEGIN:VEVENT
DTSTART;VALUE=DATE:20260724
DTEND;VALUE=DATE:20260725
DTSTAMP:20260422T224138
CREATED:20260422T184751Z
LAST-MODIFIED:20260422T184751Z
UID:10010341-1784851200-1784937599@wheatoncollege.edu
SUMMARY:2026 Design Capstone poster display
DESCRIPTION:The design capstone is a chance for senior design majors to apply their knowledge and skills to a topic of their choice. Posters show and explain what students investigated and why\, the steps they took to add depth to their understanding and how they responded with design concepts through sketches\, diagrams\, prototypes and mockups. \nProjects will be on display May 5–May 16\, 2026
URL:https://wheatoncollege.edu/event/2026-design-capstone-poster-display/2026-07-24/
LOCATION:Haas Concourse and Lobby\, Watson Fine Arts
CATEGORIES:Academic,Arts
ORGANIZER;CN="Arts at Wheaton":MAILTO:kuszaj_jessica@wheatoncollege.edu
END:VEVENT
BEGIN:VEVENT
DTSTART;VALUE=DATE:20260725
DTEND;VALUE=DATE:20260726
DTSTAMP:20260422T224138
CREATED:20260422T184751Z
LAST-MODIFIED:20260422T184751Z
UID:10010342-1784937600-1785023999@wheatoncollege.edu
SUMMARY:2026 Design Capstone poster display
DESCRIPTION:The design capstone is a chance for senior design majors to apply their knowledge and skills to a topic of their choice. Posters show and explain what students investigated and why\, the steps they took to add depth to their understanding and how they responded with design concepts through sketches\, diagrams\, prototypes and mockups. \nProjects will be on display May 5–May 16\, 2026
URL:https://wheatoncollege.edu/event/2026-design-capstone-poster-display/2026-07-25/
LOCATION:Haas Concourse and Lobby\, Watson Fine Arts
CATEGORIES:Academic,Arts
ORGANIZER;CN="Arts at Wheaton":MAILTO:kuszaj_jessica@wheatoncollege.edu
END:VEVENT
END:VCALENDAR