	BEGIN:VCALENDAR
VERSION:2.0
PRODID:-//Wheaton College Massachusetts - ECPv6.15.17.1//NONSGML v1.0//EN
CALSCALE:GREGORIAN
METHOD:PUBLISH
X-WR-CALNAME:Wheaton College Massachusetts
X-ORIGINAL-URL:https://wheatoncollege.edu
X-WR-CALDESC:Events for Wheaton College Massachusetts
REFRESH-INTERVAL;VALUE=DURATION:PT1H
X-Robots-Tag:noindex
X-PUBLISHED-TTL:PT1H
BEGIN:VTIMEZONE
TZID:America/New_York
BEGIN:DAYLIGHT
TZOFFSETFROM:-0500
TZOFFSETTO:-0400
TZNAME:EDT
DTSTART:20230312T070000
END:DAYLIGHT
BEGIN:STANDARD
TZOFFSETFROM:-0400
TZOFFSETTO:-0500
TZNAME:EST
DTSTART:20231105T060000
END:STANDARD
BEGIN:DAYLIGHT
TZOFFSETFROM:-0500
TZOFFSETTO:-0400
TZNAME:EDT
DTSTART:20240310T070000
END:DAYLIGHT
BEGIN:STANDARD
TZOFFSETFROM:-0400
TZOFFSETTO:-0500
TZNAME:EST
DTSTART:20241103T060000
END:STANDARD
BEGIN:DAYLIGHT
TZOFFSETFROM:-0500
TZOFFSETTO:-0400
TZNAME:EDT
DTSTART:20250309T070000
END:DAYLIGHT
BEGIN:STANDARD
TZOFFSETFROM:-0400
TZOFFSETTO:-0500
TZNAME:EST
DTSTART:20251102T060000
END:STANDARD
END:VTIMEZONE
BEGIN:VEVENT
DTSTART;TZID=America/New_York:20240423T123000
DTEND;TZID=America/New_York:20240423T133000
DTSTAMP:20260421T121354
CREATED:20240209T165938Z
LAST-MODIFIED:20240223T183416Z
UID:10006543-1713875400-1713879000@wheatoncollege.edu
SUMMARY:Faculty Research Talk
DESCRIPTION:Join Ada McKenzie Thomas\, Asst. Professor of English\, for an upcoming Faculty Research Talk\, Abbey Lincoln’s Spiritual Roots. \nPresenters will begin by discussing their topic\, and each session will close with a question and answer segment. All presentations are virtual and free and the Zoom link will be sent the day before this discussion. \nDescription: In this talk\, I examine Abbey Lincoln’s rootedness in spirituality as evinced in her poetry and songwriting from the latter part of her career. Her albums\, Talking to the Sun (1983)\, Devil’s Got Your Tongue (1992)\, Wholly Earth (1999)\, as well as poems from her unpublished collection\, In a Circle\, Everything is Up\, reveal her lifelong identity as a fervent roots-seeker\, a spiritual sojourner in search of truth and understanding. \nA multifaceted artist whose career traversed the Civil Rights and Black Arts Movements\, and intersected with Black feminisms and Pan-Africanist discourses\, Lincoln’s concerns frequently echo those of other writers and artists of the various eras through which she lived. Lincoln’s thematic eclecticism is a hallmark of her songwriting\, poetry\, and prose\, however her work remains rooted in a deeply personal and spiritual exploration. This talk explores the motifs of this spiritual sojourn emerging from Lincoln’s latter works\, as based upon the archival research that I have conducted for my manuscript on Lincoln’s life in letters\, Aminata: Abbey Lincoln’s Song of Faith\, to be published by Rutgers University Press. \nRegister
URL:https://wheatoncollege.edu/event/faculty-research-talk-11/
LOCATION:Virtual
CATEGORIES:Academic,Alumni,Faculty & Staff,Students,Virtual
ORGANIZER;CN="Alumni Relations":MAILTO:alum@wheatoncollege.edu
END:VEVENT
END:VCALENDAR