	BEGIN:VCALENDAR
VERSION:2.0
PRODID:-//Wheaton College Massachusetts - ECPv6.15.17.1//NONSGML v1.0//EN
CALSCALE:GREGORIAN
METHOD:PUBLISH
X-WR-CALNAME:Wheaton College Massachusetts
X-ORIGINAL-URL:https://wheatoncollege.edu
X-WR-CALDESC:Events for Wheaton College Massachusetts
REFRESH-INTERVAL;VALUE=DURATION:PT1H
X-Robots-Tag:noindex
X-PUBLISHED-TTL:PT1H
BEGIN:VTIMEZONE
TZID:America/New_York
BEGIN:DAYLIGHT
TZOFFSETFROM:-0500
TZOFFSETTO:-0400
TZNAME:EDT
DTSTART:20250309T070000
END:DAYLIGHT
BEGIN:STANDARD
TZOFFSETFROM:-0400
TZOFFSETTO:-0500
TZNAME:EST
DTSTART:20251102T060000
END:STANDARD
BEGIN:DAYLIGHT
TZOFFSETFROM:-0500
TZOFFSETTO:-0400
TZNAME:EDT
DTSTART:20260308T070000
END:DAYLIGHT
BEGIN:STANDARD
TZOFFSETFROM:-0400
TZOFFSETTO:-0500
TZNAME:EST
DTSTART:20261101T060000
END:STANDARD
BEGIN:DAYLIGHT
TZOFFSETFROM:-0500
TZOFFSETTO:-0400
TZNAME:EDT
DTSTART:20270314T070000
END:DAYLIGHT
BEGIN:STANDARD
TZOFFSETFROM:-0400
TZOFFSETTO:-0500
TZNAME:EST
DTSTART:20271107T060000
END:STANDARD
END:VTIMEZONE
BEGIN:VEVENT
DTSTART;TZID=America/New_York:20260326T190000
DTEND;TZID=America/New_York:20260326T190000
DTSTAMP:20260419T150923
CREATED:20260212T185807Z
LAST-MODIFIED:20260309T230232Z
UID:10010053-1774551600-1774551600@wheatoncollege.edu
SUMMARY:Alumni Women's Virtual Panel
DESCRIPTION:This Spring\, we are pleased to invite you to a special virtual event celebrating the remarkable journeys of Wheaton College women. Our alumni panel will feature Elisabeth Stitt ’88\, Nancy Considine ’94 and Paloma Naderi ’09 and be moderated by Katelyn Brewer ’07. \nJoin us as we delve into the experiences of these accomplished women and explore how Wheaton College has played a pivotal role in shaping their personal and professional trajectories. The panelists will share insights into their time at Wheaton\, reflecting on what drew them to our institution\, how their experiences influenced their paths and recalling vital moments that shaped their careers. \nRegister Today
URL:https://wheatoncollege.edu/event/alumni-womens-virtual-panel/
LOCATION:Virtual
CATEGORIES:Alumni,Virtual
ATTACH;FMTTYPE=image/jpeg:https://wheatoncollege.edu/wp-content/uploads/2026/02/Womens-Panel-2026-2.jpg
ORGANIZER;CN="Alumni Relations":MAILTO:alum@wheatoncollege.edu
END:VEVENT
END:VCALENDAR