	BEGIN:VCALENDAR
VERSION:2.0
PRODID:-//Wheaton College Massachusetts - ECPv6.15.17.1//NONSGML v1.0//EN
CALSCALE:GREGORIAN
METHOD:PUBLISH
X-ORIGINAL-URL:https://wheatoncollege.edu
X-WR-CALDESC:Events for Wheaton College Massachusetts
REFRESH-INTERVAL;VALUE=DURATION:PT1H
X-Robots-Tag:noindex
X-PUBLISHED-TTL:PT1H
BEGIN:VTIMEZONE
TZID:America/New_York
BEGIN:DAYLIGHT
TZOFFSETFROM:-0500
TZOFFSETTO:-0400
TZNAME:EDT
DTSTART:20230312T070000
END:DAYLIGHT
BEGIN:STANDARD
TZOFFSETFROM:-0400
TZOFFSETTO:-0500
TZNAME:EST
DTSTART:20231105T060000
END:STANDARD
BEGIN:DAYLIGHT
TZOFFSETFROM:-0500
TZOFFSETTO:-0400
TZNAME:EDT
DTSTART:20240310T070000
END:DAYLIGHT
BEGIN:STANDARD
TZOFFSETFROM:-0400
TZOFFSETTO:-0500
TZNAME:EST
DTSTART:20241103T060000
END:STANDARD
BEGIN:DAYLIGHT
TZOFFSETFROM:-0500
TZOFFSETTO:-0400
TZNAME:EDT
DTSTART:20250309T070000
END:DAYLIGHT
BEGIN:STANDARD
TZOFFSETFROM:-0400
TZOFFSETTO:-0500
TZNAME:EST
DTSTART:20251102T060000
END:STANDARD
END:VTIMEZONE
BEGIN:VEVENT
DTSTART;TZID=America/New_York:20240509T193000
DTEND;TZID=America/New_York:20240509T193000
DTSTAMP:20260422T234902
CREATED:20240214T154418Z
LAST-MODIFIED:20240425T201723Z
UID:10006517-1715283000-1715283000@wheatoncollege.edu
SUMMARY:Ensemble Experiments
DESCRIPTION:Join our senior theatre Majors for their Capstone performance. \nFree tickets can be reserved via the Watson Box Office .
URL:https://wheatoncollege.edu/event/ensemble-experiments/2024-05-09/
LOCATION:Kresge Experimental Theatre\, Watson Fine Arts
CATEGORIES:Arts,Students,Theatre
END:VEVENT
BEGIN:VEVENT
DTSTART;TZID=America/New_York:20240510T193000
DTEND;TZID=America/New_York:20240510T193000
DTSTAMP:20260422T234902
CREATED:20240214T154418Z
LAST-MODIFIED:20240425T201723Z
UID:10006554-1715369400-1715369400@wheatoncollege.edu
SUMMARY:Ensemble Experiments
DESCRIPTION:Join our senior theatre Majors for their Capstone performance. \nFree tickets can be reserved via the Watson Box Office .
URL:https://wheatoncollege.edu/event/ensemble-experiments/2024-05-10/
LOCATION:Kresge Experimental Theatre\, Watson Fine Arts
CATEGORIES:Arts,Students,Theatre
END:VEVENT
BEGIN:VEVENT
DTSTART;VALUE=DATE:20240511
DTEND;VALUE=DATE:20240512
DTSTAMP:20260422T234902
CREATED:20231002T194752Z
LAST-MODIFIED:20240307T032608Z
UID:10006422-1715385600-1715471999@wheatoncollege.edu
SUMMARY:Spring 2024 Housing Ends
DESCRIPTION:Spring Housing Ends Sat\, May 11th at 8 p.m.
URL:https://wheatoncollege.edu/event/spring-2024-housing-ends/
LOCATION:All Campus\, 26 E. Main St.\, Norton\, MA\, 02766\, United States
CATEGORIES:Theatre
ORGANIZER;CN="Office of Residential Life":MAILTO:reslife@wheatoncollege.edu
GEO:41.9629235;-71.1804988
X-APPLE-STRUCTURED-LOCATION;VALUE=URI;X-ADDRESS=All Campus 26 E. Main St. Norton MA 02766 United States;X-APPLE-RADIUS=500;X-TITLE=26 E. Main St.:geo:-71.1804988,41.9629235
END:VEVENT
END:VCALENDAR