	BEGIN:VCALENDAR
VERSION:2.0
PRODID:-//Wheaton College Massachusetts - ECPv6.15.17.1//NONSGML v1.0//EN
CALSCALE:GREGORIAN
METHOD:PUBLISH
X-WR-CALNAME:Wheaton College Massachusetts
X-ORIGINAL-URL:https://wheatoncollege.edu
X-WR-CALDESC:Events for Wheaton College Massachusetts
REFRESH-INTERVAL;VALUE=DURATION:PT1H
X-Robots-Tag:noindex
X-PUBLISHED-TTL:PT1H
BEGIN:VTIMEZONE
TZID:America/New_York
BEGIN:DAYLIGHT
TZOFFSETFROM:-0500
TZOFFSETTO:-0400
TZNAME:EDT
DTSTART:20230312T070000
END:DAYLIGHT
BEGIN:STANDARD
TZOFFSETFROM:-0400
TZOFFSETTO:-0500
TZNAME:EST
DTSTART:20231105T060000
END:STANDARD
BEGIN:DAYLIGHT
TZOFFSETFROM:-0500
TZOFFSETTO:-0400
TZNAME:EDT
DTSTART:20240310T070000
END:DAYLIGHT
BEGIN:STANDARD
TZOFFSETFROM:-0400
TZOFFSETTO:-0500
TZNAME:EST
DTSTART:20241103T060000
END:STANDARD
BEGIN:DAYLIGHT
TZOFFSETFROM:-0500
TZOFFSETTO:-0400
TZNAME:EDT
DTSTART:20250309T070000
END:DAYLIGHT
BEGIN:STANDARD
TZOFFSETFROM:-0400
TZOFFSETTO:-0500
TZNAME:EST
DTSTART:20251102T060000
END:STANDARD
END:VTIMEZONE
BEGIN:VEVENT
DTSTART;TZID=America/New_York:20240328T190000
DTEND;TZID=America/New_York:20240328T200000
DTSTAMP:20260420T184541
CREATED:20240304T203053Z
LAST-MODIFIED:20240307T035607Z
UID:10006568-1711652400-1711656000@wheatoncollege.edu
SUMMARY:Celebrating Wheaton Women Virtual Panel
DESCRIPTION:In honor of Women’s History Month\, we are thrilled to invite you to a special virtual event celebrating the remarkable journeys of Wheaton College women through the decades. Our alumni panel will feature Jennifer Chase-Corwin ’97\, S’00\, Ryann Galloway Tacha ’07\, and Caitly Reynoso ’19 and moderated by Katelyn Brewer ’07 member of the Alumni Board of Directors. \nJoin us as we delve into the experiences of these accomplished women and explore how Wheaton College has played a role in shaping their personal and professional trajectories. The panelists will share insights into their time at Wheaton\, reflecting on what drew them to our institution\, how their experiences influenced their paths\, and recalling pivotal moments that shaped their careers. \nThis event presents a unique opportunity to celebrate the achievements of Wheaton women and to showcase the enduring impact of our institution. \nWe hope you can join us for what promises to be an inspiring and insightful discussion. \n*This will be a webinar event so only the panelists and moderator will be on the screen. \nRegister
URL:https://wheatoncollege.edu/event/celebrating-wheaton-women-virtual-panel/
LOCATION:Virtual
CATEGORIES:Alumni,Faculty & Staff,Students
ORGANIZER;CN="Alumni Relations":MAILTO:alum@wheatoncollege.edu
END:VEVENT
BEGIN:VEVENT
DTSTART;TZID=America/New_York:20240328T193000
DTEND;TZID=America/New_York:20240328T193000
DTSTAMP:20260420T184541
CREATED:20240103T171932Z
LAST-MODIFIED:20240325T143703Z
UID:10006485-1711654200-1711654200@wheatoncollege.edu
SUMMARY:Definitive
DESCRIPTION:The Department of Theatre & Dance and the Kresge Theatre Company proudly present Definite\, a new play by Theatre and Dance major\, Joey Del Santo ’25.  Ambition\, a crisis of identity\, and fear plague a young couple in Washington\, D.C. who are navigating career paths that may careen into their marriage and leave both of them stranded. \nTickets for this production are free via the Box Office. However if you would like to support future productions at Wheaton\, you may choose to purchase tickets at the $5\, $10 or $20 level. Any purchase regardless of cost will reserve you a seat for the performance and you may choose to purchase a combination of free and pay-what-you-can tickets. \n 
URL:https://wheatoncollege.edu/event/definitive/2024-03-28/
LOCATION:Kresge Experimental Theatre\, Watson Fine Arts
CATEGORIES:Arts,Students,Theatre
ORGANIZER;CN="Stephanie Burlington Daniels":MAILTO:daniels_stephanie@wheatoncollege.edu
END:VEVENT
BEGIN:VEVENT
DTSTART;TZID=America/New_York:20240329T193000
DTEND;TZID=America/New_York:20240329T193000
DTSTAMP:20260420T184541
CREATED:20240103T171932Z
LAST-MODIFIED:20240325T143703Z
UID:10006486-1711740600-1711740600@wheatoncollege.edu
SUMMARY:Definitive
DESCRIPTION:The Department of Theatre & Dance and the Kresge Theatre Company proudly present Definite\, a new play by Theatre and Dance major\, Joey Del Santo ’25.  Ambition\, a crisis of identity\, and fear plague a young couple in Washington\, D.C. who are navigating career paths that may careen into their marriage and leave both of them stranded. \nTickets for this production are free via the Box Office. However if you would like to support future productions at Wheaton\, you may choose to purchase tickets at the $5\, $10 or $20 level. Any purchase regardless of cost will reserve you a seat for the performance and you may choose to purchase a combination of free and pay-what-you-can tickets. \n 
URL:https://wheatoncollege.edu/event/definitive/2024-03-29/
LOCATION:Kresge Experimental Theatre\, Watson Fine Arts
CATEGORIES:Arts,Students,Theatre
ORGANIZER;CN="Stephanie Burlington Daniels":MAILTO:daniels_stephanie@wheatoncollege.edu
END:VEVENT
BEGIN:VEVENT
DTSTART;TZID=America/New_York:20240330T140000
DTEND;TZID=America/New_York:20240330T140000
DTSTAMP:20260420T184541
CREATED:20240103T171932Z
LAST-MODIFIED:20240325T143703Z
UID:10006487-1711807200-1711807200@wheatoncollege.edu
SUMMARY:Definitive
DESCRIPTION:The Department of Theatre & Dance and the Kresge Theatre Company proudly present Definite\, a new play by Theatre and Dance major\, Joey Del Santo ’25.  Ambition\, a crisis of identity\, and fear plague a young couple in Washington\, D.C. who are navigating career paths that may careen into their marriage and leave both of them stranded. \nTickets for this production are free via the Box Office. However if you would like to support future productions at Wheaton\, you may choose to purchase tickets at the $5\, $10 or $20 level. Any purchase regardless of cost will reserve you a seat for the performance and you may choose to purchase a combination of free and pay-what-you-can tickets. \n 
URL:https://wheatoncollege.edu/event/definitive/2024-03-30/
LOCATION:Kresge Experimental Theatre\, Watson Fine Arts
CATEGORIES:Arts,Students,Theatre
ORGANIZER;CN="Stephanie Burlington Daniels":MAILTO:daniels_stephanie@wheatoncollege.edu
END:VEVENT
END:VCALENDAR