	BEGIN:VCALENDAR
VERSION:2.0
PRODID:-//Wheaton College Massachusetts - ECPv6.15.17.1//NONSGML v1.0//EN
CALSCALE:GREGORIAN
METHOD:PUBLISH
X-WR-CALNAME:Wheaton College Massachusetts
X-ORIGINAL-URL:https://wheatoncollege.edu
X-WR-CALDESC:Events for Wheaton College Massachusetts
REFRESH-INTERVAL;VALUE=DURATION:PT1H
X-Robots-Tag:noindex
X-PUBLISHED-TTL:PT1H
BEGIN:VTIMEZONE
TZID:America/New_York
BEGIN:DAYLIGHT
TZOFFSETFROM:-0500
TZOFFSETTO:-0400
TZNAME:EDT
DTSTART:20220313T070000
END:DAYLIGHT
BEGIN:STANDARD
TZOFFSETFROM:-0400
TZOFFSETTO:-0500
TZNAME:EST
DTSTART:20221106T060000
END:STANDARD
BEGIN:DAYLIGHT
TZOFFSETFROM:-0500
TZOFFSETTO:-0400
TZNAME:EDT
DTSTART:20230312T070000
END:DAYLIGHT
BEGIN:STANDARD
TZOFFSETFROM:-0400
TZOFFSETTO:-0500
TZNAME:EST
DTSTART:20231105T060000
END:STANDARD
BEGIN:DAYLIGHT
TZOFFSETFROM:-0500
TZOFFSETTO:-0400
TZNAME:EDT
DTSTART:20240310T070000
END:DAYLIGHT
BEGIN:STANDARD
TZOFFSETFROM:-0400
TZOFFSETTO:-0500
TZNAME:EST
DTSTART:20241103T060000
END:STANDARD
END:VTIMEZONE
BEGIN:VEVENT
DTSTART;TZID=America/New_York:20230411T170000
DTEND;TZID=America/New_York:20230411T190000
DTSTAMP:20260420T155708
CREATED:20230324T201832Z
LAST-MODIFIED:20230411T193850Z
UID:10006044-1681232400-1681239600@wheatoncollege.edu
SUMMARY:Free prep sessions for the Communication & Literacy MTEL
DESCRIPTION:Hello future teachers: \nAcademic Advising is providing free prep sessions for the Communication & Literacy MTEL from 5-7 PM on Wednesday\, April 5 & Tuesday\, April 11. This exam (along with completion of an education program) is required to earn your teaching license. \nLocation: Meneely 205 \nThe Wednesday session will be on the Reading subtest and the Tuesday session will be on the Writing subtest. \nThe instructor\, Janice Standring (janicestanding@gmail.com )\, will focus on reviewing your questions about the practice tests (click links below). In order to be prepared and benefit from the sessions\, it is important to complete and bring a copy (or have electronic access) of the Reading practice test (4/5) or the Writing test (4/11). \nReading Subtest\nhttps://www.mtel.nesinc.com/Content/Docs/MA_FLD101_Reading_PRACTICE_TEST_V2.pdf  \nWriting Subtest\nhttps://www.mtel.nesinc.com/Content/Docs/MA_FLD201_Writing_PRACTICE_TEST_V2.pdf
URL:https://wheatoncollege.edu/event/free-prep-sessions-for-the-communication-literacy-mtel/2023-04-11/
LOCATION:Meneely 205
CATEGORIES:Academic,Students
END:VEVENT
BEGIN:VEVENT
DTSTART;TZID=America/New_York:20230412T124000
DTEND;TZID=America/New_York:20230412T134000
DTSTAMP:20260420T155708
CREATED:20230921T180115Z
LAST-MODIFIED:20230923T180211Z
UID:10006064-1681303200-1681306800@wheatoncollege.edu
SUMMARY:French Table
DESCRIPTION:Come one Come All ! \nWHEN: Wednesdays/ Fridays \nTIME: 12:40-1:40 p.m. \nWHO: Anyone wanting to practice their French skills are welcome \nWHERE: Emerson dining hall\, look for the French flag! \nCONTACT US:  Email with questions or  comments:\n \nplace_alexandra@wheatoncollege.edu
URL:https://wheatoncollege.edu/event/french-table-2/2023-04-12/
LOCATION:Emerson Dining Room
CATEGORIES:Academic,Students
ORGANIZER;CN="Paula Smith-MacDonald":MAILTO:smith-macdonald_paula@wheatoncollege.edu
END:VEVENT
BEGIN:VEVENT
DTSTART;TZID=America/New_York:20230414T124000
DTEND;TZID=America/New_York:20230414T134000
DTSTAMP:20260420T155708
CREATED:20230921T180115Z
LAST-MODIFIED:20230923T180211Z
UID:10006065-1681476000-1681479600@wheatoncollege.edu
SUMMARY:French Table
DESCRIPTION:Come one Come All ! \nWHEN: Wednesdays/ Fridays \nTIME: 12:40-1:40 p.m. \nWHO: Anyone wanting to practice their French skills are welcome \nWHERE: Emerson dining hall\, look for the French flag! \nCONTACT US:  Email with questions or  comments:\n \nplace_alexandra@wheatoncollege.edu
URL:https://wheatoncollege.edu/event/french-table-2/2023-04-14/
LOCATION:Emerson Dining Room
CATEGORIES:Academic,Students
ORGANIZER;CN="Paula Smith-MacDonald":MAILTO:smith-macdonald_paula@wheatoncollege.edu
END:VEVENT
BEGIN:VEVENT
DTSTART;TZID=America/New_York:20230414T170000
DTEND;TZID=America/New_York:20230414T190000
DTSTAMP:20260420T155708
CREATED:20230406T140925Z
LAST-MODIFIED:20230412T123243Z
UID:10006081-1681491600-1681498800@wheatoncollege.edu
SUMMARY:Wheaton Woodstock Music Festival
DESCRIPTION:These Cats are cooking!  See them play at the Wheaton Woodstock Music Festival with special guest Raavi. \n\nLive Music\nFun games\nFree merch\nFree food
URL:https://wheatoncollege.edu/event/wheaton-woodstock-music-festival/
LOCATION:Chapel Field\, Norton\, MA\, 02766\, United States
CATEGORIES:Students
ATTACH;FMTTYPE=image/jpeg:https://wheatoncollege.edu/wp-content/uploads/2023/04/woodstock-festival-featured-2.jpg
GEO:41.9629235;-71.1804988
END:VEVENT
END:VCALENDAR