	BEGIN:VCALENDAR
VERSION:2.0
PRODID:-//Wheaton College Massachusetts - ECPv6.15.17.1//NONSGML v1.0//EN
CALSCALE:GREGORIAN
METHOD:PUBLISH
X-ORIGINAL-URL:https://wheatoncollege.edu
X-WR-CALDESC:Events for Wheaton College Massachusetts
REFRESH-INTERVAL;VALUE=DURATION:PT1H
X-Robots-Tag:noindex
X-PUBLISHED-TTL:PT1H
BEGIN:VTIMEZONE
TZID:America/New_York
BEGIN:DAYLIGHT
TZOFFSETFROM:-0500
TZOFFSETTO:-0400
TZNAME:EDT
DTSTART:20190310T070000
END:DAYLIGHT
BEGIN:STANDARD
TZOFFSETFROM:-0400
TZOFFSETTO:-0500
TZNAME:EST
DTSTART:20191103T060000
END:STANDARD
BEGIN:DAYLIGHT
TZOFFSETFROM:-0500
TZOFFSETTO:-0400
TZNAME:EDT
DTSTART:20200308T070000
END:DAYLIGHT
BEGIN:STANDARD
TZOFFSETFROM:-0400
TZOFFSETTO:-0500
TZNAME:EST
DTSTART:20201101T060000
END:STANDARD
BEGIN:DAYLIGHT
TZOFFSETFROM:-0500
TZOFFSETTO:-0400
TZNAME:EDT
DTSTART:20210314T070000
END:DAYLIGHT
BEGIN:STANDARD
TZOFFSETFROM:-0400
TZOFFSETTO:-0500
TZNAME:EST
DTSTART:20211107T060000
END:STANDARD
END:VTIMEZONE
BEGIN:VEVENT
DTSTART;TZID=America/New_York:20201109T170000
DTEND;TZID=America/New_York:20201109T170000
DTSTAMP:20260420T191400
CREATED:20201102T143026Z
LAST-MODIFIED:20201102T143158Z
UID:10004758-1604941200-1604941200@wheatoncollege.edu
SUMMARY:Idiopathic Normal Pressure Hydrocephalus
DESCRIPTION:Mark Johnson MD PhD\, the Maroun Semaan Chair in Neurosurgery\, and chair and professor of neurological surgery at the University of Massachusetts Medical School\, will speak at Wheaton College\, Monday November 9\, 2020 at 5pm\, via Zoom. According to a recent interview on the Voices of UMass Med podcast\, Dr. Johnson\, grew up in Memphis\, Tenn.\, and his early thoughts of becoming a race car driver gave way to medicine. “When I was a kid\, I dreamed of doing something really significant.” Now a world-renowned neurosurgeon\, Dr. Johnson said “I often say to people I’m a scientist in a neurosurgeon’s body\,” and he adds “There are very few things that we do that are routine\, mundane and inconsequential.” \nDr. Johnson has been a great supporter of Wheaton’s students in the past\, having spoken about medicine and his personal career path with students in the Pre-Health Society before. Join students in Wheaton’s Pre-Health Society and BIO 324 Neurobiology course to hear Dr. Johnson deliver a talk entitled “Idiopathic Normal Pressure Hydrocephalus”. There will be time for question-and-answer about Dr. Johnson’s science and career as well. \nZoom link to be posted when available.
URL:https://wheatoncollege.edu/event/idiopathic-normal-pressure-hydrocephalus/
LOCATION:Virtual
CATEGORIES:Academic,Students,Virtual
ORGANIZER;CN="Robert Morris":MAILTO:morris_robert@wheatoncollege.edu
END:VEVENT
BEGIN:VEVENT
DTSTART;TZID=America/New_York:20201111T170000
DTEND;TZID=America/New_York:20201111T180000
DTSTAMP:20260420T191400
CREATED:20200106T174346Z
LAST-MODIFIED:20201023T200434Z
UID:10004658-1605114000-1605117600@wheatoncollege.edu
SUMMARY:Faculty Speaker Series - Dr. Francisco de Alba
DESCRIPTION:Join us for the fourth Faculty Speaker Series event\, which celebrates the scholarly research and creative works of Wheaton’s faculty members. \nDr. Francisco de Alba will explore how Madrid’s collective sensibility changed in the last part of Franco’s dictatorship. Sex\, drugs\, and fashion were ways in which people engaged in new behaviours that made the authoritarian and Catholic outlook of the regime obsolete\, creating the basis for the transition to democracy. \nThis hour-long talk and moderated Q&A is based Dr. de Alba’s recently published book\, Sex\, Drugs\, and Fashion in 1970s Madrid.  \nPre-registration is required for this virtual event\, which will be held via Zoom. \nIf you require accommodations for this event\, please contact Megan Brooks at brooks_megan@wheatoncollege.edu by November 4.
URL:https://wheatoncollege.edu/event/faculty-speaker-series-dr-francisco-de-alba/
LOCATION:Virtual
CATEGORIES:Academic,Faculty & Staff,Library,Students
ATTACH;FMTTYPE=image/jpeg:https://wheatoncollege.edu/wp-content/uploads/2020/01/Fran-de-Alba-Speaker-Series.jpg
ORGANIZER;CN="Megan Brooks":MAILTO:brooks_megan@wheatoncollege.edu
END:VEVENT
END:VCALENDAR