	BEGIN:VCALENDAR
VERSION:2.0
PRODID:-//Wheaton College Massachusetts - ECPv6.15.17.1//NONSGML v1.0//EN
CALSCALE:GREGORIAN
METHOD:PUBLISH
X-ORIGINAL-URL:https://wheatoncollege.edu
X-WR-CALDESC:Events for Wheaton College Massachusetts
REFRESH-INTERVAL;VALUE=DURATION:PT1H
X-Robots-Tag:noindex
X-PUBLISHED-TTL:PT1H
BEGIN:VTIMEZONE
TZID:America/New_York
BEGIN:DAYLIGHT
TZOFFSETFROM:-0500
TZOFFSETTO:-0400
TZNAME:EDT
DTSTART:20200308T070000
END:DAYLIGHT
BEGIN:STANDARD
TZOFFSETFROM:-0400
TZOFFSETTO:-0500
TZNAME:EST
DTSTART:20201101T060000
END:STANDARD
BEGIN:DAYLIGHT
TZOFFSETFROM:-0500
TZOFFSETTO:-0400
TZNAME:EDT
DTSTART:20210314T070000
END:DAYLIGHT
BEGIN:STANDARD
TZOFFSETFROM:-0400
TZOFFSETTO:-0500
TZNAME:EST
DTSTART:20211107T060000
END:STANDARD
BEGIN:DAYLIGHT
TZOFFSETFROM:-0500
TZOFFSETTO:-0400
TZNAME:EDT
DTSTART:20220313T070000
END:DAYLIGHT
BEGIN:STANDARD
TZOFFSETFROM:-0400
TZOFFSETTO:-0500
TZNAME:EST
DTSTART:20221106T060000
END:STANDARD
END:VTIMEZONE
BEGIN:VEVENT
DTSTART;TZID=America/New_York:20210409T140000
DTEND;TZID=America/New_York:20210409T160000
DTSTAMP:20260423T090326
CREATED:20210210T155938Z
LAST-MODIFIED:20210317T181352Z
UID:10004775-1617976800-1617984000@wheatoncollege.edu
SUMMARY:What is Universal Design for Learning (UDL) and Why Do We Need It Right Now?
DESCRIPTION:With the wide variety of students now entering higher education who have constant and varying demands on their time and attention\, how can we reach and teach everyone? Even more so\, how can we leverage the diversity of learners in our classes to create a better learning experience for all students with a richer\, more nuanced understanding of our world? This workshop will introduce participants to the neuroscience based principles of Universal Design for Learning\, how these principles are applied\, and why it should matter to us and our students. \nSpeaker Biography: \nLillian Nave is a Senior Lecturer in First Year Seminar and UDL Coordinator at Appalachian State University in Boone\, NC. She hosts the ThinkUDL podcast where she highlights the use of Universal Design for Learning strategies in higher education and beyond. Lillian teaches interdisciplinary courses that focus on art\, politics\, religion and intercultural competence and she has published book chapters and journal articles on faculty development\, peace studies\, and student-centered learning. She is overjoyed to work with AppState’s VITAL (Visiting\, Instructors\, Temporary\, Adjunct\, Lecturers) Faculty as a chief encourager and faculty developer\, and has been a keynote speaker at several Teaching and Learning conferences in Higher Education including the Lilly Online Conference and the UDL in Higher Education Digicon.
URL:https://wheatoncollege.edu/event/what-is-universal-design-for-learning-udl-and-why-do-we-need-it-right-now/
LOCATION:Online
CATEGORIES:Academic,Students,Virtual
ORGANIZER;CN="Center for Collaborative Teaching and Learning":MAILTO:torres_mgabriela@wheatoncollege.edu
END:VEVENT
END:VCALENDAR