	BEGIN:VCALENDAR
VERSION:2.0
PRODID:-//Wheaton College Massachusetts - ECPv6.15.17.1//NONSGML v1.0//EN
CALSCALE:GREGORIAN
METHOD:PUBLISH
X-ORIGINAL-URL:https://wheatoncollege.edu
X-WR-CALDESC:Events for Wheaton College Massachusetts
REFRESH-INTERVAL;VALUE=DURATION:PT1H
X-Robots-Tag:noindex
X-PUBLISHED-TTL:PT1H
BEGIN:VTIMEZONE
TZID:America/New_York
BEGIN:DAYLIGHT
TZOFFSETFROM:-0500
TZOFFSETTO:-0400
TZNAME:EDT
DTSTART:20200308T070000
END:DAYLIGHT
BEGIN:STANDARD
TZOFFSETFROM:-0400
TZOFFSETTO:-0500
TZNAME:EST
DTSTART:20201101T060000
END:STANDARD
BEGIN:DAYLIGHT
TZOFFSETFROM:-0500
TZOFFSETTO:-0400
TZNAME:EDT
DTSTART:20210314T070000
END:DAYLIGHT
BEGIN:STANDARD
TZOFFSETFROM:-0400
TZOFFSETTO:-0500
TZNAME:EST
DTSTART:20211107T060000
END:STANDARD
BEGIN:DAYLIGHT
TZOFFSETFROM:-0500
TZOFFSETTO:-0400
TZNAME:EDT
DTSTART:20220313T070000
END:DAYLIGHT
BEGIN:STANDARD
TZOFFSETFROM:-0400
TZOFFSETTO:-0500
TZNAME:EST
DTSTART:20221106T060000
END:STANDARD
END:VTIMEZONE
BEGIN:VEVENT
DTSTART;TZID=America/New_York:20210406T170000
DTEND;TZID=America/New_York:20210406T180000
DTSTAMP:20260423T214048
CREATED:20210226T204211Z
LAST-MODIFIED:20210226T205234Z
UID:10004932-1617728400-1617732000@wheatoncollege.edu
SUMMARY:Making the Most of Your Wheaton Experience
DESCRIPTION:Admitted students and their families are invited to join us for a virtual student panel that will feature current Wheaton students who will be answering your questions in real-time about all things Wheaton\, their student experiences and everything in between. \nRegister here
URL:https://wheatoncollege.edu/event/making-the-most-of-your-wheaton-experience/
LOCATION:Online
CATEGORIES:Admission,Students,Virtual
ORGANIZER;CN="Office of Admission":MAILTO:admission@wheatoncollege.edu
END:VEVENT
BEGIN:VEVENT
DTSTART;TZID=America/New_York:20210406T173000
DTEND;TZID=America/New_York:20210406T183000
DTSTAMP:20260423T214048
CREATED:20210317T140654Z
LAST-MODIFIED:20210402T194553Z
UID:10004945-1617730200-1617733800@wheatoncollege.edu
SUMMARY:Brick by Brick: Building Anti-Racist Arts Organizations
DESCRIPTION:Join us for an open discussion. How do we create more just and equitable arts organizations? Can we use the past to build a new architecture of ideas? Guests are independent curator and art facilitator\, Anita N. Bateman\, Ph.​D; curator & activist Jasmine Wahi; critic/curator Larry Ossei-Mensah\, co-founder of the global collective ARTNOIR; art historian Suzanne Blier\, Professor of Fine Arts & African and African American Studies\, Harvard University. \nClick here to register  \nAn online conversation sponsored by Wheaton History of Art/ARTHIve\, DEAL\, and The Marshall Center for Intercultural Learning.  Individuals with disabilities requiring accommodations or info on accessibility should contact mcbreen_ellen@wheatoncollege.edu.
URL:https://wheatoncollege.edu/event/brick-by-brick-building-anti-racist-arts-organizations/
LOCATION:Online
CATEGORIES:Academic,Diversity,Students,Virtual
ATTACH;FMTTYPE=image/jpeg:https://wheatoncollege.edu/wp-content/uploads/2021/03/Brick_AntiRacism_JPEG__Wheaton_final_march30_2021-1.jpg
ORGANIZER;CN="Ellen McBreen":MAILTO:mcbreen_ellen@wheatoncollege.edu
END:VEVENT
END:VCALENDAR