	BEGIN:VCALENDAR
VERSION:2.0
PRODID:-//Wheaton College Massachusetts - ECPv6.15.17.1//NONSGML v1.0//EN
CALSCALE:GREGORIAN
METHOD:PUBLISH
X-ORIGINAL-URL:https://wheatoncollege.edu
X-WR-CALDESC:Events for Wheaton College Massachusetts
REFRESH-INTERVAL;VALUE=DURATION:PT1H
X-Robots-Tag:noindex
X-PUBLISHED-TTL:PT1H
BEGIN:VTIMEZONE
TZID:America/New_York
BEGIN:DAYLIGHT
TZOFFSETFROM:-0500
TZOFFSETTO:-0400
TZNAME:EDT
DTSTART:20200308T070000
END:DAYLIGHT
BEGIN:STANDARD
TZOFFSETFROM:-0400
TZOFFSETTO:-0500
TZNAME:EST
DTSTART:20201101T060000
END:STANDARD
BEGIN:DAYLIGHT
TZOFFSETFROM:-0500
TZOFFSETTO:-0400
TZNAME:EDT
DTSTART:20210314T070000
END:DAYLIGHT
BEGIN:STANDARD
TZOFFSETFROM:-0400
TZOFFSETTO:-0500
TZNAME:EST
DTSTART:20211107T060000
END:STANDARD
BEGIN:DAYLIGHT
TZOFFSETFROM:-0500
TZOFFSETTO:-0400
TZNAME:EDT
DTSTART:20220313T070000
END:DAYLIGHT
BEGIN:STANDARD
TZOFFSETFROM:-0400
TZOFFSETTO:-0500
TZNAME:EST
DTSTART:20221106T060000
END:STANDARD
END:VTIMEZONE
BEGIN:VEVENT
DTSTART;TZID=America/New_York:20210309T083000
DTEND;TZID=America/New_York:20210309T083000
DTSTAMP:20260420T053732
CREATED:20210225T205047Z
LAST-MODIFIED:20210225T214430Z
UID:10004137-1615278600-1615278600@wheatoncollege.edu
SUMMARY:Spring into Wellness Week - Day 2
DESCRIPTION:The Counseling Center is once again excited to sponsor Spring Into Wellness the week of March 8-12\, 2021. Spring Into Wellness is a week full of co-sponsored (virtual and in-person) events surrounding your physical\, mental\, and emotional health. This week culminates with a campus-wide scavenger hunt. \nA remote scavenger hunt is also available for students who are remote\, live off-campus\, or in quarantine/ isolation: Follow WheatonMA.Counseling on Instagram for the remote scavenger hunt details! \nSign up\, find links and descriptions on Engage!  \nSchedule of Events – Tuesday 3/9\n8:30 am: Meditation with Caleigh hosted by The Center for Religious and Spiritual Life (Virtual)\n11:30 am: Thrive Group: Using art for self-care hosted by The Counseling Center Interns (Virtual)\n5:30 pm: Game Night with Active Minds and President Hanno (Virtual) \nDownload the Spring into Wellness Week Flyer (pdf)  \nBrought to you by The Counseling Center in collaboration with Wellness @ Wheaton\, student groups\, and departments.
URL:https://wheatoncollege.edu/event/spring-into-wellness-week-day-2/
LOCATION:All Campus\, 26 E. Main St.\, Norton\, MA\, 02766\, United States
CATEGORIES:Health & Wellness,Students
ATTACH;FMTTYPE=image/jpeg:https://wheatoncollege.edu/wp-content/uploads/2021/02/Spring-into-Wellness-21-Poster-800.jpg
ORGANIZER;CN="Counseling Center":MAILTO:dost_marelin@wheatoncollege.edu
GEO:41.9629235;-71.1804988
X-APPLE-STRUCTURED-LOCATION;VALUE=URI;X-ADDRESS=All Campus 26 E. Main St. Norton MA 02766 United States;X-APPLE-RADIUS=500;X-TITLE=26 E. Main St.:geo:-71.1804988,41.9629235
END:VEVENT
END:VCALENDAR