	BEGIN:VCALENDAR
VERSION:2.0
PRODID:-//Wheaton College Massachusetts - ECPv6.15.17.1//NONSGML v1.0//EN
CALSCALE:GREGORIAN
METHOD:PUBLISH
X-WR-CALNAME:Wheaton College Massachusetts
X-ORIGINAL-URL:https://wheatoncollege.edu
X-WR-CALDESC:Events for Wheaton College Massachusetts
REFRESH-INTERVAL;VALUE=DURATION:PT1H
X-Robots-Tag:noindex
X-PUBLISHED-TTL:PT1H
BEGIN:VTIMEZONE
TZID:America/New_York
BEGIN:DAYLIGHT
TZOFFSETFROM:-0500
TZOFFSETTO:-0400
TZNAME:EDT
DTSTART:20190310T070000
END:DAYLIGHT
BEGIN:STANDARD
TZOFFSETFROM:-0400
TZOFFSETTO:-0500
TZNAME:EST
DTSTART:20191103T060000
END:STANDARD
BEGIN:DAYLIGHT
TZOFFSETFROM:-0500
TZOFFSETTO:-0400
TZNAME:EDT
DTSTART:20200308T070000
END:DAYLIGHT
BEGIN:STANDARD
TZOFFSETFROM:-0400
TZOFFSETTO:-0500
TZNAME:EST
DTSTART:20201101T060000
END:STANDARD
BEGIN:DAYLIGHT
TZOFFSETFROM:-0500
TZOFFSETTO:-0400
TZNAME:EDT
DTSTART:20210314T070000
END:DAYLIGHT
BEGIN:STANDARD
TZOFFSETFROM:-0400
TZOFFSETTO:-0500
TZNAME:EST
DTSTART:20211107T060000
END:STANDARD
END:VTIMEZONE
BEGIN:VEVENT
DTSTART;TZID=America/New_York:20201001T080000
DTEND;TZID=America/New_York:20201001T170000
DTSTAMP:20260423T132546
CREATED:20201002T131856Z
LAST-MODIFIED:20201005T192626Z
UID:10004753-1601539200-1601571600@wheatoncollege.edu
SUMMARY:Netflix Party with Professor CC Chapman
DESCRIPTION:We tweet\, we like\, and we share — but what are the consequences of our growing dependence on social media? As digital platforms increasingly become a lifeline to stay connected\, Silicon Valley insiders reveal how social media is reprogramming civilization by exposing what’s hiding on the other side of your screen. Join Professor C.C. Chapman who has spent a career leveraging social media for clients and personal success on Wednesday\, October 21st at 6 pm to watch The Social Dilemma + discuss. \nRSVP here .
URL:https://wheatoncollege.edu/event/netflix-party-with-professor-cc-chapman/
LOCATION:Virtual
CATEGORIES:Academic,Students,Virtual
ATTACH;FMTTYPE=image/png:https://wheatoncollege.edu/wp-content/uploads/2020/10/Watch-Now-Tagline-Tw.png
ORGANIZER;CN="Madison Kate Dunaway":MAILTO:dunaway_madison@wheatoncollege.edu
END:VEVENT
BEGIN:VEVENT
DTSTART;TZID=America/New_York:20201005T100000
DTEND;TZID=America/New_York:20201005T120000
DTSTAMP:20260423T132546
CREATED:20200922T145540Z
LAST-MODIFIED:20201002T154313Z
UID:10004740-1601892000-1601899200@wheatoncollege.edu
SUMMARY:Student Flu Shot Clinic
DESCRIPTION:Flu shots are now mandated by the state of Massachusetts and all students who attend any classes or activities on campus\, even once\, are subject to this requirement. \nAll students residing on campus or attending any classes or activities on campus will need to provide proof of receipt of a flu shot to Student Health Services by December 1st unless exempt for medical or religious reasons.  This requirement does not apply to you if all instruction and activities are conducted remotely and you are never on campus in person. \nOn-Campus Flu Shot Clinic \nWHERE:  Larcom Courtyard Tent next to Emerson Dining Hall\n(Balfour Atrium in case of inclement weather)\nWalk-in; no appointment necessary – First come\, first served\n\nWHEN:  Monday\, October 5th\, from 10 AM – 12 noon \nCOST:  Free when covered by insurance\nYou must bring your health insurance card with you to the appointment.\nAll charges will be submitted to your health insurance and deductibles and co-pays apply.  Please check with your insurance company to confirm coverage. \nAdditional Clinics: October 14th and 22nd \nIf you can’t attend one of these clinics\, the local Walgreens and CVS administer the flu shot on a walk-in basis daily.\nCall the pharmacy to ensure availability.\nCVS   508-285-4032\nWalgreens   508-285-4961 \nQuestions?  Contact Cynthia Maricle\, Associate Director\, Student Health Services\, at maricle_cynthia@wheatoncollege.edu or Valerie Tobia\, Director of Counseling and Health Services\, at tobia_valerie@wheatoncollege.edu.
URL:https://wheatoncollege.edu/event/student-flu-shot-clinic-at-norton-medical-center/
CATEGORIES:Health & Wellness,Students
ORGANIZER;CN="Cynthia Maricle":MAILTO:maricle_cynthia@wheatoncollege.edu
END:VEVENT
BEGIN:VEVENT
DTSTART;TZID=America/New_York:20201015T090000
DTEND;TZID=America/New_York:20201015T140000
DTSTAMP:20260423T132546
CREATED:20200924T161503Z
LAST-MODIFIED:20201012T153934Z
UID:10004741-1602752400-1602770400@wheatoncollege.edu
SUMMARY:MAP Day
DESCRIPTION:As a component of the Compass curriculum\, Mentored Academic Pathway (MAP) is a process of reflection\, inquiry\, and planning through which students choose their paths through the classes\, majors\, internships and extracurriculars. \nMAP Day is day set aside to reflect on our individual and collective journeys\, to build a stronger\, more inclusive community\, and to make a thoughtful plan to move ahead. \nStep back from your daily schedule to reflect on your educational journey and on your part in building the Wheaton community. Don’t miss this opportunity to engage with all that Wheaton has to offer\, from academic opportunities like honors and scholars programs and student-faculty research\, to career connections through the Wheaton Edge funding and internship support\, to student activities and leadership opportunities. Come and build your plan for your own success and be a part of the Wheaton community. \nSessions for first-year students include time management\, funding 101\, and navigating the Compass curriculum. Sessions available for all include Career Services’ signature Wheaton to the World programs including alumni panels\, financial planning\, and internship and job search strategies. Community-building and anti-racist engagement will be featured in the final hour session hosted by Diversity\, Equity and Access Leadership (DEAL) \, focused on policing in America and the growth of the Black Lives Matter movement. \nA host of other activities will also take place\, including musical performances through dorm windows\, apple cider donuts on the Dimple\, introductions to new honors and scholars programs\, invitations to student activities and student activism\, and much\, much more.
URL:https://wheatoncollege.edu/event/map-day/
LOCATION:Online
CATEGORIES:Academic,Diversity,Students,Virtual
ORGANIZER;CN="Karen McCormack":MAILTO:mccormack_karen@wheatoncollege.edu
END:VEVENT
BEGIN:VEVENT
DTSTART;TZID=America/New_York:20201015T110000
DTEND;TZID=America/New_York:20201015T140000
DTSTAMP:20260423T132546
CREATED:20201001T222200Z
LAST-MODIFIED:20201005T193011Z
UID:10004752-1602759600-1602770400@wheatoncollege.edu
SUMMARY:Circuit Card Making
DESCRIPTION:The Innovation Spaces is collaborating with a group of student makers to host an in person workshop on MAP Day (October 15th)! We will create cards with simple circuits outside of  Pine Hall from 11AM – 2PM.  \nNo walk ups. MUST sign up here:  \nSign up for the 11 a.m. session  \nSign up for the 12 p.m. session  \nLimited spots. Email Tuna with any questions: ozturk_ozgur@wheatoncollege.edu 
URL:https://wheatoncollege.edu/event/circuit-card-making/
LOCATION:Pine Hall – Patio\, Norton\, MA\, 02766\, United States
CATEGORIES:Academic,Arts,STEM,Students
ATTACH;FMTTYPE=image/jpeg:https://wheatoncollege.edu/wp-content/uploads/2020/10/circuitcard.jpg
ORGANIZER;CN="Madison Kate Dunaway":MAILTO:dunaway_madison@wheatoncollege.edu
END:VEVENT
BEGIN:VEVENT
DTSTART;TZID=America/New_York:20201022T180000
DTEND;TZID=America/New_York:20201022T190000
DTSTAMP:20260423T132546
CREATED:20201016T142953Z
LAST-MODIFIED:20201016T142953Z
UID:10004074-1603389600-1603393200@wheatoncollege.edu
SUMMARY:FabAcademy Info Session
DESCRIPTION:Wheaton is offering a new course this semester called FabAcademy and will be holding an info session for students who would like to learn more. If you are interested in participating in FabAcademy this year or in the future\, we recommend you attending. Students must be on campus next semester to take this course. \nSign up here. \n  \n“At the Fab Academy\, you will learn how to envision\, prototype and document your ideas through many hours of hands-on experience with digital fabrication tools.” Under the leadership of global instructor Neil Gershenfeld\, Wheaton students will be exposed to  innovative communities and ideas at a global level over the course of six months. Gershenfeld\, MIT Professor and Director of the Center for Bits + Atoms\, originally taught “How to Make Almost Anything” as an MIT course which grew into FabAcademy in 2009. Students who successfully complete FabAcademy will graduate with an extensive digital portfolio detailing their progress and final project. They will also gain the knowledge needed to take an idea from prototype to product. Wheaton will be the first college in New England to offer FabAcademy to its students. For more information\, visit the website! \nIf you have any questions about this course\, please email Madison at dunaway_madison@wheatoncollege.edu
URL:https://wheatoncollege.edu/event/fabacademy-info-session/
LOCATION:Virtual
CATEGORIES:Academic,Arts,Global,STEM,Students,Virtual
ATTACH;FMTTYPE=image/png:https://wheatoncollege.edu/wp-content/uploads/2020/10/LogoFA-1.png
ORGANIZER;CN="Madison Kate Dunaway":MAILTO:dunaway_madison@wheatoncollege.edu
END:VEVENT
END:VCALENDAR