	BEGIN:VCALENDAR
VERSION:2.0
PRODID:-//Wheaton College Massachusetts - ECPv6.15.17.1//NONSGML v1.0//EN
CALSCALE:GREGORIAN
METHOD:PUBLISH
X-WR-CALNAME:Wheaton College Massachusetts
X-ORIGINAL-URL:https://wheatoncollege.edu
X-WR-CALDESC:Events for Wheaton College Massachusetts
REFRESH-INTERVAL;VALUE=DURATION:PT1H
X-Robots-Tag:noindex
X-PUBLISHED-TTL:PT1H
BEGIN:VTIMEZONE
TZID:America/New_York
BEGIN:DAYLIGHT
TZOFFSETFROM:-0500
TZOFFSETTO:-0400
TZNAME:EDT
DTSTART:20180311T070000
END:DAYLIGHT
BEGIN:STANDARD
TZOFFSETFROM:-0400
TZOFFSETTO:-0500
TZNAME:EST
DTSTART:20181104T060000
END:STANDARD
BEGIN:DAYLIGHT
TZOFFSETFROM:-0500
TZOFFSETTO:-0400
TZNAME:EDT
DTSTART:20190310T070000
END:DAYLIGHT
BEGIN:STANDARD
TZOFFSETFROM:-0400
TZOFFSETTO:-0500
TZNAME:EST
DTSTART:20191103T060000
END:STANDARD
BEGIN:DAYLIGHT
TZOFFSETFROM:-0500
TZOFFSETTO:-0400
TZNAME:EDT
DTSTART:20200308T070000
END:DAYLIGHT
BEGIN:STANDARD
TZOFFSETFROM:-0400
TZOFFSETTO:-0500
TZNAME:EST
DTSTART:20201101T060000
END:STANDARD
END:VTIMEZONE
BEGIN:VEVENT
DTSTART;TZID=America/New_York:20191002T110000
DTEND;TZID=America/New_York:20191002T140000
DTSTAMP:20260421T023205
CREATED:20190830T161254Z
LAST-MODIFIED:20190910T132405Z
UID:10004516-1570014000-1570024800@wheatoncollege.edu
SUMMARY:Nutrition Counseling
DESCRIPTION:Nutrition counseling sessions are available on-campus with nutritionist\, Gretchen Stalters. \nWHAT:  If you’re looking for advice on losing weight\, have a particular medical-nutrition issue\, or just want to learn to eat healthier\, nutritionist\, Gretchen\, will provide you with ideas on how to improve your lifestyle. \nHOW:  To schedule an on-campus appointment\, please contact Gretchen directly at 508-622-0813 or gretchenstalters@gmail.com.  Nutritional counseling sessions are by appointment only. \nWHEN:  On-campus appointments are available weekdays during the semester.  Please call Gretchen at 508-622-0813 for more information. \nCOST:  Most insurance plans will cover nutritional counseling visits (contact your health insurance customer service representative to confirm coverage).  To discuss health insurance coverage questions\, contact Gretchen at gretchenstalters@gmail.com. \nACCEPTED INSURANCE PLANS:  Blue Cross Blue Shield\, Tufts\, Harvard\, United Health\, Cigna\, Aetna\, Neighborhood Health\, and First Health Network. \nGretchen received her B.S. in Nutrition from The University of Connecticut and M.S. in Health Administration from Long Island University.  She has years of experience working in hospitals and in private practice with children\, teens\, and adults. \n 
URL:https://wheatoncollege.edu/event/nutrition-counseling-2/2019-10-02/
CATEGORIES:Health & Wellness,Students
ORGANIZER;CN="Cynthia Maricle":MAILTO:maricle_cynthia@wheatoncollege.edu
END:VEVENT
BEGIN:VEVENT
DTSTART;TZID=America/New_York:20191002T130000
DTEND;TZID=America/New_York:20191002T154500
DTSTAMP:20260421T023205
CREATED:20190830T155741Z
LAST-MODIFIED:20190916T210259Z
UID:10004507-1570021200-1570031100@wheatoncollege.edu
SUMMARY:Kelliann Bachand\, Women's Health NP\, at Norton Medical Center
DESCRIPTION:Kelliann Bachand\, MSN\, APRN\, FNP-BC\, is available by appointment\nat Norton Medical Center for routine GYN care. \nPlease call 508-286-5400/5401 to schedule an appointment.\nKelliann’s office hours are from 1 – 3:45 PM \nNew patient appointments – 30 minutes in length; returning patient appointments – 15 minutes long. \nRoutine care and services include annual GYN exams and Pap tests\, birth control options\, pregnancy testing\, consultation & evaluation\, and confidential STD/HIV screening and treatment. \nTo schedule an appointment with Kelliann\, please contact Norton Medical Center directly at 508-286-5400/5401. \nAll charges will be submitted to your health insurance and deductibles and co-pays are applicable.\nPlease check with your health insurance plan to confirm coverage. \nQuestions?  Please contact Cynthia Maricle\, Assoc. Dir.\, Student Health Services\, at\nmaricle_cynthia@wheatoncollege.edu or 508-286-8210.
URL:https://wheatoncollege.edu/event/kelliann-bachand-womens-health-np-at-norton-medical-center-4/2019-10-02/
CATEGORIES:Health & Wellness,Students
ORGANIZER;CN="Cynthia Maricle":MAILTO:maricle_cynthia@wheatoncollege.edu
END:VEVENT
BEGIN:VEVENT
DTSTART;TZID=America/New_York:20191002T160000
DTEND;TZID=America/New_York:20191002T180000
DTSTAMP:20260421T023205
CREATED:20190924T002054Z
LAST-MODIFIED:20190924T003433Z
UID:10004580-1570032000-1570039200@wheatoncollege.edu
SUMMARY:CCTL Presents: How Do People Learn? Three Ideas from the Learning Sciences
DESCRIPTION:Both lectures and active learning can be effective teaching practices\, but how can we do them in ways that align with how people actually learn? In this presentation\, Floyd Cheung shares a variety of teaching techniques as well as some of the research and theories that undergird them. \nDr. Floyd Cheung is the Vice President for Equity and Inclusion and Professor of English at Smith College. \nHe is the former Director of Smith College’s Sherrerd Center for Teaching and Learning. \nJoin us! Refreshments will be served! \n  \n  \n 
URL:https://wheatoncollege.edu/event/cctl-presents-how-do-people-learn-three-ideas-from-the-learning-sciences/
LOCATION:Balfour-Hood – Lyons Lounge\, Norton\, 02766
CATEGORIES:Diversity,Faculty & Staff,Students
ATTACH;FMTTYPE=image/png:https://wheatoncollege.edu/wp-content/uploads/2019/09/FC-square-portrait.png
ORGANIZER;CN="Center for Collaborative Teaching and Learning":MAILTO:torres_mgabriela@wheatoncollege.edu
GEO:41.9629235;-71.1804988
END:VEVENT
BEGIN:VEVENT
DTSTART;TZID=America/New_York:20191003T110000
DTEND;TZID=America/New_York:20191003T140000
DTSTAMP:20260421T023205
CREATED:20190830T161254Z
LAST-MODIFIED:20190910T132405Z
UID:10004517-1570100400-1570111200@wheatoncollege.edu
SUMMARY:Nutrition Counseling
DESCRIPTION:Nutrition counseling sessions are available on-campus with nutritionist\, Gretchen Stalters. \nWHAT:  If you’re looking for advice on losing weight\, have a particular medical-nutrition issue\, or just want to learn to eat healthier\, nutritionist\, Gretchen\, will provide you with ideas on how to improve your lifestyle. \nHOW:  To schedule an on-campus appointment\, please contact Gretchen directly at 508-622-0813 or gretchenstalters@gmail.com.  Nutritional counseling sessions are by appointment only. \nWHEN:  On-campus appointments are available weekdays during the semester.  Please call Gretchen at 508-622-0813 for more information. \nCOST:  Most insurance plans will cover nutritional counseling visits (contact your health insurance customer service representative to confirm coverage).  To discuss health insurance coverage questions\, contact Gretchen at gretchenstalters@gmail.com. \nACCEPTED INSURANCE PLANS:  Blue Cross Blue Shield\, Tufts\, Harvard\, United Health\, Cigna\, Aetna\, Neighborhood Health\, and First Health Network. \nGretchen received her B.S. in Nutrition from The University of Connecticut and M.S. in Health Administration from Long Island University.  She has years of experience working in hospitals and in private practice with children\, teens\, and adults. \n 
URL:https://wheatoncollege.edu/event/nutrition-counseling-2/2019-10-03/
CATEGORIES:Health & Wellness,Students
ORGANIZER;CN="Cynthia Maricle":MAILTO:maricle_cynthia@wheatoncollege.edu
END:VEVENT
BEGIN:VEVENT
DTSTART;TZID=America/New_York:20191004T091500
DTEND;TZID=America/New_York:20191004T121500
DTSTAMP:20260421T023205
CREATED:20190829T140840Z
LAST-MODIFIED:20190829T142003Z
UID:10004501-1570180500-1570191300@wheatoncollege.edu
SUMMARY:Free\, Confidential HIV & STD Testing
DESCRIPTION:GET YOURSELF TESTED! \nFREE\, CONFIDENTIAL HIV & STD TESTING\nby Taunton Family Planning \nBy appointment only – call Cynthia at 508-286-8210\nAppointments available from 9:15 AM to 12:15 PM\nHeld at Norton Medical Center \n\nChlamydia & Gonorrhea Testing (urine)\nRapid HIV Testing (finger stick)\nPregnancy Testing\n\nFor more information and/or to schedule an appointment\, contact:\nCynthia Maricle\, Assoc. Dir.\, Student Health Services\,\nat 508-286-8210 or maricle_cynthia@wheatoncollege.edu. \nConfidential testing is also available at Norton Medical Center\nM – F by appointment only.\nAll charges are submitted to your insurance.  Self-pay options are available\, as well.\nPlease contact Cynthia at 508-286-8210 to schedule an appointment\nor for more information.
URL:https://wheatoncollege.edu/event/free-confidential-hiv-std-testing-3/2019-10-04/
CATEGORIES:Health & Wellness,Students
ORGANIZER;CN="Cynthia Maricle":MAILTO:maricle_cynthia@wheatoncollege.edu
END:VEVENT
BEGIN:VEVENT
DTSTART;TZID=America/New_York:20191008T170000
DTEND;TZID=America/New_York:20191008T190000
DTSTAMP:20260421T023205
CREATED:20190926T175044Z
LAST-MODIFIED:20191007T153336Z
UID:10004584-1570554000-1570561200@wheatoncollege.edu
SUMMARY:Race\, Latinidad\, and Latin Pop: Reggaéton in the Mainstream
DESCRIPTION:Petra Rivera-Rideau\, a scholar of race and ethnicity in Latin American and Latinx cultures and professor at Wellesley College\, will give a lecture on the racial politics of reggaetón in mainstream music. Oct. 8 @ 5:00 PM Faculty Dining Room Emerson.
URL:https://wheatoncollege.edu/event/race-latinidad-and-latin-pop-reggaeton-in-the-mainstream/
LOCATION:Emerson Dining Hall – Faculty Dining Room
CATEGORIES:Academic,Diversity,Global,Students
ATTACH;FMTTYPE=image/jpeg:https://wheatoncollege.edu/wp-content/uploads/2019/09/race-latinidad-latin-pop-lecture-800.jpg
ORGANIZER;CN="Mary Beth Tierney-Tello":MAILTO:mttello@wheatonma.edu
END:VEVENT
BEGIN:VEVENT
DTSTART;TZID=America/New_York:20191009T120000
DTEND;TZID=America/New_York:20191009T150000
DTSTAMP:20260421T023205
CREATED:20190830T193208Z
LAST-MODIFIED:20190830T193229Z
UID:10004528-1570622400-1570633200@wheatoncollege.edu
SUMMARY:Flu Shot Clinic
DESCRIPTION:Don’t wait to vaccinate!! \nWALK-IN flu shot clinic.  No pre-registration required. \nWHAT:  FLU SHOTS administered by Walgreens pharmacists\nWHEN:  Wednesday\, October 9th\, from noon – 3 PM and Thursday\, October 24th\, from 1 – 4 PM\nWHERE:  New Yellow Parlor\, Balfour-Hood \nPAYMENT OPTIONS:\nPresent your HEALTH INSURANCE ID CARD and the shot is free!\nCASH accepted\, too – RECEIPTS for REIMBURSEMENT are available. \nVALID ID required – You must be 18 years of age or older. \n*Flu shots received at this clinic qualify for the “Get A Shot\, Give A Shot” initiative in which Walgreens provides a life-saving vaccine through the U.N.’s Shot@Life Campaign* \nQuestions?  Contact Cynthia Maricle\, Assoc. Director\, Student Health Services\, at maricle_cynthia@wheatoncollege.edu or x8210. \n 
URL:https://wheatoncollege.edu/event/flu-shot-clinic-3/2019-10-09/
CATEGORIES:Health & Wellness,Students
END:VEVENT
BEGIN:VEVENT
DTSTART;TZID=America/New_York:20191015T180000
DTEND;TZID=America/New_York:20191015T210000
DTSTAMP:20260421T023205
CREATED:20190422T140208Z
LAST-MODIFIED:20210120T190259Z
UID:10004470-1571162400-1571173200@wheatoncollege.edu
SUMMARY:RAD Basic Physical Defense Program
DESCRIPTION:The Wheaton College Department of Public Safety is proud to offer RAD Basic Physical Defense Program for all students in our campus community who are interested in learning more about personal safety and self defense; we are currently accepting class registrations. \nThe Fall 2019 class consists of four sessions. Attendance to all four sessions is required. \nRAD:  Rape Aggression Defense\nSession #1 – Tuesday\, October 15\, 2019 from 6-9:00 pm\nSession #2 – Tuesday\, October 22\, 2019 from 6-9:00 pm\nSession #3 – Tuesday\, October 29\, 2019 from 6-9:00 pm\nSession #4 – Tuesday\, November 5\, 2019 from 6-9:00 pm \nAdditional classes will be held in Spring 2020; to be announced as scheduling and space becomes available.
URL:https://wheatoncollege.edu/event/rad-basic-physical-defense-program/2019-10-15/
LOCATION:Emerson Dining Hall – Faculty Dining Room
CATEGORIES:Students
ORGANIZER;CN="Katrina Thompson":MAILTO:thompson_katrina@wheatoncollege.edu
END:VEVENT
BEGIN:VEVENT
DTSTART;TZID=America/New_York:20191016T110000
DTEND;TZID=America/New_York:20191016T140000
DTSTAMP:20260421T023205
CREATED:20190830T161254Z
LAST-MODIFIED:20190910T132405Z
UID:10004518-1571223600-1571234400@wheatoncollege.edu
SUMMARY:Nutrition Counseling
DESCRIPTION:Nutrition counseling sessions are available on-campus with nutritionist\, Gretchen Stalters. \nWHAT:  If you’re looking for advice on losing weight\, have a particular medical-nutrition issue\, or just want to learn to eat healthier\, nutritionist\, Gretchen\, will provide you with ideas on how to improve your lifestyle. \nHOW:  To schedule an on-campus appointment\, please contact Gretchen directly at 508-622-0813 or gretchenstalters@gmail.com.  Nutritional counseling sessions are by appointment only. \nWHEN:  On-campus appointments are available weekdays during the semester.  Please call Gretchen at 508-622-0813 for more information. \nCOST:  Most insurance plans will cover nutritional counseling visits (contact your health insurance customer service representative to confirm coverage).  To discuss health insurance coverage questions\, contact Gretchen at gretchenstalters@gmail.com. \nACCEPTED INSURANCE PLANS:  Blue Cross Blue Shield\, Tufts\, Harvard\, United Health\, Cigna\, Aetna\, Neighborhood Health\, and First Health Network. \nGretchen received her B.S. in Nutrition from The University of Connecticut and M.S. in Health Administration from Long Island University.  She has years of experience working in hospitals and in private practice with children\, teens\, and adults. \n 
URL:https://wheatoncollege.edu/event/nutrition-counseling-2/2019-10-16/
CATEGORIES:Health & Wellness,Students
ORGANIZER;CN="Cynthia Maricle":MAILTO:maricle_cynthia@wheatoncollege.edu
END:VEVENT
BEGIN:VEVENT
DTSTART;TZID=America/New_York:20191017T110000
DTEND;TZID=America/New_York:20191017T140000
DTSTAMP:20260421T023205
CREATED:20190830T161254Z
LAST-MODIFIED:20190910T132405Z
UID:10004519-1571310000-1571320800@wheatoncollege.edu
SUMMARY:Nutrition Counseling
DESCRIPTION:Nutrition counseling sessions are available on-campus with nutritionist\, Gretchen Stalters. \nWHAT:  If you’re looking for advice on losing weight\, have a particular medical-nutrition issue\, or just want to learn to eat healthier\, nutritionist\, Gretchen\, will provide you with ideas on how to improve your lifestyle. \nHOW:  To schedule an on-campus appointment\, please contact Gretchen directly at 508-622-0813 or gretchenstalters@gmail.com.  Nutritional counseling sessions are by appointment only. \nWHEN:  On-campus appointments are available weekdays during the semester.  Please call Gretchen at 508-622-0813 for more information. \nCOST:  Most insurance plans will cover nutritional counseling visits (contact your health insurance customer service representative to confirm coverage).  To discuss health insurance coverage questions\, contact Gretchen at gretchenstalters@gmail.com. \nACCEPTED INSURANCE PLANS:  Blue Cross Blue Shield\, Tufts\, Harvard\, United Health\, Cigna\, Aetna\, Neighborhood Health\, and First Health Network. \nGretchen received her B.S. in Nutrition from The University of Connecticut and M.S. in Health Administration from Long Island University.  She has years of experience working in hospitals and in private practice with children\, teens\, and adults. \n 
URL:https://wheatoncollege.edu/event/nutrition-counseling-2/2019-10-17/
CATEGORIES:Health & Wellness,Students
ORGANIZER;CN="Cynthia Maricle":MAILTO:maricle_cynthia@wheatoncollege.edu
END:VEVENT
BEGIN:VEVENT
DTSTART;TZID=America/New_York:20191018T091500
DTEND;TZID=America/New_York:20191018T121500
DTSTAMP:20260421T023205
CREATED:20190829T140840Z
LAST-MODIFIED:20190829T142003Z
UID:10004502-1571390100-1571400900@wheatoncollege.edu
SUMMARY:Free\, Confidential HIV & STD Testing
DESCRIPTION:GET YOURSELF TESTED! \nFREE\, CONFIDENTIAL HIV & STD TESTING\nby Taunton Family Planning \nBy appointment only – call Cynthia at 508-286-8210\nAppointments available from 9:15 AM to 12:15 PM\nHeld at Norton Medical Center \n\nChlamydia & Gonorrhea Testing (urine)\nRapid HIV Testing (finger stick)\nPregnancy Testing\n\nFor more information and/or to schedule an appointment\, contact:\nCynthia Maricle\, Assoc. Dir.\, Student Health Services\,\nat 508-286-8210 or maricle_cynthia@wheatoncollege.edu. \nConfidential testing is also available at Norton Medical Center\nM – F by appointment only.\nAll charges are submitted to your insurance.  Self-pay options are available\, as well.\nPlease contact Cynthia at 508-286-8210 to schedule an appointment\nor for more information.
URL:https://wheatoncollege.edu/event/free-confidential-hiv-std-testing-3/2019-10-18/
CATEGORIES:Health & Wellness,Students
ORGANIZER;CN="Cynthia Maricle":MAILTO:maricle_cynthia@wheatoncollege.edu
END:VEVENT
BEGIN:VEVENT
DTSTART;TZID=America/New_York:20191021T140000
DTEND;TZID=America/New_York:20191021T160000
DTSTAMP:20260421T023205
CREATED:20191018T140019Z
LAST-MODIFIED:20191018T140019Z
UID:10004596-1571666400-1571673600@wheatoncollege.edu
SUMMARY:Student Business Showcase
DESCRIPTION:In this unique market place\, students are given the opportunity to sell their products or services\, validate their marketing ideas\, and spread awareness about their business.  Stop by the Balfour Hood Atrium to see the businesses that are currently available on campus\, as well as to get a glimpse of the creative solutions that students are exploring to change the world.  Come and support these budding entrepreneurs! \n  \nThe WiN Hub sponsors this event
URL:https://wheatoncollege.edu/event/student-business-showcase-4/
LOCATION:Balfour-Hood – Atrium\, Norton\, 02766\, United States
CATEGORIES:Career,Students
ORGANIZER;CN="Khadeedja Muheto":MAILTO:muheto_khadeedja@wheatoncollege.edu
GEO:41.9629235;-71.1804988
END:VEVENT
BEGIN:VEVENT
DTSTART;TZID=America/New_York:20191022T180000
DTEND;TZID=America/New_York:20191022T210000
DTSTAMP:20260421T023205
CREATED:20190422T140208Z
LAST-MODIFIED:20210120T190259Z
UID:10004471-1571767200-1571778000@wheatoncollege.edu
SUMMARY:RAD Basic Physical Defense Program
DESCRIPTION:The Wheaton College Department of Public Safety is proud to offer RAD Basic Physical Defense Program for all students in our campus community who are interested in learning more about personal safety and self defense; we are currently accepting class registrations. \nThe Fall 2019 class consists of four sessions. Attendance to all four sessions is required. \nRAD:  Rape Aggression Defense\nSession #1 – Tuesday\, October 15\, 2019 from 6-9:00 pm\nSession #2 – Tuesday\, October 22\, 2019 from 6-9:00 pm\nSession #3 – Tuesday\, October 29\, 2019 from 6-9:00 pm\nSession #4 – Tuesday\, November 5\, 2019 from 6-9:00 pm \nAdditional classes will be held in Spring 2020; to be announced as scheduling and space becomes available.
URL:https://wheatoncollege.edu/event/rad-basic-physical-defense-program/2019-10-22/
LOCATION:Emerson Dining Hall – Faculty Dining Room
CATEGORIES:Students
ORGANIZER;CN="Katrina Thompson":MAILTO:thompson_katrina@wheatoncollege.edu
END:VEVENT
BEGIN:VEVENT
DTSTART;TZID=America/New_York:20191023T130000
DTEND;TZID=America/New_York:20191023T154500
DTSTAMP:20260421T023205
CREATED:20190830T155741Z
LAST-MODIFIED:20190916T210259Z
UID:10004508-1571835600-1571845500@wheatoncollege.edu
SUMMARY:Kelliann Bachand\, Women's Health NP\, at Norton Medical Center
DESCRIPTION:Kelliann Bachand\, MSN\, APRN\, FNP-BC\, is available by appointment\nat Norton Medical Center for routine GYN care. \nPlease call 508-286-5400/5401 to schedule an appointment.\nKelliann’s office hours are from 1 – 3:45 PM \nNew patient appointments – 30 minutes in length; returning patient appointments – 15 minutes long. \nRoutine care and services include annual GYN exams and Pap tests\, birth control options\, pregnancy testing\, consultation & evaluation\, and confidential STD/HIV screening and treatment. \nTo schedule an appointment with Kelliann\, please contact Norton Medical Center directly at 508-286-5400/5401. \nAll charges will be submitted to your health insurance and deductibles and co-pays are applicable.\nPlease check with your health insurance plan to confirm coverage. \nQuestions?  Please contact Cynthia Maricle\, Assoc. Dir.\, Student Health Services\, at\nmaricle_cynthia@wheatoncollege.edu or 508-286-8210.
URL:https://wheatoncollege.edu/event/kelliann-bachand-womens-health-np-at-norton-medical-center-4/2019-10-23/
CATEGORIES:Health & Wellness,Students
ORGANIZER;CN="Cynthia Maricle":MAILTO:maricle_cynthia@wheatoncollege.edu
END:VEVENT
BEGIN:VEVENT
DTSTART;TZID=America/New_York:20191024T130000
DTEND;TZID=America/New_York:20191024T160000
DTSTAMP:20260421T023205
CREATED:20190830T193208Z
LAST-MODIFIED:20190830T193229Z
UID:10004529-1571922000-1571932800@wheatoncollege.edu
SUMMARY:Flu Shot Clinic
DESCRIPTION:Don’t wait to vaccinate!! \nWALK-IN flu shot clinic.  No pre-registration required. \nWHAT:  FLU SHOTS administered by Walgreens pharmacists\nWHEN:  Wednesday\, October 9th\, from noon – 3 PM and Thursday\, October 24th\, from 1 – 4 PM\nWHERE:  New Yellow Parlor\, Balfour-Hood \nPAYMENT OPTIONS:\nPresent your HEALTH INSURANCE ID CARD and the shot is free!\nCASH accepted\, too – RECEIPTS for REIMBURSEMENT are available. \nVALID ID required – You must be 18 years of age or older. \n*Flu shots received at this clinic qualify for the “Get A Shot\, Give A Shot” initiative in which Walgreens provides a life-saving vaccine through the U.N.’s Shot@Life Campaign* \nQuestions?  Contact Cynthia Maricle\, Assoc. Director\, Student Health Services\, at maricle_cynthia@wheatoncollege.edu or x8210. \n 
URL:https://wheatoncollege.edu/event/flu-shot-clinic-3/2019-10-24/
CATEGORIES:Health & Wellness,Students
END:VEVENT
BEGIN:VEVENT
DTSTART;TZID=America/New_York:20191026T123000
DTEND;TZID=America/New_York:20191026T153000
DTSTAMP:20260421T023205
CREATED:20190903T143510Z
LAST-MODIFIED:20190910T130727Z
UID:10004531-1572093000-1572103800@wheatoncollege.edu
SUMMARY:Food Truck Festival 2019
DESCRIPTION:Join alumni and students for a Food Truck Festival in Parking Lot 3.
URL:https://wheatoncollege.edu/event/food-truck-festival-2019/
LOCATION:Parking Lot 3\, Pine Street\, Norton\, MA
CATEGORIES:Alumni,Students
ORGANIZER;CN="Alumni Relations":MAILTO:alum@wheatoncollege.edu
END:VEVENT
BEGIN:VEVENT
DTSTART;TZID=America/New_York:20191029T180000
DTEND;TZID=America/New_York:20191029T210000
DTSTAMP:20260421T023205
CREATED:20190422T140208Z
LAST-MODIFIED:20210120T190259Z
UID:10004472-1572372000-1572382800@wheatoncollege.edu
SUMMARY:RAD Basic Physical Defense Program
DESCRIPTION:The Wheaton College Department of Public Safety is proud to offer RAD Basic Physical Defense Program for all students in our campus community who are interested in learning more about personal safety and self defense; we are currently accepting class registrations. \nThe Fall 2019 class consists of four sessions. Attendance to all four sessions is required. \nRAD:  Rape Aggression Defense\nSession #1 – Tuesday\, October 15\, 2019 from 6-9:00 pm\nSession #2 – Tuesday\, October 22\, 2019 from 6-9:00 pm\nSession #3 – Tuesday\, October 29\, 2019 from 6-9:00 pm\nSession #4 – Tuesday\, November 5\, 2019 from 6-9:00 pm \nAdditional classes will be held in Spring 2020; to be announced as scheduling and space becomes available.
URL:https://wheatoncollege.edu/event/rad-basic-physical-defense-program/2019-10-29/
LOCATION:Emerson Dining Hall – Faculty Dining Room
CATEGORIES:Students
ORGANIZER;CN="Katrina Thompson":MAILTO:thompson_katrina@wheatoncollege.edu
END:VEVENT
BEGIN:VEVENT
DTSTART;TZID=America/New_York:20191030T110000
DTEND;TZID=America/New_York:20191030T140000
DTSTAMP:20260421T023205
CREATED:20190830T161254Z
LAST-MODIFIED:20190910T132405Z
UID:10004520-1572433200-1572444000@wheatoncollege.edu
SUMMARY:Nutrition Counseling
DESCRIPTION:Nutrition counseling sessions are available on-campus with nutritionist\, Gretchen Stalters. \nWHAT:  If you’re looking for advice on losing weight\, have a particular medical-nutrition issue\, or just want to learn to eat healthier\, nutritionist\, Gretchen\, will provide you with ideas on how to improve your lifestyle. \nHOW:  To schedule an on-campus appointment\, please contact Gretchen directly at 508-622-0813 or gretchenstalters@gmail.com.  Nutritional counseling sessions are by appointment only. \nWHEN:  On-campus appointments are available weekdays during the semester.  Please call Gretchen at 508-622-0813 for more information. \nCOST:  Most insurance plans will cover nutritional counseling visits (contact your health insurance customer service representative to confirm coverage).  To discuss health insurance coverage questions\, contact Gretchen at gretchenstalters@gmail.com. \nACCEPTED INSURANCE PLANS:  Blue Cross Blue Shield\, Tufts\, Harvard\, United Health\, Cigna\, Aetna\, Neighborhood Health\, and First Health Network. \nGretchen received her B.S. in Nutrition from The University of Connecticut and M.S. in Health Administration from Long Island University.  She has years of experience working in hospitals and in private practice with children\, teens\, and adults. \n 
URL:https://wheatoncollege.edu/event/nutrition-counseling-2/2019-10-30/
CATEGORIES:Health & Wellness,Students
ORGANIZER;CN="Cynthia Maricle":MAILTO:maricle_cynthia@wheatoncollege.edu
END:VEVENT
BEGIN:VEVENT
DTSTART;TZID=America/New_York:20191031T110000
DTEND;TZID=America/New_York:20191031T140000
DTSTAMP:20260421T023205
CREATED:20190830T161254Z
LAST-MODIFIED:20190910T132405Z
UID:10004521-1572519600-1572530400@wheatoncollege.edu
SUMMARY:Nutrition Counseling
DESCRIPTION:Nutrition counseling sessions are available on-campus with nutritionist\, Gretchen Stalters. \nWHAT:  If you’re looking for advice on losing weight\, have a particular medical-nutrition issue\, or just want to learn to eat healthier\, nutritionist\, Gretchen\, will provide you with ideas on how to improve your lifestyle. \nHOW:  To schedule an on-campus appointment\, please contact Gretchen directly at 508-622-0813 or gretchenstalters@gmail.com.  Nutritional counseling sessions are by appointment only. \nWHEN:  On-campus appointments are available weekdays during the semester.  Please call Gretchen at 508-622-0813 for more information. \nCOST:  Most insurance plans will cover nutritional counseling visits (contact your health insurance customer service representative to confirm coverage).  To discuss health insurance coverage questions\, contact Gretchen at gretchenstalters@gmail.com. \nACCEPTED INSURANCE PLANS:  Blue Cross Blue Shield\, Tufts\, Harvard\, United Health\, Cigna\, Aetna\, Neighborhood Health\, and First Health Network. \nGretchen received her B.S. in Nutrition from The University of Connecticut and M.S. in Health Administration from Long Island University.  She has years of experience working in hospitals and in private practice with children\, teens\, and adults. \n 
URL:https://wheatoncollege.edu/event/nutrition-counseling-2/2019-10-31/
CATEGORIES:Health & Wellness,Students
ORGANIZER;CN="Cynthia Maricle":MAILTO:maricle_cynthia@wheatoncollege.edu
END:VEVENT
END:VCALENDAR