	BEGIN:VCALENDAR
VERSION:2.0
PRODID:-//Wheaton College Massachusetts - ECPv6.15.17.1//NONSGML v1.0//EN
CALSCALE:GREGORIAN
METHOD:PUBLISH
X-WR-CALNAME:Wheaton College Massachusetts
X-ORIGINAL-URL:https://wheatoncollege.edu
X-WR-CALDESC:Events for Wheaton College Massachusetts
REFRESH-INTERVAL;VALUE=DURATION:PT1H
X-Robots-Tag:noindex
X-PUBLISHED-TTL:PT1H
BEGIN:VTIMEZONE
TZID:America/New_York
BEGIN:DAYLIGHT
TZOFFSETFROM:-0500
TZOFFSETTO:-0400
TZNAME:EDT
DTSTART:20210314T070000
END:DAYLIGHT
BEGIN:STANDARD
TZOFFSETFROM:-0400
TZOFFSETTO:-0500
TZNAME:EST
DTSTART:20211107T060000
END:STANDARD
BEGIN:DAYLIGHT
TZOFFSETFROM:-0500
TZOFFSETTO:-0400
TZNAME:EDT
DTSTART:20220313T070000
END:DAYLIGHT
BEGIN:STANDARD
TZOFFSETFROM:-0400
TZOFFSETTO:-0500
TZNAME:EST
DTSTART:20221106T060000
END:STANDARD
BEGIN:DAYLIGHT
TZOFFSETFROM:-0500
TZOFFSETTO:-0400
TZNAME:EDT
DTSTART:20230312T070000
END:DAYLIGHT
BEGIN:STANDARD
TZOFFSETFROM:-0400
TZOFFSETTO:-0500
TZNAME:EST
DTSTART:20231105T060000
END:STANDARD
END:VTIMEZONE
BEGIN:VEVENT
DTSTART;TZID=America/New_York:20220211T130000
DTEND;TZID=America/New_York:20220211T143000
DTSTAMP:20260423T054043
CREATED:20220128T123910Z
LAST-MODIFIED:20220204T014917Z
UID:10005039-1644584400-1644589800@wheatoncollege.edu
SUMMARY:Holocaust Remembrance Ceremony
DESCRIPTION:International Holocaust Remembrance Day (Jan. 27th) marks the anniversary of the liberation of Auschwitz concentration camp and is designated by the UN as a day to honor the great many lives lost in the Holocaust as well as reflect on our own roles in preventing this kind of devastation in the future. \nPlease join the Center for Religious and Spiritual Life with special guest Lori Gans\, for a Wheaton community reflection on the legacy of the Holocaust and what it means for an institution of teaching and learning. Lori Gans is a long time trainer for “Echoes and Reflections\,” a program dedicated to training educators across the nation to incorporate Holocaust education into their curricula using innovative teaching resources and best practices. \nRegister on Zoom
URL:https://wheatoncollege.edu/event/holocaust-remembrance-ceremony/
LOCATION:Online
CATEGORIES:Diversity,Faculty & Staff,LGBTQ+,Students,Virtual
ATTACH;FMTTYPE=image/jpeg:https://wheatoncollege.edu/wp-content/uploads/2022/01/International-Holocaust-Remembrance-Day-Final-2-1-800.jpg
ORGANIZER;CN="Center for Religious and Spiritual Life":MAILTO:cozad_laurie@wheatoncollege.edu
END:VEVENT
BEGIN:VEVENT
DTSTART;TZID=America/New_York:20220214T183000
DTEND;TZID=America/New_York:20220214T200000
DTSTAMP:20260423T054043
CREATED:20211130T173331Z
LAST-MODIFIED:20211208T185843Z
UID:10005034-1644863400-1644868800@wheatoncollege.edu
SUMMARY:In Conversation with "LOVING: A Photographic History of Men in Love\, 1850s-1950s" authors Hugh Nini and Neal Treadwell
DESCRIPTION:The Center for Social Justice and Community Impact\, in partnership with Safe Zone at Wheaton\, invites you to join Hugh Nini and Neal Treadwell\, authors of the book “LOVING: A Photographic History of Men in Love\, 1850s-1950s ” in a discussion and Q&A-style program. \nIn-person seating is first come\, first served. Registering for the in-person event  enterers you into a raffle to win one of eight\, signed copies of the book!  \nYou can also register for the live Zoom here !  \n“In the late 1990’s Neal & Hugh started collecting photographs purely by accident. The first photograph came from an antique store in Dallas. The photograph was of two men in a loving embrace mixed within random photos of a Dallas neighborhood from the 1920s. [Their] collection of over 2800 vintage photos of romantic couples spanning the 100 years between the 1850s and 1950s is the basis for [their] book. \nLOVING: A Photographic History shines a new light on the most written about\, dramatized\, or filmed emotions – love. The pages of our book portray love\, but also courage – the courage that it took to memorialize that unmistakable look that occurs between two people in love. LOVING: A Photographic History celebrates a loving past. A past that points towards the future. It’s message is for everyone. It’s universal.” \nFeel free to send questions\, comments\, or accessibility concerns to pratt_mike@wheatoncollege.edu.
URL:https://wheatoncollege.edu/event/in-conversation-with-loving-a-photographic-history-of-men-in-love-1850s-1950s-authors-hugh-nini-and-neal-treadwell-2/
LOCATION:Mary Lyon Hall – Holman Room\, Norton\, MA\, 02766\, United States
CATEGORIES:Arts,Diversity,LGBTQ+
GEO:41.9629235;-71.1804988
END:VEVENT
END:VCALENDAR