	BEGIN:VCALENDAR
VERSION:2.0
PRODID:-//Wheaton College Massachusetts - ECPv6.15.20//NONSGML v1.0//EN
CALSCALE:GREGORIAN
METHOD:PUBLISH
X-ORIGINAL-URL:https://wheatoncollege.edu
X-WR-CALDESC:Events for Wheaton College Massachusetts
REFRESH-INTERVAL;VALUE=DURATION:PT1H
X-Robots-Tag:noindex
X-PUBLISHED-TTL:PT1H
BEGIN:VTIMEZONE
TZID:America/New_York
BEGIN:DAYLIGHT
TZOFFSETFROM:-0500
TZOFFSETTO:-0400
TZNAME:EDT
DTSTART:20240310T070000
END:DAYLIGHT
BEGIN:STANDARD
TZOFFSETFROM:-0400
TZOFFSETTO:-0500
TZNAME:EST
DTSTART:20241103T060000
END:STANDARD
BEGIN:DAYLIGHT
TZOFFSETFROM:-0500
TZOFFSETTO:-0400
TZNAME:EDT
DTSTART:20250309T070000
END:DAYLIGHT
BEGIN:STANDARD
TZOFFSETFROM:-0400
TZOFFSETTO:-0500
TZNAME:EST
DTSTART:20251102T060000
END:STANDARD
BEGIN:DAYLIGHT
TZOFFSETFROM:-0500
TZOFFSETTO:-0400
TZNAME:EDT
DTSTART:20260308T070000
END:DAYLIGHT
BEGIN:STANDARD
TZOFFSETFROM:-0400
TZOFFSETTO:-0500
TZNAME:EST
DTSTART:20261101T060000
END:STANDARD
END:VTIMEZONE
BEGIN:VEVENT
DTSTART;TZID=America/New_York:20250415T190000
DTEND;TZID=America/New_York:20250415T200000
DTSTAMP:20260425T125334
CREATED:20250403T160533Z
LAST-MODIFIED:20250403T160533Z
UID:10009461-1744743600-1744747200@wheatoncollege.edu
SUMMARY:Celebrating Wheaton Women Virtual Panel
DESCRIPTION:We are pleased to invite you to a special virtual event celebrating the remarkable journeys of Wheaton College women. Our alumni panel will feature Chris Toro ’89\, Min Jung Kim ’92 and Catherine Gilbert ’15 and be moderated by Katelyn Brewer ’07. \nJoin us as we delve into the experiences of these accomplished women and explore how Wheaton College has played a pivotal role in shaping their personal and professional trajectories. The panelists will share insights into their time at Wheaton\, reflecting on what drew them to our institution\, how their experiences influenced their paths and recalling vital moments that shaped their careers. \nWe hope you can join us for what promises to be an inspiring and insightful discussion. \n*This will be a webinar event so only the panelists and moderator will be on the screen. \nRegister
URL:https://wheatoncollege.edu/event/celebrating-wheaton-women-virtual-panel-2/
LOCATION:Virtual
CATEGORIES:Alumni,Community,Faculty & Staff,Students,Virtual
ATTACH;FMTTYPE=image/jpeg:https://wheatoncollege.edu/wp-content/uploads/2025/04/Alumni-virtual-panel-2025.jpg
ORGANIZER;CN="Alumni Relations":MAILTO:alum@wheatoncollege.edu
END:VEVENT
BEGIN:VEVENT
DTSTART;TZID=America/New_York:20250416T093000
DTEND;TZID=America/New_York:20250416T143000
DTSTAMP:20260425T125334
CREATED:20250407T145010Z
LAST-MODIFIED:20250415T000353Z
UID:10009463-1744795800-1744813800@wheatoncollege.edu
SUMMARY:Entrepreneurship Summit 2025
DESCRIPTION:Join us at Wheaton’s Second Annual Entrepreneurship Summit\, which will be held on Wednesday\, April 16\, 2025  from 9:30 a.m. to 2:30 p.m. in Discovery Center. \nThis is a dynamic\, free\, and open-to-everyone summit that aims to foster student entrepreneurship\, collaboration\, and skills development. \nThe Summit will include the following sessions and industries: \n\nArt\, Music\, Media\, Tourism & Social Impact Enterprises\nRethinking Healthcare\, Biosciences & Engineering\nFinance\, Accounting\, Computer Science & AI Technologies\nLaw\, Real Estate\, Education\, Business & Community Development\n\nAgenda: \n9:30 – 10:30 a.m.\nRegistration & Breakfast \n10:30 – 11:20 a.m.\nWelcoming Remarks\, Live Music & Keynote Speaker Address\nKeynote speaker: Chief of Economic Opportunity and Inclusion for the City of Boston\, Segun Idowu  \n11:30 a.m. – 12:20 p.m.\nSession I: Art\, Music\, Media\, Tourism & Social Impact Enterprises + Entertainment (Hindle Auditorium)\nSession II: Healthcare\, Biosciences & Engineering (Filene Center) \n12:30 a.m. – 1:20 p.m.\nSession III: Finance\, Accounting\, Computer Science & AI Technologies (Hindle Auditorium)\nSession IV: Law\, Real Estate\, Education & Community Development (Filene Center) \n1:30 – 2:30 p.m.\nLunch Bites & Networking (Hindle Auditorium Lobby)
URL:https://wheatoncollege.edu/event/entrepreneurship-summit-2025/
LOCATION:Diana Davis Spencer Discovery Center\, Norton\, MA\, 02766
CATEGORIES:Academic,Career,Faculty & Staff,Students
ATTACH;FMTTYPE=image/jpeg:https://wheatoncollege.edu/wp-content/uploads/2025/04/RS249582_Entrepreneurship-Summit_080-1200.jpg
ORGANIZER;CN="Loic Ebelle":MAILTO:ebelle_loic@wheatoncollege.edu
END:VEVENT
END:VCALENDAR