	BEGIN:VCALENDAR
VERSION:2.0
PRODID:-//Wheaton College Massachusetts - ECPv6.15.20//NONSGML v1.0//EN
CALSCALE:GREGORIAN
METHOD:PUBLISH
X-WR-CALNAME:Wheaton College Massachusetts
X-ORIGINAL-URL:https://wheatoncollege.edu
X-WR-CALDESC:Events for Wheaton College Massachusetts
REFRESH-INTERVAL;VALUE=DURATION:PT1H
X-Robots-Tag:noindex
X-PUBLISHED-TTL:PT1H
BEGIN:VTIMEZONE
TZID:America/New_York
BEGIN:DAYLIGHT
TZOFFSETFROM:-0500
TZOFFSETTO:-0400
TZNAME:EDT
DTSTART:20210314T070000
END:DAYLIGHT
BEGIN:STANDARD
TZOFFSETFROM:-0400
TZOFFSETTO:-0500
TZNAME:EST
DTSTART:20211107T060000
END:STANDARD
BEGIN:DAYLIGHT
TZOFFSETFROM:-0500
TZOFFSETTO:-0400
TZNAME:EDT
DTSTART:20220313T070000
END:DAYLIGHT
BEGIN:STANDARD
TZOFFSETFROM:-0400
TZOFFSETTO:-0500
TZNAME:EST
DTSTART:20221106T060000
END:STANDARD
BEGIN:DAYLIGHT
TZOFFSETFROM:-0500
TZOFFSETTO:-0400
TZNAME:EDT
DTSTART:20230312T070000
END:DAYLIGHT
BEGIN:STANDARD
TZOFFSETFROM:-0400
TZOFFSETTO:-0500
TZNAME:EST
DTSTART:20231105T060000
END:STANDARD
END:VTIMEZONE
BEGIN:VEVENT
DTSTART;TZID=America/New_York:20220307T180000
DTEND;TZID=America/New_York:20220307T190000
DTSTAMP:20260424T153218
CREATED:20220221T214824Z
LAST-MODIFIED:20220223T183642Z
UID:10004292-1646676000-1646679600@wheatoncollege.edu
SUMMARY:A Seminar on Cross-cultural Mindfulness
DESCRIPTION:Non-Judging • Patience • Beginner’s Mind • Trust • Non-Striving • Acceptance • Letting Go • Gratitude • Generosity \nZen • Egolessness • Connection \nKendra is a qualified Mindfulness-Based Stress Reduction (MBSR) Teacher-Level 1 from the Mindfulness Center-Brown University School of Public Health.  She has also received training to teach Mindfulness-Based Cognitive Therapy (MBCT) for Life course through the Oxford Mindfulness  Center.  Kendra also is a Professional Life Coach with Certification in Energy Leadership Index Master Practitioner (ELI-MP) and a BA in Psychology\, Family Studies and Counseling. Through Mindfulness Life Coaching\, LLC she uses her skills to partner with participants in group settings and one-on-one to reach more awareness  in their lives. \nKana Hattori lives in Japan and is a Certified Instructor of the Urasenke Tea Ceremony\, headed by Sen Soshitsu XVI\, Zabosai\, a 16th generation descendant of “cha-sei” Sen no Rikyu. While at the Kyoto University of Arts\, she wrote her graduation thesis\, “Kimono Attire and Appearance: Between Tradition and Modernity”. She has also studied Chado\, Shamisen\, and Noh.
URL:https://wheatoncollege.edu/event/a-seminar-on-cross-cultural-mindfulness/
LOCATION:Discovery Center – Hindle Auditorium\, Norton\, MA\, 02766\, United States
CATEGORIES:Academic,Career,Diversity,Global,Students
ATTACH;FMTTYPE=image/jpeg:https://wheatoncollege.edu/wp-content/uploads/2022/02/WHEATON-COLLEGE-SEIR-Lecture-Series-Kana-Hattori-Posters-20211222-w-Kendra-Malloy-Image.jpg
GEO:41.9629235;-71.1804988
END:VEVENT
BEGIN:VEVENT
DTSTART;TZID=America/New_York:20220309T180000
DTEND;TZID=America/New_York:20220309T180000
DTSTAMP:20260424T153218
CREATED:20220223T135259Z
LAST-MODIFIED:20220228T140453Z
UID:10004293-1646848800-1646848800@wheatoncollege.edu
SUMMARY:Colombian American poet and activist\, Carlos Andrés Gómez
DESCRIPTION:The Wheaton Institute for Interdisciplinary Humanities (WIIH) presents Colombian American poet Carlos Andrés Gómez\, star of HBO’s Def Poetry Jam and Spike Lee’s #1 box office movie Inside Man with Denzel Washington\, performing his original work on Wednesday March 9th at 6:00 PM in Holman Room in Mary Lyon Hall. \nThe event is free and open to the public and will be followed by a reception and book signing with Gómez. Carlos Andrés Gómez is the author of Hijito\, for which he was awarded the Foreword INDIES Gold Medal and the International Book Award for Poetry in 2020\, and the coming-of-age memoir Man Up: Reimagining Modern Manhood\, released by Penguin Random House in 2012. His most recent book\, Fractures\, was selected by Pulitzer Prize-winning former U.S. Poet Laureate Natasha Trethewey as the winner of the Felix Pollak Prize in Poetry. \nFor concerns and accessibility needs\, please contact leonquintero_valery@wheatoncollege.edu.
URL:https://wheatoncollege.edu/event/colombian-american-poet-and-activist-carlos-andres-gomez/
LOCATION:Mary Lyon Hall – Holman Room\, Norton\, MA\, 02766\, United States
CATEGORIES:Academic,Diversity,Students
ATTACH;FMTTYPE=image/jpeg:https://wheatoncollege.edu/wp-content/uploads/2022/02/CARLOS-ANDRES-rev.jpg
ORGANIZER;CN="Valery Le%C3%B3n Quintero":MAILTO:leonquintero_valery@wheatoncollege.edu
GEO:41.9629235;-71.1804988
END:VEVENT
END:VCALENDAR