	BEGIN:VCALENDAR
VERSION:2.0
PRODID:-//Wheaton College Massachusetts - ECPv6.15.17.1//NONSGML v1.0//EN
CALSCALE:GREGORIAN
METHOD:PUBLISH
X-ORIGINAL-URL:https://wheatoncollege.edu
X-WR-CALDESC:Events for Wheaton College Massachusetts
REFRESH-INTERVAL;VALUE=DURATION:PT1H
X-Robots-Tag:noindex
X-PUBLISHED-TTL:PT1H
BEGIN:VTIMEZONE
TZID:America/New_York
BEGIN:DAYLIGHT
TZOFFSETFROM:-0500
TZOFFSETTO:-0400
TZNAME:EDT
DTSTART:20230312T070000
END:DAYLIGHT
BEGIN:STANDARD
TZOFFSETFROM:-0400
TZOFFSETTO:-0500
TZNAME:EST
DTSTART:20231105T060000
END:STANDARD
BEGIN:DAYLIGHT
TZOFFSETFROM:-0500
TZOFFSETTO:-0400
TZNAME:EDT
DTSTART:20240310T070000
END:DAYLIGHT
BEGIN:STANDARD
TZOFFSETFROM:-0400
TZOFFSETTO:-0500
TZNAME:EST
DTSTART:20241103T060000
END:STANDARD
BEGIN:DAYLIGHT
TZOFFSETFROM:-0500
TZOFFSETTO:-0400
TZNAME:EDT
DTSTART:20250309T070000
END:DAYLIGHT
BEGIN:STANDARD
TZOFFSETFROM:-0400
TZOFFSETTO:-0500
TZNAME:EST
DTSTART:20251102T060000
END:STANDARD
END:VTIMEZONE
BEGIN:VEVENT
DTSTART;TZID=America/New_York:20240404T200000
DTEND;TZID=America/New_York:20240404T200000
DTSTAMP:20260419T153954
CREATED:20240318T175856Z
LAST-MODIFIED:20240325T141939Z
UID:10006583-1712260800-1712260800@wheatoncollege.edu
SUMMARY:The Mary Bloor Loser ‘42 Concert Series presents Berklee Indian Ensemble
DESCRIPTION:Grammy-nominated Berklee Indian Ensemble (BIE) is a world-renowned collective known for its global Indian sound that honors regional South Asian musical traditions while boldly experimenting with a cross\npollination of genres\, cultures\, and multidisciplinary art forms from around the world. A diverse 8-piece ensemble that was born at the Berklee College of Music\, the brilliant musicians of BIE provide an evening of\nexpansive\, integrated musical explorations. \nFree tickets via the Box Office.
URL:https://wheatoncollege.edu/event/the-mary-bloor-loser-42-concert-series-presents-berklee-indian-ensemble/
LOCATION:Watson Fine Arts – Weber Theatre\, Norton\, MA\, 02766\, United States
CATEGORIES:Community,Music
GEO:41.9629235;-71.1804988
END:VEVENT
BEGIN:VEVENT
DTSTART;TZID=America/New_York:20240420T100000
DTEND;TZID=America/New_York:20240420T150000
DTSTAMP:20260419T153954
CREATED:20240304T211509Z
LAST-MODIFIED:20240325T202358Z
UID:10006569-1713607200-1713625200@wheatoncollege.edu
SUMMARY:All are Welcome: Collaborative Approaches to Building Inclusive Communities
DESCRIPTION:Wheaton College’s Network for LBGTQ+ Inclusion\, Support and Advocacy will host its first ever educational conference: All are Welcome: Collaborative Approaches to Building Inclusive Communities. The event will take place on Saturday\, April 20\, 2024 at 10:00 a.m. \nA number of community organizations will join Wheaton students\, staff and faculty to engage in dialogue around diversity\, equity\, inclusion and belonging (DEIB). Renowned social justice educator and playwright Tobias K. Davis  will give the keynote address. \nAgenda\n9:30 – 10:00 a.m.  |  Check-In and Light Refreshments\nMary Lyon Hall  – Holman Room \n10:00 – 11:00 a.m.  |  Large Group Opening and Keynote\nMary Lyon Hall  – Holman Room \n11:00 a.m. – 12:00 p.m.  |  Session #1\nParticipants may choose one from the list of workshops to attend. \n12:00 – 1:00 p.m  |  Session #2\nParticipants may choose one from the list of workshops to attend. \n1:00 – 2:00 p.m.  |  Lunch (provided)\nEmerson Faculty Dining  (lounge area) \n2:00 – 3:00 p.m.  |  Large Group Debrief and Closing\nMary Lyon Hall  – Holman Room \nWorkshop options\nEmpowering Inclusive Collaborations and Initiatives\nExplore best practices around collaboratively working on inclusion-oriented projects from start to finish. This includes how to identify needs of the intended audience\, build intersectional content\, and evaluate the success of shared initiatives.\nFacilitated by Mike Pratt and Hartley Torrison ‘26.\nMary Lyon Hall  – Holman Room \nAffirming Identity in the Workplace\nHow do DEIB themes and best practices factor into everyday life in theworkplace? Participants will better understand how to appropriately affirm colleagues within professional spaces and productively challenge systems of power therein.\nFacilitated by Lyndsey Aguilar and Henley Ballou.\nMary Lyon Hall  – Woolley Room \nAuditing Existing Systems for Inclusion Gaps\nHow well do our organizations’ day-to-day operations reflect our ideals for inclusion? Participants will be invited to consider the “small stuff” from client intake forms and communications with students and their families\, to employee orientation\, training materials and more. Where can small changes in language or policy have a big impact on the welcome message you convey? When you don’t have the power to make changes—for example\, if there is outdated language on a state-mandated form—what other options can you explore? This will be a participatory workshop. Participants are welcome and encouraged to bring examples from their organization to discuss.\nFacilitated by Prof. Kate Mason and Prof. J Sterphone.\nMary Lyon Hall  – May Room \nAction Planning Through Everyday Scenarios\nLooking to jump right into action? In this session\, participants will apply theory to real-world scenarios and learn how to address and minimize harm within professional and academic spaces.\nFacilitated by Val Leon Quintero and Mairi Travis ’26.\nEmerson Faculty Dining  \nRegister today!  \nQuestions or accessibility concerns can be directed to pratt_mike@wheatoncollege.edu. \nInteractive Campus Map   |  Printable Campus Map (pdf)  \n 
URL:https://wheatoncollege.edu/event/all-are-welcome-collaborative-approaches-to-building-inclusive-communities/
LOCATION:Mary Lyon Hall\, Norton\, MA\, 02766
CATEGORIES:Community,Diversity,LGBTQ+
ATTACH;FMTTYPE=image/jpeg:https://wheatoncollege.edu/wp-content/uploads/2024/03/RS206815_Web-DEIB-featured.jpg
ORGANIZER;CN="Mike Pratt":MAILTO:pratt_mike@wheatoncollege.edu
END:VEVENT
BEGIN:VEVENT
DTSTART;VALUE=DATE:20240422
DTEND;VALUE=DATE:20240423
DTSTAMP:20260419T153954
CREATED:20240329T143127Z
LAST-MODIFIED:20240329T143143Z
UID:10006587-1713744000-1713830399@wheatoncollege.edu
SUMMARY:Day of Giving
DESCRIPTION:Wheaton College’s Day of Giving is a one-day online fundraising drive. Each year\, Wheaton’s Day of Giving brings Wheaties together from around the world–alumni\, parents\, students\, faculty & staff\, and friends–to give back and to celebrate what they care most about the College. \nIn honor of Wheaton opening its doors  to it’s first fifty pupils on April 22\, Wheaton’s Day of Giving celebrates the abundant lives that have manifested due to Wheaton’s tradition of providing a life-changing liberal arts education. \nBy supporting Wheaton students during the annual Day of Giving\, you help future generations of innovators\, leaders\, and creators embrace our motto\, “That they may have life\, and may have it abundantly.” \nWe put together a Volunteer Toolkit  for those who would like to become an advocate and help us spread the word. \nMark your calendar and dust off your Wheaton gear. April 22 will be a virtual celebration of all things Wheaton. And it simply wouldn’t be a Wheaton party without you! \nMake Your Gift
URL:https://wheatoncollege.edu/event/day-of-giving/
CATEGORIES:Alumni,Athletics,Community,Faculty & Staff,Students
ATTACH;FMTTYPE=image/jpeg:https://wheatoncollege.edu/wp-content/uploads/2024/03/Day-of-Giving-2024.jpg
ORGANIZER;CN="Wheaton Fund":MAILTO:wheatonfund@wheatoncollege.edu
END:VEVENT
BEGIN:VEVENT
DTSTART;TZID=America/New_York:20240426T193000
DTEND;TZID=America/New_York:20240426T193000
DTSTAMP:20260419T153954
CREATED:20231219T163512Z
LAST-MODIFIED:20240103T170148Z
UID:10006458-1714159800-1714159800@wheatoncollege.edu
SUMMARY:Southeastern Massachusetts Wind Symphony presents By Request: Classical to Pops
DESCRIPTION:Under the direction of Earl Raney\, Associate Professor in Music Performance\, Wheaton’s largest wind ensemble presents their spring concert By Request: Classical to Pops. \nSuggested donation $5.
URL:https://wheatoncollege.edu/event/southeastern-massachusetts-wind-symphony-presents-by-request-classical-to-pops/
LOCATION:Watson Fine Arts – Weber Theatre\, Norton\, MA\, 02766\, United States
CATEGORIES:Arts,Community,Faculty & Staff,Music,Students
GEO:41.9629235;-71.1804988
END:VEVENT
BEGIN:VEVENT
DTSTART;TZID=America/New_York:20240428T193000
DTEND;TZID=America/New_York:20240428T193000
DTSTAMP:20260419T153954
CREATED:20231219T165441Z
LAST-MODIFIED:20240319T171819Z
UID:10006460-1714332600-1714332600@wheatoncollege.edu
SUMMARY:Wheaton Chorale and Chamber Singers: Around the World
DESCRIPTION:Visiting Assistant Professor Alexandra Lutkevich\, leads the ensembles\, and an accompanying band\, in a program of music from across the globe: South Asia\, the Middle East\, Africa\, Europe\, and USA. \nSuggested donation $10.
URL:https://wheatoncollege.edu/event/wheaton-chorale-and-chamber-singers/
LOCATION:Cole Memorial Chapel\, Norton\, MA\, 02766\, United States
CATEGORIES:Arts,Community,Faculty & Staff,Music
GEO:41.9629235;-71.1804988
END:VEVENT
BEGIN:VEVENT
DTSTART;TZID=America/New_York:20240429T200000
DTEND;TZID=America/New_York:20240429T200000
DTSTAMP:20260419T153954
CREATED:20240228T164805Z
LAST-MODIFIED:20240228T165529Z
UID:10006457-1714420800-1714420800@wheatoncollege.edu
SUMMARY:Phazed and Confused
DESCRIPTION:This student-led ensemble presents a program of music selected and arranged by the members.
URL:https://wheatoncollege.edu/event/phazed-and-confused/
LOCATION:Watson Fine Arts – Experimental Theatre\, Norton\, 02766\, United States
CATEGORIES:Arts,Community,Music,Students
GEO:41.9629235;-71.1804988
END:VEVENT
END:VCALENDAR