	BEGIN:VCALENDAR
VERSION:2.0
PRODID:-//Wheaton College Massachusetts - ECPv6.15.17.1//NONSGML v1.0//EN
CALSCALE:GREGORIAN
METHOD:PUBLISH
X-WR-CALNAME:Wheaton College Massachusetts
X-ORIGINAL-URL:https://wheatoncollege.edu
X-WR-CALDESC:Events for Wheaton College Massachusetts
REFRESH-INTERVAL;VALUE=DURATION:PT1H
X-Robots-Tag:noindex
X-PUBLISHED-TTL:PT1H
BEGIN:VTIMEZONE
TZID:America/New_York
BEGIN:DAYLIGHT
TZOFFSETFROM:-0500
TZOFFSETTO:-0400
TZNAME:EDT
DTSTART:20230312T070000
END:DAYLIGHT
BEGIN:STANDARD
TZOFFSETFROM:-0400
TZOFFSETTO:-0500
TZNAME:EST
DTSTART:20231105T060000
END:STANDARD
BEGIN:DAYLIGHT
TZOFFSETFROM:-0500
TZOFFSETTO:-0400
TZNAME:EDT
DTSTART:20240310T070000
END:DAYLIGHT
BEGIN:STANDARD
TZOFFSETFROM:-0400
TZOFFSETTO:-0500
TZNAME:EST
DTSTART:20241103T060000
END:STANDARD
BEGIN:DAYLIGHT
TZOFFSETFROM:-0500
TZOFFSETTO:-0400
TZNAME:EDT
DTSTART:20250309T070000
END:DAYLIGHT
BEGIN:STANDARD
TZOFFSETFROM:-0400
TZOFFSETTO:-0500
TZNAME:EST
DTSTART:20251102T060000
END:STANDARD
END:VTIMEZONE
BEGIN:VEVENT
DTSTART;VALUE=DATE:20241203
DTEND;VALUE=DATE:20241204
DTSTAMP:20260423T005921
CREATED:20241115T161220Z
LAST-MODIFIED:20241120T164146Z
UID:10008188-1733184000-1733270399@wheatoncollege.edu
SUMMARY:Giving Tuesday 2024
DESCRIPTION:Join us this Giving Tuesday and make a gift that resonates far beyond today.\nYour gift to Wheaton College can create infinite possibilities for our students and the community. Each donation\, no matter the size\, can transform lives—fueling innovation\, supporting scholarships\, enhancing campus resources\, and expanding access to a world-class education. Ready to create infinite impact today?  \nGIVE NOW
URL:https://wheatoncollege.edu/event/giving-tuesday-2024/
CATEGORIES:Academic,Alumni,Arts,Athletics,Community,Faculty & Staff,STEM,Students
ATTACH;FMTTYPE=image/jpeg:https://wheatoncollege.edu/wp-content/uploads/2024/11/GivingTues_FY25_EventCal_Image_1200x628_new3.jpg
ORGANIZER;CN="Wheaton Fund":MAILTO:wheatonfund@wheatoncollege.edu
END:VEVENT
BEGIN:VEVENT
DTSTART;TZID=America/New_York:20241203T130000
DTEND;TZID=America/New_York:20241203T170000
DTSTAMP:20260423T005921
CREATED:20241112T180320Z
LAST-MODIFIED:20241118T163719Z
UID:10008096-1733230800-1733245200@wheatoncollege.edu
SUMMARY:Shelter
DESCRIPTION:Shelter is vital.  It’s required for us to survive but also to thrive.  Curated by students enrolled in ARTH 335: Exhibition Design\, Shelter interrogates the spaces in which we live\, play\, work\, and worship\, the objects found in such spaces\, and the concept of “shelter”\, broadly defined. \n\nGallery Hours: Tuesday\, Wednesday\, Friday\, Saturday 1:00 p.m.—5:00 p.m.\, Thursdays 1:00 p.m.—8:00 p.m. \n\nPlease note: the galleries will be closed November 27—December 1 for November break and December 11\, 2022–January 20\, 2025 for winter break. \n\n\nbwgalleries.org
URL:https://wheatoncollege.edu/event/shelter-3/2024-12-03/
LOCATION:Watson Fine Arts – Beard and Weil Galleries\, Norton\, MA\, 02766\, United States
CATEGORIES:Arts,Students
GEO:41.9629235;-71.1804988
END:VEVENT
BEGIN:VEVENT
DTSTART;TZID=America/New_York:20241203T200000
DTEND;TZID=America/New_York:20241203T200000
DTSTAMP:20260423T005921
CREATED:20240814T131805Z
LAST-MODIFIED:20241120T171337Z
UID:10006990-1733256000-1733256000@wheatoncollege.edu
SUMMARY:Wheaton College Jazz Band
DESCRIPTION:The band\, under the direction of Diamond Centofanti\, Assistant Professor in Music in Performance\, performs a mix of American music ranging from jazz to rhythm and blues to rock. \nSuggested contribution $5. \n  \n 
URL:https://wheatoncollege.edu/event/wheaton-college-jazz-band-8/
LOCATION:Watson Fine Arts – Weber Theatre\, Norton\, MA\, 02766\, United States
CATEGORIES:Arts,Music,Students
GEO:41.9629235;-71.1804988
END:VEVENT
BEGIN:VEVENT
DTSTART;TZID=America/New_York:20241204T190000
DTEND;TZID=America/New_York:20241204T190000
DTSTAMP:20260423T005921
CREATED:20240613T160315Z
LAST-MODIFIED:20241120T171303Z
UID:10006993-1733338800-1733338800@wheatoncollege.edu
SUMMARY:Holiday Vespers Concert
DESCRIPTION:Wheaton’s choral tradition for the holidays celebrates music of varied cultures and time periods\, and features the Wheaton Chorale and Chamber Singers under the direction of Assistant Professor Alexandra Lutkevich. \nThe concert is free to the public\, but contributions are gratefully accepted.
URL:https://wheatoncollege.edu/event/holiday-vespers-concert-4/
LOCATION:Cole Memorial Chapel\, Norton\, MA\, 02766\, United States
CATEGORIES:Arts,Community,Faculty & Staff,Music
GEO:41.9629235;-71.1804988
END:VEVENT
BEGIN:VEVENT
DTSTART;TZID=America/New_York:20241205T130000
DTEND;TZID=America/New_York:20241205T200000
DTSTAMP:20260423T005921
CREATED:20241112T180424Z
LAST-MODIFIED:20241118T163757Z
UID:10008122-1733403600-1733428800@wheatoncollege.edu
SUMMARY:Shelter
DESCRIPTION:Shelter is vital.  It’s required for us to survive but also to thrive.  Curated by students enrolled in ARTH 335: Exhibition Design\, Shelter interrogates the spaces in which we live\, play\, work\, and worship\, the objects found in such spaces\, and the concept of “shelter”\, broadly defined. \n\nGallery Hours: Tuesday\, Wednesday\, Friday\, Saturday 1:00 p.m.—5:00 p.m.\, Thursdays 1:00 p.m.—8:00 p.m. \n\nPlease note: the galleries will be closed November 27—December 1 for November break and December 11\, 2022–January 20\, 2025 for winter break. \n\n\nbwgalleries.org
URL:https://wheatoncollege.edu/event/shelter-4/2024-12-05/
LOCATION:Watson Fine Arts – Beard and Weil Galleries\, Norton\, MA\, 02766\, United States
CATEGORIES:Arts,Students
GEO:41.9629235;-71.1804988
END:VEVENT
BEGIN:VEVENT
DTSTART;TZID=America/New_York:20241207T130000
DTEND;TZID=America/New_York:20241207T170000
DTSTAMP:20260423T005921
CREATED:20241112T180320Z
LAST-MODIFIED:20241118T163719Z
UID:10008097-1733576400-1733590800@wheatoncollege.edu
SUMMARY:Shelter
DESCRIPTION:Shelter is vital.  It’s required for us to survive but also to thrive.  Curated by students enrolled in ARTH 335: Exhibition Design\, Shelter interrogates the spaces in which we live\, play\, work\, and worship\, the objects found in such spaces\, and the concept of “shelter”\, broadly defined. \n\nGallery Hours: Tuesday\, Wednesday\, Friday\, Saturday 1:00 p.m.—5:00 p.m.\, Thursdays 1:00 p.m.—8:00 p.m. \n\nPlease note: the galleries will be closed November 27—December 1 for November break and December 11\, 2022–January 20\, 2025 for winter break. \n\n\nbwgalleries.org
URL:https://wheatoncollege.edu/event/shelter-3/2024-12-07/
LOCATION:Watson Fine Arts – Beard and Weil Galleries\, Norton\, MA\, 02766\, United States
CATEGORIES:Arts,Students
GEO:41.9629235;-71.1804988
END:VEVENT
BEGIN:VEVENT
DTSTART;TZID=America/New_York:20241208T140000
DTEND;TZID=America/New_York:20241208T150000
DTSTAMP:20260423T005921
CREATED:20240613T155202Z
LAST-MODIFIED:20241120T171231Z
UID:10007008-1733666400-1733670000@wheatoncollege.edu
SUMMARY:Great Woods Symphony Orchestra
DESCRIPTION:Comprised of Wheaton students\, faculty\, and members of the public\, the GWSO presents a concert. \nSuggested contribution $5.
URL:https://wheatoncollege.edu/event/great-woods-symphony-orchestra-11/
LOCATION:Watson Fine Arts – Weber Theatre\, Norton\, MA\, 02766\, United States
CATEGORIES:Alumni,Arts,Community,Faculty & Staff,Music
GEO:41.9629235;-71.1804988
END:VEVENT
END:VCALENDAR