	BEGIN:VCALENDAR
VERSION:2.0
PRODID:-//Wheaton College Massachusetts - ECPv6.15.17.1//NONSGML v1.0//EN
CALSCALE:GREGORIAN
METHOD:PUBLISH
X-ORIGINAL-URL:https://wheatoncollege.edu
X-WR-CALDESC:Events for Wheaton College Massachusetts
REFRESH-INTERVAL;VALUE=DURATION:PT1H
X-Robots-Tag:noindex
X-PUBLISHED-TTL:PT1H
BEGIN:VTIMEZONE
TZID:America/New_York
BEGIN:DAYLIGHT
TZOFFSETFROM:-0500
TZOFFSETTO:-0400
TZNAME:EDT
DTSTART:20230312T070000
END:DAYLIGHT
BEGIN:STANDARD
TZOFFSETFROM:-0400
TZOFFSETTO:-0500
TZNAME:EST
DTSTART:20231105T060000
END:STANDARD
BEGIN:DAYLIGHT
TZOFFSETFROM:-0500
TZOFFSETTO:-0400
TZNAME:EDT
DTSTART:20240310T070000
END:DAYLIGHT
BEGIN:STANDARD
TZOFFSETFROM:-0400
TZOFFSETTO:-0500
TZNAME:EST
DTSTART:20241103T060000
END:STANDARD
BEGIN:DAYLIGHT
TZOFFSETFROM:-0500
TZOFFSETTO:-0400
TZNAME:EDT
DTSTART:20250309T070000
END:DAYLIGHT
BEGIN:STANDARD
TZOFFSETFROM:-0400
TZOFFSETTO:-0500
TZNAME:EST
DTSTART:20251102T060000
END:STANDARD
END:VTIMEZONE
BEGIN:VEVENT
DTSTART;TZID=America/New_York:20240417T170000
DTEND;TZID=America/New_York:20240417T170000
DTSTAMP:20260423T062114
CREATED:20240319T170815Z
LAST-MODIFIED:20240319T170815Z
UID:10006557-1713373200-1713373200@wheatoncollege.edu
SUMMARY:The World of Design—16th Annual Mary L. Heuser Lecture featuring Doug Scott
DESCRIPTION:Join us as we explore the wide wide world of graphic design and its relationship to other design disciplines. \nDoug Scott’s design work has won awards from the American Institute of Graphic Arts\, Society of Typographic Arts\, Boston Hatch Awards\, New York Art Directors Club\, Boston Art Directors Club\, Broadcast Designers Association and Bookbuilders of Boston. He has been a member of the American Institute of Graphic Arts since 1974 and served on its national board of directors from 1989–1992. He currently runs a design practice doing book and identity design\, and is consulting Art Director of Davis Publications\, an art education publisher in Worcester\, Massachusetts. Scott teaches graphic design\, exhibition design\, typography and graphic design history at the RISD and teaches graphic design and design history at the Yale School of Art. He has also taught at UMASS/Dartmouth\, Northeastern\, RIC and Connecticut College.
URL:https://wheatoncollege.edu/event/the-world-of-design-16th-annual-mary-l-heuser-lecture-featuring-doug-scott/
LOCATION:Watson Fine Arts – Ellison Lecture Hall\, Norton\, MA\, 02766
CATEGORIES:Academic,Arts
END:VEVENT
BEGIN:VEVENT
DTSTART;TZID=America/New_York:20240418T170000
DTEND;TZID=America/New_York:20240418T170000
DTSTAMP:20260423T062114
CREATED:20231219T161232Z
LAST-MODIFIED:20240110T185508Z
UID:10006455-1713459600-1713459600@wheatoncollege.edu
SUMMARY:Student Recitals
DESCRIPTION:Gifted student performers demonstrate mastery in voice\, violin\, cello\, piano and other instruments.
URL:https://wheatoncollege.edu/event/student-recitals-18/
LOCATION:Mary Lyon Hall – Woolley Room\, Norton\, MA\, 02766\, United States
CATEGORIES:Arts,Music,Students
ORGANIZER;CN="Vicki Toppses":MAILTO:toppses_vicki@wheatoncollege.edu
END:VEVENT
BEGIN:VEVENT
DTSTART;TZID=America/New_York:20240418T170000
DTEND;TZID=America/New_York:20240418T193000
DTSTAMP:20260423T062114
CREATED:20240409T140458Z
LAST-MODIFIED:20240409T140458Z
UID:10006589-1713459600-1713468600@wheatoncollege.edu
SUMMARY:2024 Visual Art and Design Majors' Senior Exhibition Opening Reception
DESCRIPTION:This annual exhibition highlights the work of Wheaton’s 21 graduating visual art and design majors.  It features animation\, painting\, sculpture\, app design\, architecture\, apparel design\, photography\, drawing\, and textiles.
URL:https://wheatoncollege.edu/event/2024-visual-art-and-design-majors-senior-exhibition-opening-reception/
LOCATION:Watson Fine Arts – Beard and Weil Galleries\, Norton\, MA\, 02766\, United States
CATEGORIES:Academic,Arts,Students
GEO:41.9629235;-71.1804988
END:VEVENT
BEGIN:VEVENT
DTSTART;TZID=America/New_York:20240418T170000
DTEND;TZID=America/New_York:20240418T193000
DTSTAMP:20260423T062114
CREATED:20240415T210432Z
LAST-MODIFIED:20240415T210432Z
UID:10006590-1713459600-1713468600@wheatoncollege.edu
SUMMARY:Gallery Opening
DESCRIPTION:2024 Visual Art and Design Majors’ Senior Exhibition\n\nSonder: the realization that each passerby’s life is as vivid and complex as your own\nThis annual exhibition highlights the work of Wheaton’s 21 graduating visual art and design majors.  It features animation\, painting\, sculpture\, app design\, architecture\, apparel design\, photography\, drawing\, and textiles. The exhibition runs April 18–May 18\, 2024 (hours may vary during finals and senior week May 7–18)
URL:https://wheatoncollege.edu/event/gallery-opening-3/
LOCATION:Watson Fine Arts – Beard and Weil Galleries\, Norton\, MA\, 02766\, United States
CATEGORIES:Arts
ORGANIZER;CN="Arts at Wheaton":MAILTO:kuszaj_jessica@wheatoncollege.edu
GEO:41.9629235;-71.1804988
END:VEVENT
BEGIN:VEVENT
DTSTART;TZID=America/New_York:20240418T193000
DTEND;TZID=America/New_York:20240418T193000
DTSTAMP:20260423T062114
CREATED:20240215T162251Z
LAST-MODIFIED:20240215T162322Z
UID:10006505-1713468600-1713468600@wheatoncollege.edu
SUMMARY:The Wheaton College Dance Company
DESCRIPTION:The ensemble performs under the direction of Artistic Director Andrea Taylor-Blenis. \nTickets may be purchased via the Watson Box Office.  $5 student\, $10 faculty & staff & seniors\, $15 general.
URL:https://wheatoncollege.edu/event/the-wheaton-college-dance-company-2/2024-04-18/
LOCATION:Watson Fine Arts – Weber Theatre\, Norton\, MA\, 02766\, United States
CATEGORIES:Arts,Music,Students
GEO:41.9629235;-71.1804988
END:VEVENT
BEGIN:VEVENT
DTSTART;TZID=America/New_York:20240419T193000
DTEND;TZID=America/New_York:20240419T193000
DTSTAMP:20260423T062114
CREATED:20240215T162251Z
LAST-MODIFIED:20240215T162322Z
UID:10006506-1713555000-1713555000@wheatoncollege.edu
SUMMARY:The Wheaton College Dance Company
DESCRIPTION:The ensemble performs under the direction of Artistic Director Andrea Taylor-Blenis. \nTickets may be purchased via the Watson Box Office.  $5 student\, $10 faculty & staff & seniors\, $15 general.
URL:https://wheatoncollege.edu/event/the-wheaton-college-dance-company-2/2024-04-19/
LOCATION:Watson Fine Arts – Weber Theatre\, Norton\, MA\, 02766\, United States
CATEGORIES:Arts,Music,Students
GEO:41.9629235;-71.1804988
END:VEVENT
BEGIN:VEVENT
DTSTART;TZID=America/New_York:20240420T193000
DTEND;TZID=America/New_York:20240420T193000
DTSTAMP:20260423T062114
CREATED:20240215T162251Z
LAST-MODIFIED:20240215T162322Z
UID:10006507-1713641400-1713641400@wheatoncollege.edu
SUMMARY:The Wheaton College Dance Company
DESCRIPTION:The ensemble performs under the direction of Artistic Director Andrea Taylor-Blenis. \nTickets may be purchased via the Watson Box Office.  $5 student\, $10 faculty & staff & seniors\, $15 general.
URL:https://wheatoncollege.edu/event/the-wheaton-college-dance-company-2/2024-04-20/
LOCATION:Watson Fine Arts – Weber Theatre\, Norton\, MA\, 02766\, United States
CATEGORIES:Arts,Music,Students
GEO:41.9629235;-71.1804988
END:VEVENT
END:VCALENDAR