	BEGIN:VCALENDAR
VERSION:2.0
PRODID:-//Wheaton College Massachusetts - ECPv6.15.20//NONSGML v1.0//EN
CALSCALE:GREGORIAN
METHOD:PUBLISH
X-WR-CALNAME:Wheaton College Massachusetts
X-ORIGINAL-URL:https://wheatoncollege.edu
X-WR-CALDESC:Events for Wheaton College Massachusetts
REFRESH-INTERVAL;VALUE=DURATION:PT1H
X-Robots-Tag:noindex
X-PUBLISHED-TTL:PT1H
BEGIN:VTIMEZONE
TZID:America/New_York
BEGIN:DAYLIGHT
TZOFFSETFROM:-0500
TZOFFSETTO:-0400
TZNAME:EDT
DTSTART:20250309T070000
END:DAYLIGHT
BEGIN:STANDARD
TZOFFSETFROM:-0400
TZOFFSETTO:-0500
TZNAME:EST
DTSTART:20251102T060000
END:STANDARD
BEGIN:DAYLIGHT
TZOFFSETFROM:-0500
TZOFFSETTO:-0400
TZNAME:EDT
DTSTART:20260308T070000
END:DAYLIGHT
BEGIN:STANDARD
TZOFFSETFROM:-0400
TZOFFSETTO:-0500
TZNAME:EST
DTSTART:20261101T060000
END:STANDARD
BEGIN:DAYLIGHT
TZOFFSETFROM:-0500
TZOFFSETTO:-0400
TZNAME:EDT
DTSTART:20270314T070000
END:DAYLIGHT
BEGIN:STANDARD
TZOFFSETFROM:-0400
TZOFFSETTO:-0500
TZNAME:EST
DTSTART:20271107T060000
END:STANDARD
END:VTIMEZONE
BEGIN:VEVENT
DTSTART;VALUE=DATE:20260807
DTEND;VALUE=DATE:20260808
DTSTAMP:20260425T084253
CREATED:20260422T184751Z
LAST-MODIFIED:20260422T184751Z
UID:10010355-1786060800-1786147199@wheatoncollege.edu
SUMMARY:2026 Design Capstone poster display
DESCRIPTION:The design capstone is a chance for senior design majors to apply their knowledge and skills to a topic of their choice. Posters show and explain what students investigated and why\, the steps they took to add depth to their understanding and how they responded with design concepts through sketches\, diagrams\, prototypes and mockups. \nProjects will be on display May 5–May 16\, 2026
URL:https://wheatoncollege.edu/event/2026-design-capstone-poster-display/2026-08-07/
LOCATION:Haas Concourse and Lobby\, Watson Fine Arts
CATEGORIES:Academic,Arts
ORGANIZER;CN="Arts at Wheaton":MAILTO:kuszaj_jessica@wheatoncollege.edu
END:VEVENT
BEGIN:VEVENT
DTSTART;VALUE=DATE:20260808
DTEND;VALUE=DATE:20260809
DTSTAMP:20260425T084253
CREATED:20260422T184751Z
LAST-MODIFIED:20260422T184751Z
UID:10010356-1786147200-1786233599@wheatoncollege.edu
SUMMARY:2026 Design Capstone poster display
DESCRIPTION:The design capstone is a chance for senior design majors to apply their knowledge and skills to a topic of their choice. Posters show and explain what students investigated and why\, the steps they took to add depth to their understanding and how they responded with design concepts through sketches\, diagrams\, prototypes and mockups. \nProjects will be on display May 5–May 16\, 2026
URL:https://wheatoncollege.edu/event/2026-design-capstone-poster-display/2026-08-08/
LOCATION:Haas Concourse and Lobby\, Watson Fine Arts
CATEGORIES:Academic,Arts
ORGANIZER;CN="Arts at Wheaton":MAILTO:kuszaj_jessica@wheatoncollege.edu
END:VEVENT
BEGIN:VEVENT
DTSTART;VALUE=DATE:20260809
DTEND;VALUE=DATE:20260810
DTSTAMP:20260425T084253
CREATED:20260422T184751Z
LAST-MODIFIED:20260422T184751Z
UID:10010357-1786233600-1786319999@wheatoncollege.edu
SUMMARY:2026 Design Capstone poster display
DESCRIPTION:The design capstone is a chance for senior design majors to apply their knowledge and skills to a topic of their choice. Posters show and explain what students investigated and why\, the steps they took to add depth to their understanding and how they responded with design concepts through sketches\, diagrams\, prototypes and mockups. \nProjects will be on display May 5–May 16\, 2026
URL:https://wheatoncollege.edu/event/2026-design-capstone-poster-display/2026-08-09/
LOCATION:Haas Concourse and Lobby\, Watson Fine Arts
CATEGORIES:Academic,Arts
ORGANIZER;CN="Arts at Wheaton":MAILTO:kuszaj_jessica@wheatoncollege.edu
END:VEVENT
BEGIN:VEVENT
DTSTART;VALUE=DATE:20260810
DTEND;VALUE=DATE:20260811
DTSTAMP:20260425T084253
CREATED:20260422T184751Z
LAST-MODIFIED:20260422T184751Z
UID:10010358-1786320000-1786406399@wheatoncollege.edu
SUMMARY:2026 Design Capstone poster display
DESCRIPTION:The design capstone is a chance for senior design majors to apply their knowledge and skills to a topic of their choice. Posters show and explain what students investigated and why\, the steps they took to add depth to their understanding and how they responded with design concepts through sketches\, diagrams\, prototypes and mockups. \nProjects will be on display May 5–May 16\, 2026
URL:https://wheatoncollege.edu/event/2026-design-capstone-poster-display/2026-08-10/
LOCATION:Haas Concourse and Lobby\, Watson Fine Arts
CATEGORIES:Academic,Arts
ORGANIZER;CN="Arts at Wheaton":MAILTO:kuszaj_jessica@wheatoncollege.edu
END:VEVENT
BEGIN:VEVENT
DTSTART;VALUE=DATE:20260811
DTEND;VALUE=DATE:20260812
DTSTAMP:20260425T084253
CREATED:20260422T184751Z
LAST-MODIFIED:20260422T184751Z
UID:10010359-1786406400-1786492799@wheatoncollege.edu
SUMMARY:2026 Design Capstone poster display
DESCRIPTION:The design capstone is a chance for senior design majors to apply their knowledge and skills to a topic of their choice. Posters show and explain what students investigated and why\, the steps they took to add depth to their understanding and how they responded with design concepts through sketches\, diagrams\, prototypes and mockups. \nProjects will be on display May 5–May 16\, 2026
URL:https://wheatoncollege.edu/event/2026-design-capstone-poster-display/2026-08-11/
LOCATION:Haas Concourse and Lobby\, Watson Fine Arts
CATEGORIES:Academic,Arts
ORGANIZER;CN="Arts at Wheaton":MAILTO:kuszaj_jessica@wheatoncollege.edu
END:VEVENT
BEGIN:VEVENT
DTSTART;VALUE=DATE:20260812
DTEND;VALUE=DATE:20260813
DTSTAMP:20260425T084253
CREATED:20260422T184751Z
LAST-MODIFIED:20260422T184751Z
UID:10010360-1786492800-1786579199@wheatoncollege.edu
SUMMARY:2026 Design Capstone poster display
DESCRIPTION:The design capstone is a chance for senior design majors to apply their knowledge and skills to a topic of their choice. Posters show and explain what students investigated and why\, the steps they took to add depth to their understanding and how they responded with design concepts through sketches\, diagrams\, prototypes and mockups. \nProjects will be on display May 5–May 16\, 2026
URL:https://wheatoncollege.edu/event/2026-design-capstone-poster-display/2026-08-12/
LOCATION:Haas Concourse and Lobby\, Watson Fine Arts
CATEGORIES:Academic,Arts
ORGANIZER;CN="Arts at Wheaton":MAILTO:kuszaj_jessica@wheatoncollege.edu
END:VEVENT
BEGIN:VEVENT
DTSTART;VALUE=DATE:20260813
DTEND;VALUE=DATE:20260814
DTSTAMP:20260425T084253
CREATED:20260422T184751Z
LAST-MODIFIED:20260422T184751Z
UID:10010361-1786579200-1786665599@wheatoncollege.edu
SUMMARY:2026 Design Capstone poster display
DESCRIPTION:The design capstone is a chance for senior design majors to apply their knowledge and skills to a topic of their choice. Posters show and explain what students investigated and why\, the steps they took to add depth to their understanding and how they responded with design concepts through sketches\, diagrams\, prototypes and mockups. \nProjects will be on display May 5–May 16\, 2026
URL:https://wheatoncollege.edu/event/2026-design-capstone-poster-display/2026-08-13/
LOCATION:Haas Concourse and Lobby\, Watson Fine Arts
CATEGORIES:Academic,Arts
ORGANIZER;CN="Arts at Wheaton":MAILTO:kuszaj_jessica@wheatoncollege.edu
END:VEVENT
BEGIN:VEVENT
DTSTART;VALUE=DATE:20260814
DTEND;VALUE=DATE:20260815
DTSTAMP:20260425T084253
CREATED:20260422T184751Z
LAST-MODIFIED:20260422T184751Z
UID:10010362-1786665600-1786751999@wheatoncollege.edu
SUMMARY:2026 Design Capstone poster display
DESCRIPTION:The design capstone is a chance for senior design majors to apply their knowledge and skills to a topic of their choice. Posters show and explain what students investigated and why\, the steps they took to add depth to their understanding and how they responded with design concepts through sketches\, diagrams\, prototypes and mockups. \nProjects will be on display May 5–May 16\, 2026
URL:https://wheatoncollege.edu/event/2026-design-capstone-poster-display/2026-08-14/
LOCATION:Haas Concourse and Lobby\, Watson Fine Arts
CATEGORIES:Academic,Arts
ORGANIZER;CN="Arts at Wheaton":MAILTO:kuszaj_jessica@wheatoncollege.edu
END:VEVENT
BEGIN:VEVENT
DTSTART;VALUE=DATE:20260815
DTEND;VALUE=DATE:20260816
DTSTAMP:20260425T084253
CREATED:20260422T184751Z
LAST-MODIFIED:20260422T184751Z
UID:10010363-1786752000-1786838399@wheatoncollege.edu
SUMMARY:2026 Design Capstone poster display
DESCRIPTION:The design capstone is a chance for senior design majors to apply their knowledge and skills to a topic of their choice. Posters show and explain what students investigated and why\, the steps they took to add depth to their understanding and how they responded with design concepts through sketches\, diagrams\, prototypes and mockups. \nProjects will be on display May 5–May 16\, 2026
URL:https://wheatoncollege.edu/event/2026-design-capstone-poster-display/2026-08-15/
LOCATION:Haas Concourse and Lobby\, Watson Fine Arts
CATEGORIES:Academic,Arts
ORGANIZER;CN="Arts at Wheaton":MAILTO:kuszaj_jessica@wheatoncollege.edu
END:VEVENT
BEGIN:VEVENT
DTSTART;VALUE=DATE:20260816
DTEND;VALUE=DATE:20260817
DTSTAMP:20260425T084253
CREATED:20260422T184751Z
LAST-MODIFIED:20260422T184751Z
UID:10010364-1786838400-1786924799@wheatoncollege.edu
SUMMARY:2026 Design Capstone poster display
DESCRIPTION:The design capstone is a chance for senior design majors to apply their knowledge and skills to a topic of their choice. Posters show and explain what students investigated and why\, the steps they took to add depth to their understanding and how they responded with design concepts through sketches\, diagrams\, prototypes and mockups. \nProjects will be on display May 5–May 16\, 2026
URL:https://wheatoncollege.edu/event/2026-design-capstone-poster-display/2026-08-16/
LOCATION:Haas Concourse and Lobby\, Watson Fine Arts
CATEGORIES:Academic,Arts
ORGANIZER;CN="Arts at Wheaton":MAILTO:kuszaj_jessica@wheatoncollege.edu
END:VEVENT
BEGIN:VEVENT
DTSTART;VALUE=DATE:20260817
DTEND;VALUE=DATE:20260818
DTSTAMP:20260425T084253
CREATED:20260422T184751Z
LAST-MODIFIED:20260422T184751Z
UID:10010365-1786924800-1787011199@wheatoncollege.edu
SUMMARY:2026 Design Capstone poster display
DESCRIPTION:The design capstone is a chance for senior design majors to apply their knowledge and skills to a topic of their choice. Posters show and explain what students investigated and why\, the steps they took to add depth to their understanding and how they responded with design concepts through sketches\, diagrams\, prototypes and mockups. \nProjects will be on display May 5–May 16\, 2026
URL:https://wheatoncollege.edu/event/2026-design-capstone-poster-display/2026-08-17/
LOCATION:Haas Concourse and Lobby\, Watson Fine Arts
CATEGORIES:Academic,Arts
ORGANIZER;CN="Arts at Wheaton":MAILTO:kuszaj_jessica@wheatoncollege.edu
END:VEVENT
BEGIN:VEVENT
DTSTART;VALUE=DATE:20260818
DTEND;VALUE=DATE:20260819
DTSTAMP:20260425T084253
CREATED:20260422T184751Z
LAST-MODIFIED:20260422T184751Z
UID:10010366-1787011200-1787097599@wheatoncollege.edu
SUMMARY:2026 Design Capstone poster display
DESCRIPTION:The design capstone is a chance for senior design majors to apply their knowledge and skills to a topic of their choice. Posters show and explain what students investigated and why\, the steps they took to add depth to their understanding and how they responded with design concepts through sketches\, diagrams\, prototypes and mockups. \nProjects will be on display May 5–May 16\, 2026
URL:https://wheatoncollege.edu/event/2026-design-capstone-poster-display/2026-08-18/
LOCATION:Haas Concourse and Lobby\, Watson Fine Arts
CATEGORIES:Academic,Arts
ORGANIZER;CN="Arts at Wheaton":MAILTO:kuszaj_jessica@wheatoncollege.edu
END:VEVENT
BEGIN:VEVENT
DTSTART;VALUE=DATE:20260819
DTEND;VALUE=DATE:20260820
DTSTAMP:20260425T084253
CREATED:20260422T184751Z
LAST-MODIFIED:20260422T184751Z
UID:10010367-1787097600-1787183999@wheatoncollege.edu
SUMMARY:2026 Design Capstone poster display
DESCRIPTION:The design capstone is a chance for senior design majors to apply their knowledge and skills to a topic of their choice. Posters show and explain what students investigated and why\, the steps they took to add depth to their understanding and how they responded with design concepts through sketches\, diagrams\, prototypes and mockups. \nProjects will be on display May 5–May 16\, 2026
URL:https://wheatoncollege.edu/event/2026-design-capstone-poster-display/2026-08-19/
LOCATION:Haas Concourse and Lobby\, Watson Fine Arts
CATEGORIES:Academic,Arts
ORGANIZER;CN="Arts at Wheaton":MAILTO:kuszaj_jessica@wheatoncollege.edu
END:VEVENT
BEGIN:VEVENT
DTSTART;VALUE=DATE:20260820
DTEND;VALUE=DATE:20260821
DTSTAMP:20260425T084253
CREATED:20260422T184751Z
LAST-MODIFIED:20260422T184751Z
UID:10010368-1787184000-1787270399@wheatoncollege.edu
SUMMARY:2026 Design Capstone poster display
DESCRIPTION:The design capstone is a chance for senior design majors to apply their knowledge and skills to a topic of their choice. Posters show and explain what students investigated and why\, the steps they took to add depth to their understanding and how they responded with design concepts through sketches\, diagrams\, prototypes and mockups. \nProjects will be on display May 5–May 16\, 2026
URL:https://wheatoncollege.edu/event/2026-design-capstone-poster-display/2026-08-20/
LOCATION:Haas Concourse and Lobby\, Watson Fine Arts
CATEGORIES:Academic,Arts
ORGANIZER;CN="Arts at Wheaton":MAILTO:kuszaj_jessica@wheatoncollege.edu
END:VEVENT
BEGIN:VEVENT
DTSTART;VALUE=DATE:20260821
DTEND;VALUE=DATE:20260822
DTSTAMP:20260425T084253
CREATED:20260422T184751Z
LAST-MODIFIED:20260422T184751Z
UID:10010369-1787270400-1787356799@wheatoncollege.edu
SUMMARY:2026 Design Capstone poster display
DESCRIPTION:The design capstone is a chance for senior design majors to apply their knowledge and skills to a topic of their choice. Posters show and explain what students investigated and why\, the steps they took to add depth to their understanding and how they responded with design concepts through sketches\, diagrams\, prototypes and mockups. \nProjects will be on display May 5–May 16\, 2026
URL:https://wheatoncollege.edu/event/2026-design-capstone-poster-display/2026-08-21/
LOCATION:Haas Concourse and Lobby\, Watson Fine Arts
CATEGORIES:Academic,Arts
ORGANIZER;CN="Arts at Wheaton":MAILTO:kuszaj_jessica@wheatoncollege.edu
END:VEVENT
BEGIN:VEVENT
DTSTART;VALUE=DATE:20260822
DTEND;VALUE=DATE:20260823
DTSTAMP:20260425T084253
CREATED:20260422T184751Z
LAST-MODIFIED:20260422T184751Z
UID:10010370-1787356800-1787443199@wheatoncollege.edu
SUMMARY:2026 Design Capstone poster display
DESCRIPTION:The design capstone is a chance for senior design majors to apply their knowledge and skills to a topic of their choice. Posters show and explain what students investigated and why\, the steps they took to add depth to their understanding and how they responded with design concepts through sketches\, diagrams\, prototypes and mockups. \nProjects will be on display May 5–May 16\, 2026
URL:https://wheatoncollege.edu/event/2026-design-capstone-poster-display/2026-08-22/
LOCATION:Haas Concourse and Lobby\, Watson Fine Arts
CATEGORIES:Academic,Arts
ORGANIZER;CN="Arts at Wheaton":MAILTO:kuszaj_jessica@wheatoncollege.edu
END:VEVENT
BEGIN:VEVENT
DTSTART;VALUE=DATE:20260823
DTEND;VALUE=DATE:20260824
DTSTAMP:20260425T084253
CREATED:20260422T184751Z
LAST-MODIFIED:20260422T184751Z
UID:10010371-1787443200-1787529599@wheatoncollege.edu
SUMMARY:2026 Design Capstone poster display
DESCRIPTION:The design capstone is a chance for senior design majors to apply their knowledge and skills to a topic of their choice. Posters show and explain what students investigated and why\, the steps they took to add depth to their understanding and how they responded with design concepts through sketches\, diagrams\, prototypes and mockups. \nProjects will be on display May 5–May 16\, 2026
URL:https://wheatoncollege.edu/event/2026-design-capstone-poster-display/2026-08-23/
LOCATION:Haas Concourse and Lobby\, Watson Fine Arts
CATEGORIES:Academic,Arts
ORGANIZER;CN="Arts at Wheaton":MAILTO:kuszaj_jessica@wheatoncollege.edu
END:VEVENT
BEGIN:VEVENT
DTSTART;VALUE=DATE:20260824
DTEND;VALUE=DATE:20260825
DTSTAMP:20260425T084253
CREATED:20260422T184751Z
LAST-MODIFIED:20260422T184751Z
UID:10010372-1787529600-1787615999@wheatoncollege.edu
SUMMARY:2026 Design Capstone poster display
DESCRIPTION:The design capstone is a chance for senior design majors to apply their knowledge and skills to a topic of their choice. Posters show and explain what students investigated and why\, the steps they took to add depth to their understanding and how they responded with design concepts through sketches\, diagrams\, prototypes and mockups. \nProjects will be on display May 5–May 16\, 2026
URL:https://wheatoncollege.edu/event/2026-design-capstone-poster-display/2026-08-24/
LOCATION:Haas Concourse and Lobby\, Watson Fine Arts
CATEGORIES:Academic,Arts
ORGANIZER;CN="Arts at Wheaton":MAILTO:kuszaj_jessica@wheatoncollege.edu
END:VEVENT
BEGIN:VEVENT
DTSTART;VALUE=DATE:20260825
DTEND;VALUE=DATE:20260826
DTSTAMP:20260425T084253
CREATED:20260422T184751Z
LAST-MODIFIED:20260422T184751Z
UID:10010373-1787616000-1787702399@wheatoncollege.edu
SUMMARY:2026 Design Capstone poster display
DESCRIPTION:The design capstone is a chance for senior design majors to apply their knowledge and skills to a topic of their choice. Posters show and explain what students investigated and why\, the steps they took to add depth to their understanding and how they responded with design concepts through sketches\, diagrams\, prototypes and mockups. \nProjects will be on display May 5–May 16\, 2026
URL:https://wheatoncollege.edu/event/2026-design-capstone-poster-display/2026-08-25/
LOCATION:Haas Concourse and Lobby\, Watson Fine Arts
CATEGORIES:Academic,Arts
ORGANIZER;CN="Arts at Wheaton":MAILTO:kuszaj_jessica@wheatoncollege.edu
END:VEVENT
BEGIN:VEVENT
DTSTART;VALUE=DATE:20260826
DTEND;VALUE=DATE:20260827
DTSTAMP:20260425T084253
CREATED:20260422T184751Z
LAST-MODIFIED:20260422T184751Z
UID:10010374-1787702400-1787788799@wheatoncollege.edu
SUMMARY:2026 Design Capstone poster display
DESCRIPTION:The design capstone is a chance for senior design majors to apply their knowledge and skills to a topic of their choice. Posters show and explain what students investigated and why\, the steps they took to add depth to their understanding and how they responded with design concepts through sketches\, diagrams\, prototypes and mockups. \nProjects will be on display May 5–May 16\, 2026
URL:https://wheatoncollege.edu/event/2026-design-capstone-poster-display/2026-08-26/
LOCATION:Haas Concourse and Lobby\, Watson Fine Arts
CATEGORIES:Academic,Arts
ORGANIZER;CN="Arts at Wheaton":MAILTO:kuszaj_jessica@wheatoncollege.edu
END:VEVENT
BEGIN:VEVENT
DTSTART;VALUE=DATE:20260827
DTEND;VALUE=DATE:20260828
DTSTAMP:20260425T084253
CREATED:20260422T184751Z
LAST-MODIFIED:20260422T184751Z
UID:10010375-1787788800-1787875199@wheatoncollege.edu
SUMMARY:2026 Design Capstone poster display
DESCRIPTION:The design capstone is a chance for senior design majors to apply their knowledge and skills to a topic of their choice. Posters show and explain what students investigated and why\, the steps they took to add depth to their understanding and how they responded with design concepts through sketches\, diagrams\, prototypes and mockups. \nProjects will be on display May 5–May 16\, 2026
URL:https://wheatoncollege.edu/event/2026-design-capstone-poster-display/2026-08-27/
LOCATION:Haas Concourse and Lobby\, Watson Fine Arts
CATEGORIES:Academic,Arts
ORGANIZER;CN="Arts at Wheaton":MAILTO:kuszaj_jessica@wheatoncollege.edu
END:VEVENT
BEGIN:VEVENT
DTSTART;VALUE=DATE:20260828
DTEND;VALUE=DATE:20260829
DTSTAMP:20260425T084253
CREATED:20260422T184751Z
LAST-MODIFIED:20260422T184751Z
UID:10010376-1787875200-1787961599@wheatoncollege.edu
SUMMARY:2026 Design Capstone poster display
DESCRIPTION:The design capstone is a chance for senior design majors to apply their knowledge and skills to a topic of their choice. Posters show and explain what students investigated and why\, the steps they took to add depth to their understanding and how they responded with design concepts through sketches\, diagrams\, prototypes and mockups. \nProjects will be on display May 5–May 16\, 2026
URL:https://wheatoncollege.edu/event/2026-design-capstone-poster-display/2026-08-28/
LOCATION:Haas Concourse and Lobby\, Watson Fine Arts
CATEGORIES:Academic,Arts
ORGANIZER;CN="Arts at Wheaton":MAILTO:kuszaj_jessica@wheatoncollege.edu
END:VEVENT
BEGIN:VEVENT
DTSTART;VALUE=DATE:20260829
DTEND;VALUE=DATE:20260830
DTSTAMP:20260425T084253
CREATED:20260422T184751Z
LAST-MODIFIED:20260422T184751Z
UID:10010377-1787961600-1788047999@wheatoncollege.edu
SUMMARY:2026 Design Capstone poster display
DESCRIPTION:The design capstone is a chance for senior design majors to apply their knowledge and skills to a topic of their choice. Posters show and explain what students investigated and why\, the steps they took to add depth to their understanding and how they responded with design concepts through sketches\, diagrams\, prototypes and mockups. \nProjects will be on display May 5–May 16\, 2026
URL:https://wheatoncollege.edu/event/2026-design-capstone-poster-display/2026-08-29/
LOCATION:Haas Concourse and Lobby\, Watson Fine Arts
CATEGORIES:Academic,Arts
ORGANIZER;CN="Arts at Wheaton":MAILTO:kuszaj_jessica@wheatoncollege.edu
END:VEVENT
BEGIN:VEVENT
DTSTART;VALUE=DATE:20260830
DTEND;VALUE=DATE:20260831
DTSTAMP:20260425T084253
CREATED:20260422T184751Z
LAST-MODIFIED:20260422T184751Z
UID:10010378-1788048000-1788134399@wheatoncollege.edu
SUMMARY:2026 Design Capstone poster display
DESCRIPTION:The design capstone is a chance for senior design majors to apply their knowledge and skills to a topic of their choice. Posters show and explain what students investigated and why\, the steps they took to add depth to their understanding and how they responded with design concepts through sketches\, diagrams\, prototypes and mockups. \nProjects will be on display May 5–May 16\, 2026
URL:https://wheatoncollege.edu/event/2026-design-capstone-poster-display/2026-08-30/
LOCATION:Haas Concourse and Lobby\, Watson Fine Arts
CATEGORIES:Academic,Arts
ORGANIZER;CN="Arts at Wheaton":MAILTO:kuszaj_jessica@wheatoncollege.edu
END:VEVENT
BEGIN:VEVENT
DTSTART;VALUE=DATE:20260831
DTEND;VALUE=DATE:20260901
DTSTAMP:20260425T084253
CREATED:20260422T184751Z
LAST-MODIFIED:20260422T184751Z
UID:10010379-1788134400-1788220799@wheatoncollege.edu
SUMMARY:2026 Design Capstone poster display
DESCRIPTION:The design capstone is a chance for senior design majors to apply their knowledge and skills to a topic of their choice. Posters show and explain what students investigated and why\, the steps they took to add depth to their understanding and how they responded with design concepts through sketches\, diagrams\, prototypes and mockups. \nProjects will be on display May 5–May 16\, 2026
URL:https://wheatoncollege.edu/event/2026-design-capstone-poster-display/2026-08-31/
LOCATION:Haas Concourse and Lobby\, Watson Fine Arts
CATEGORIES:Academic,Arts
ORGANIZER;CN="Arts at Wheaton":MAILTO:kuszaj_jessica@wheatoncollege.edu
END:VEVENT
BEGIN:VEVENT
DTSTART;VALUE=DATE:20260901
DTEND;VALUE=DATE:20260902
DTSTAMP:20260425T084253
CREATED:20260422T184751Z
LAST-MODIFIED:20260422T184751Z
UID:10010380-1788220800-1788307199@wheatoncollege.edu
SUMMARY:2026 Design Capstone poster display
DESCRIPTION:The design capstone is a chance for senior design majors to apply their knowledge and skills to a topic of their choice. Posters show and explain what students investigated and why\, the steps they took to add depth to their understanding and how they responded with design concepts through sketches\, diagrams\, prototypes and mockups. \nProjects will be on display May 5–May 16\, 2026
URL:https://wheatoncollege.edu/event/2026-design-capstone-poster-display/2026-09-01/
LOCATION:Haas Concourse and Lobby\, Watson Fine Arts
CATEGORIES:Academic,Arts
ORGANIZER;CN="Arts at Wheaton":MAILTO:kuszaj_jessica@wheatoncollege.edu
END:VEVENT
BEGIN:VEVENT
DTSTART;VALUE=DATE:20260902
DTEND;VALUE=DATE:20260903
DTSTAMP:20260425T084253
CREATED:20260422T184751Z
LAST-MODIFIED:20260422T184751Z
UID:10010381-1788307200-1788393599@wheatoncollege.edu
SUMMARY:2026 Design Capstone poster display
DESCRIPTION:The design capstone is a chance for senior design majors to apply their knowledge and skills to a topic of their choice. Posters show and explain what students investigated and why\, the steps they took to add depth to their understanding and how they responded with design concepts through sketches\, diagrams\, prototypes and mockups. \nProjects will be on display May 5–May 16\, 2026
URL:https://wheatoncollege.edu/event/2026-design-capstone-poster-display/2026-09-02/
LOCATION:Haas Concourse and Lobby\, Watson Fine Arts
CATEGORIES:Academic,Arts
ORGANIZER;CN="Arts at Wheaton":MAILTO:kuszaj_jessica@wheatoncollege.edu
END:VEVENT
BEGIN:VEVENT
DTSTART;VALUE=DATE:20260903
DTEND;VALUE=DATE:20260904
DTSTAMP:20260425T084253
CREATED:20260422T184751Z
LAST-MODIFIED:20260422T184751Z
UID:10010382-1788393600-1788479999@wheatoncollege.edu
SUMMARY:2026 Design Capstone poster display
DESCRIPTION:The design capstone is a chance for senior design majors to apply their knowledge and skills to a topic of their choice. Posters show and explain what students investigated and why\, the steps they took to add depth to their understanding and how they responded with design concepts through sketches\, diagrams\, prototypes and mockups. \nProjects will be on display May 5–May 16\, 2026
URL:https://wheatoncollege.edu/event/2026-design-capstone-poster-display/2026-09-03/
LOCATION:Haas Concourse and Lobby\, Watson Fine Arts
CATEGORIES:Academic,Arts
ORGANIZER;CN="Arts at Wheaton":MAILTO:kuszaj_jessica@wheatoncollege.edu
END:VEVENT
BEGIN:VEVENT
DTSTART;VALUE=DATE:20260904
DTEND;VALUE=DATE:20260905
DTSTAMP:20260425T084253
CREATED:20260422T184751Z
LAST-MODIFIED:20260422T184751Z
UID:10010383-1788480000-1788566399@wheatoncollege.edu
SUMMARY:2026 Design Capstone poster display
DESCRIPTION:The design capstone is a chance for senior design majors to apply their knowledge and skills to a topic of their choice. Posters show and explain what students investigated and why\, the steps they took to add depth to their understanding and how they responded with design concepts through sketches\, diagrams\, prototypes and mockups. \nProjects will be on display May 5–May 16\, 2026
URL:https://wheatoncollege.edu/event/2026-design-capstone-poster-display/2026-09-04/
LOCATION:Haas Concourse and Lobby\, Watson Fine Arts
CATEGORIES:Academic,Arts
ORGANIZER;CN="Arts at Wheaton":MAILTO:kuszaj_jessica@wheatoncollege.edu
END:VEVENT
BEGIN:VEVENT
DTSTART;VALUE=DATE:20260905
DTEND;VALUE=DATE:20260906
DTSTAMP:20260425T084253
CREATED:20260422T184751Z
LAST-MODIFIED:20260422T184751Z
UID:10010384-1788566400-1788652799@wheatoncollege.edu
SUMMARY:2026 Design Capstone poster display
DESCRIPTION:The design capstone is a chance for senior design majors to apply their knowledge and skills to a topic of their choice. Posters show and explain what students investigated and why\, the steps they took to add depth to their understanding and how they responded with design concepts through sketches\, diagrams\, prototypes and mockups. \nProjects will be on display May 5–May 16\, 2026
URL:https://wheatoncollege.edu/event/2026-design-capstone-poster-display/2026-09-05/
LOCATION:Haas Concourse and Lobby\, Watson Fine Arts
CATEGORIES:Academic,Arts
ORGANIZER;CN="Arts at Wheaton":MAILTO:kuszaj_jessica@wheatoncollege.edu
END:VEVENT
END:VCALENDAR