	BEGIN:VCALENDAR
VERSION:2.0
PRODID:-//Wheaton College Massachusetts - ECPv6.15.17.1//NONSGML v1.0//EN
CALSCALE:GREGORIAN
METHOD:PUBLISH
X-ORIGINAL-URL:https://wheatoncollege.edu
X-WR-CALDESC:Events for Wheaton College Massachusetts
REFRESH-INTERVAL;VALUE=DURATION:PT1H
X-Robots-Tag:noindex
X-PUBLISHED-TTL:PT1H
BEGIN:VTIMEZONE
TZID:America/New_York
BEGIN:DAYLIGHT
TZOFFSETFROM:-0500
TZOFFSETTO:-0400
TZNAME:EDT
DTSTART:20230312T070000
END:DAYLIGHT
BEGIN:STANDARD
TZOFFSETFROM:-0400
TZOFFSETTO:-0500
TZNAME:EST
DTSTART:20231105T060000
END:STANDARD
BEGIN:DAYLIGHT
TZOFFSETFROM:-0500
TZOFFSETTO:-0400
TZNAME:EDT
DTSTART:20240310T070000
END:DAYLIGHT
BEGIN:STANDARD
TZOFFSETFROM:-0400
TZOFFSETTO:-0500
TZNAME:EST
DTSTART:20241103T060000
END:STANDARD
BEGIN:DAYLIGHT
TZOFFSETFROM:-0500
TZOFFSETTO:-0400
TZNAME:EDT
DTSTART:20250309T070000
END:DAYLIGHT
BEGIN:STANDARD
TZOFFSETFROM:-0400
TZOFFSETTO:-0500
TZNAME:EST
DTSTART:20251102T060000
END:STANDARD
END:VTIMEZONE
BEGIN:VEVENT
DTSTART;TZID=America/New_York:20240202T160000
DTEND;TZID=America/New_York:20240202T190000
DTSTAMP:20260423T155217
CREATED:20240131T173543Z
LAST-MODIFIED:20240131T173543Z
UID:10006523-1706889600-1706900400@wheatoncollege.edu
SUMMARY:Gallery Opening Reception
DESCRIPTION:Fragile Vessels—Contemporary Ceramics and the Body \nPlease join us for our opening reception. Works by artists Felix Gonzalez-Torres\, Miguel Enrique Lastra\, Rob Raphael\, Maedah Tafvizi Zavareh\, and objects selected by the artists’ from the Wheaton College Permanent Collection are featured.
URL:https://wheatoncollege.edu/event/gallery-opening-reception-6/
LOCATION:Watson Fine Arts – Beard and Weil Galleries\, Norton\, MA\, 02766\, United States
CATEGORIES:Arts
GEO:41.9629235;-71.1804988
END:VEVENT
BEGIN:VEVENT
DTSTART;TZID=America/New_York:20240216T193000
DTEND;TZID=America/New_York:20240216T193000
DTSTAMP:20260423T155217
CREATED:20240104T172041Z
LAST-MODIFIED:20240216T214333Z
UID:10006508-1708111800-1708111800@wheatoncollege.edu
SUMMARY:Dance Fest 2024: Momentum
DESCRIPTION:Wheaton’s student-run dance groups present Dance Fest 2024: Momentum\, featuring hip hop\, salsa\, tap\, k-pop\, step\, and multi-cultural dance traditions\, performed by TRYBE\, Paraíso Latino\, Tap Out Loud\, KAOS and special guest\, S.O.L.E. \nTickets: $10 general\, $8 faculty/staff/ 65+\, $5 students\, can be purchased via the Watson Box Office. \nPlease note: This performance includes use of bright lights and strobe effects throughout the program.
URL:https://wheatoncollege.edu/event/dance-fest-2024/2024-02-16/
LOCATION:Watson Fine Arts – Weber Theatre\, Norton\, MA\, 02766\, United States
CATEGORIES:Arts
GEO:41.9629235;-71.1804988
END:VEVENT
BEGIN:VEVENT
DTSTART;TZID=America/New_York:20240217T193000
DTEND;TZID=America/New_York:20240217T193000
DTSTAMP:20260423T155217
CREATED:20240104T172041Z
LAST-MODIFIED:20240216T214333Z
UID:10006509-1708198200-1708198200@wheatoncollege.edu
SUMMARY:Dance Fest 2024: Momentum
DESCRIPTION:Wheaton’s student-run dance groups present Dance Fest 2024: Momentum\, featuring hip hop\, salsa\, tap\, k-pop\, step\, and multi-cultural dance traditions\, performed by TRYBE\, Paraíso Latino\, Tap Out Loud\, KAOS and special guest\, S.O.L.E. \nTickets: $10 general\, $8 faculty/staff/ 65+\, $5 students\, can be purchased via the Watson Box Office. \nPlease note: This performance includes use of bright lights and strobe effects throughout the program.
URL:https://wheatoncollege.edu/event/dance-fest-2024/2024-02-17/
LOCATION:Watson Fine Arts – Weber Theatre\, Norton\, MA\, 02766\, United States
CATEGORIES:Arts
GEO:41.9629235;-71.1804988
END:VEVENT
BEGIN:VEVENT
DTSTART;TZID=America/New_York:20240218T140000
DTEND;TZID=America/New_York:20240218T140000
DTSTAMP:20260423T155217
CREATED:20240104T172041Z
LAST-MODIFIED:20240216T214333Z
UID:10006510-1708264800-1708264800@wheatoncollege.edu
SUMMARY:Dance Fest 2024: Momentum
DESCRIPTION:Wheaton’s student-run dance groups present Dance Fest 2024: Momentum\, featuring hip hop\, salsa\, tap\, k-pop\, step\, and multi-cultural dance traditions\, performed by TRYBE\, Paraíso Latino\, Tap Out Loud\, KAOS and special guest\, S.O.L.E. \nTickets: $10 general\, $8 faculty/staff/ 65+\, $5 students\, can be purchased via the Watson Box Office. \nPlease note: This performance includes use of bright lights and strobe effects throughout the program.
URL:https://wheatoncollege.edu/event/dance-fest-2024/2024-02-18/
LOCATION:Watson Fine Arts – Weber Theatre\, Norton\, MA\, 02766\, United States
CATEGORIES:Arts
GEO:41.9629235;-71.1804988
END:VEVENT
BEGIN:VEVENT
DTSTART;TZID=America/New_York:20240222T173000
DTEND;TZID=America/New_York:20240222T183000
DTSTAMP:20260423T155217
CREATED:20240125T213752Z
LAST-MODIFIED:20240201T180046Z
UID:10006522-1708623000-1708626600@wheatoncollege.edu
SUMMARY:An Evening with Artist Finnegan Shannon
DESCRIPTION:Finnegan Shannon is a multidisciplinary artist whose work experiments with access and ableist assumptions. At Wheaton this semester\, they will explore Alt text as poetry in an ongoing collaborative project with students. After the artist’s talk\, Beard and Weil Galleries will be open for students to talk to Finnegan and hear more about joining the project. \nPresented by the Evelyn Danzig Haas ’39 Visiting Artists Program.
URL:https://wheatoncollege.edu/event/an-evening-with-artist-finnegan-shannon/
LOCATION:Watson Fine Arts – Ellison Lecture Hall\, Norton\, MA\, 02766
CATEGORIES:Academic,Arts,Reading,Students
ORGANIZER;CN="Ellen McBreen":MAILTO:mcbreen_ellen@wheatoncollege.edu
END:VEVENT
BEGIN:VEVENT
DTSTART;TZID=America/New_York:20240224T130000
DTEND;TZID=America/New_York:20240224T150000
DTSTAMP:20260423T155217
CREATED:20231219T160120Z
LAST-MODIFIED:20240201T175620Z
UID:10006524-1708779600-1708786800@wheatoncollege.edu
SUMMARY:New Plays Festival
DESCRIPTION:Longer form plays—written\, directed and performed by Wheaton students—are showcased in our annual festival.
URL:https://wheatoncollege.edu/event/new-plays-festival-5/2024-02-24/3/
LOCATION:Kresge Experimental Theatre\, Watson Fine Arts
CATEGORIES:Arts,Students,Theatre
END:VEVENT
BEGIN:VEVENT
DTSTART;TZID=America/New_York:20240224T160000
DTEND;TZID=America/New_York:20240224T170000
DTSTAMP:20260423T155217
CREATED:20231219T160120Z
LAST-MODIFIED:20240201T175620Z
UID:10006481-1708790400-1708794000@wheatoncollege.edu
SUMMARY:New Plays Festival
DESCRIPTION:Longer form plays—written\, directed and performed by Wheaton students—are showcased in our annual festival.
URL:https://wheatoncollege.edu/event/new-plays-festival-5/2024-02-24/2/
LOCATION:Kresge Experimental Theatre\, Watson Fine Arts
CATEGORIES:Arts,Students,Theatre
END:VEVENT
BEGIN:VEVENT
DTSTART;TZID=America/New_York:20240225T130000
DTEND;TZID=America/New_York:20240225T150000
DTSTAMP:20260423T155217
CREATED:20231219T160120Z
LAST-MODIFIED:20240201T175620Z
UID:10006525-1708866000-1708873200@wheatoncollege.edu
SUMMARY:New Plays Festival
DESCRIPTION:Longer form plays—written\, directed and performed by Wheaton students—are showcased in our annual festival.
URL:https://wheatoncollege.edu/event/new-plays-festival-5/2024-02-25/3/
LOCATION:Kresge Experimental Theatre\, Watson Fine Arts
CATEGORIES:Arts,Students,Theatre
END:VEVENT
BEGIN:VEVENT
DTSTART;TZID=America/New_York:20240225T160000
DTEND;TZID=America/New_York:20240225T170000
DTSTAMP:20260423T155217
CREATED:20231219T160120Z
LAST-MODIFIED:20240201T175620Z
UID:10006483-1708876800-1708880400@wheatoncollege.edu
SUMMARY:New Plays Festival
DESCRIPTION:Longer form plays—written\, directed and performed by Wheaton students—are showcased in our annual festival.
URL:https://wheatoncollege.edu/event/new-plays-festival-5/2024-02-25/2/
LOCATION:Kresge Experimental Theatre\, Watson Fine Arts
CATEGORIES:Arts,Students,Theatre
END:VEVENT
END:VCALENDAR