	BEGIN:VCALENDAR
VERSION:2.0
PRODID:-//Wheaton College Massachusetts - ECPv6.15.20//NONSGML v1.0//EN
CALSCALE:GREGORIAN
METHOD:PUBLISH
X-WR-CALNAME:Wheaton College Massachusetts
X-ORIGINAL-URL:https://wheatoncollege.edu
X-WR-CALDESC:Events for Wheaton College Massachusetts
REFRESH-INTERVAL;VALUE=DURATION:PT1H
X-Robots-Tag:noindex
X-PUBLISHED-TTL:PT1H
BEGIN:VTIMEZONE
TZID:America/New_York
BEGIN:DAYLIGHT
TZOFFSETFROM:-0500
TZOFFSETTO:-0400
TZNAME:EDT
DTSTART:20220313T070000
END:DAYLIGHT
BEGIN:STANDARD
TZOFFSETFROM:-0400
TZOFFSETTO:-0500
TZNAME:EST
DTSTART:20221106T060000
END:STANDARD
BEGIN:DAYLIGHT
TZOFFSETFROM:-0500
TZOFFSETTO:-0400
TZNAME:EDT
DTSTART:20230312T070000
END:DAYLIGHT
BEGIN:STANDARD
TZOFFSETFROM:-0400
TZOFFSETTO:-0500
TZNAME:EST
DTSTART:20231105T060000
END:STANDARD
BEGIN:DAYLIGHT
TZOFFSETFROM:-0500
TZOFFSETTO:-0400
TZNAME:EDT
DTSTART:20240310T070000
END:DAYLIGHT
BEGIN:STANDARD
TZOFFSETFROM:-0400
TZOFFSETTO:-0500
TZNAME:EST
DTSTART:20241103T060000
END:STANDARD
END:VTIMEZONE
BEGIN:VEVENT
DTSTART;TZID=America/New_York:20230926T181500
DTEND;TZID=America/New_York:20230926T201500
DTSTAMP:20260424T224515
CREATED:20230824T155834Z
LAST-MODIFIED:20230922T123924Z
UID:10006263-1695752100-1695759300@wheatoncollege.edu
SUMMARY:Welcome to Your City\, Boston
DESCRIPTION:Join Wheaton young alums at Flight Club Boston  in the Seaport District for fun with a side of networking on Tuesday\, September 26\, 2023. \nEnjoy fast-paced dart games\, bespoke cocktails\, and delicious shareable bites! The cost is $10 per person and includes food\, games\, and one drink ticket. \nSpace is limited so reserve your spot quickly. \nRegister
URL:https://wheatoncollege.edu/event/welcome-to-your-city-boston/
LOCATION:Flight Club Boston\, 60 Seaport Blvd\, Suite 215\, Boston\, MA\, 02210\, United States
CATEGORIES:Alumni
ATTACH;FMTTYPE=image/jpeg:https://wheatoncollege.edu/wp-content/uploads/2023/08/boston-seaport-place-flight-club-4.jpg
ORGANIZER;CN="Alumni Relations":MAILTO:alum@wheatoncollege.edu
END:VEVENT
END:VCALENDAR