	BEGIN:VCALENDAR
VERSION:2.0
PRODID:-//Wheaton College Massachusetts - ECPv6.15.17.1//NONSGML v1.0//EN
CALSCALE:GREGORIAN
METHOD:PUBLISH
X-WR-CALNAME:Wheaton College Massachusetts
X-ORIGINAL-URL:https://wheatoncollege.edu
X-WR-CALDESC:Events for Wheaton College Massachusetts
REFRESH-INTERVAL;VALUE=DURATION:PT1H
X-Robots-Tag:noindex
X-PUBLISHED-TTL:PT1H
BEGIN:VTIMEZONE
TZID:America/New_York
BEGIN:DAYLIGHT
TZOFFSETFROM:-0500
TZOFFSETTO:-0400
TZNAME:EDT
DTSTART:20190310T070000
END:DAYLIGHT
BEGIN:STANDARD
TZOFFSETFROM:-0400
TZOFFSETTO:-0500
TZNAME:EST
DTSTART:20191103T060000
END:STANDARD
BEGIN:DAYLIGHT
TZOFFSETFROM:-0500
TZOFFSETTO:-0400
TZNAME:EDT
DTSTART:20200308T070000
END:DAYLIGHT
BEGIN:STANDARD
TZOFFSETFROM:-0400
TZOFFSETTO:-0500
TZNAME:EST
DTSTART:20201101T060000
END:STANDARD
BEGIN:DAYLIGHT
TZOFFSETFROM:-0500
TZOFFSETTO:-0400
TZNAME:EDT
DTSTART:20210314T070000
END:DAYLIGHT
BEGIN:STANDARD
TZOFFSETFROM:-0400
TZOFFSETTO:-0500
TZNAME:EST
DTSTART:20211107T060000
END:STANDARD
END:VTIMEZONE
BEGIN:VEVENT
DTSTART;TZID=America/New_York:20200924T170000
DTEND;TZID=America/New_York:20200924T180000
DTSTAMP:20260422T061143
CREATED:20200921T171725Z
LAST-MODIFIED:20200921T171725Z
UID:10004739-1600966800-1600970400@wheatoncollege.edu
SUMMARY:Semester in the City Info Session
DESCRIPTION:Are you interested in learning more about Semester in the City? This could be your opportunity to find your community\, explore a new city\, differentiate yourself\, and contribute meaningful change to a social-impact organization. Through this program\, you will learn more about yourself\, discover your purpose\, and begin building the network you need to succeed after graduation. \nWAYS TO LEARN MORE \nAttend an information session for Wheaton students where you’ll get to hear from 2-3 SITC alumni about their experiences! See the flyer attached for details and sign up here  to attend.
URL:https://wheatoncollege.edu/event/semester-in-the-city-info-session-2/
LOCATION:Virtual
CATEGORIES:Academic,Students,Virtual
ORGANIZER;CN="Madison Kate Dunaway":MAILTO:dunaway_madison@wheatoncollege.edu
END:VEVENT
END:VCALENDAR