	BEGIN:VCALENDAR
VERSION:2.0
PRODID:-//Wheaton College Massachusetts - ECPv6.15.17.1//NONSGML v1.0//EN
CALSCALE:GREGORIAN
METHOD:PUBLISH
X-ORIGINAL-URL:https://wheatoncollege.edu
X-WR-CALDESC:Events for Wheaton College Massachusetts
REFRESH-INTERVAL;VALUE=DURATION:PT1H
X-Robots-Tag:noindex
X-PUBLISHED-TTL:PT1H
BEGIN:VTIMEZONE
TZID:America/New_York
BEGIN:DAYLIGHT
TZOFFSETFROM:-0500
TZOFFSETTO:-0400
TZNAME:EDT
DTSTART:20240310T070000
END:DAYLIGHT
BEGIN:STANDARD
TZOFFSETFROM:-0400
TZOFFSETTO:-0500
TZNAME:EST
DTSTART:20241103T060000
END:STANDARD
BEGIN:DAYLIGHT
TZOFFSETFROM:-0500
TZOFFSETTO:-0400
TZNAME:EDT
DTSTART:20250309T070000
END:DAYLIGHT
BEGIN:STANDARD
TZOFFSETFROM:-0400
TZOFFSETTO:-0500
TZNAME:EST
DTSTART:20251102T060000
END:STANDARD
BEGIN:DAYLIGHT
TZOFFSETFROM:-0500
TZOFFSETTO:-0400
TZNAME:EDT
DTSTART:20260308T070000
END:DAYLIGHT
BEGIN:STANDARD
TZOFFSETFROM:-0400
TZOFFSETTO:-0500
TZNAME:EST
DTSTART:20261101T060000
END:STANDARD
END:VTIMEZONE
BEGIN:VEVENT
DTSTART;TZID=America/New_York:20250301T080000
DTEND;TZID=America/New_York:20250301T150000
DTSTAMP:20260421T174849
CREATED:20250114T212334Z
LAST-MODIFIED:20250114T212334Z
UID:10009213-1740816000-1740841200@wheatoncollege.edu
SUMMARY:Wachusett Mountain Ski and Ride
DESCRIPTION:Join Wheaton alumni\, parents and students for a day on the slopes at Wachusett Mountain on Saturday\, March 1\, 2025! Whether you’re an experienced skier or a first-time snowboarder\, this event is a yearly favorite. Different packages are available to make this an exciting day for the Wheaton community regardless of experience level. \nStudent Pricing:\nLift ticket only: $65\nLift ticket with rentals (ski or snowboard): $105\nBeginner Package with rentals and a 1-hour lesson: $115\n*Lunch is included with each ticket  \nSpace is limited and available on a first-come\, first-served basis. Registration will close on Friday\, February 21st. \nTransportation is not provided from Wheaton to Wachusett Mountain. \nRegister
URL:https://wheatoncollege.edu/event/wachusett-mountain-ski-and-ride/
LOCATION:Wachusett Mountain\, 499 Mountain Road\, Princeton\, 01541\, United States
CATEGORIES:Alumni,Faculty & Staff,Students
ATTACH;FMTTYPE=image/jpeg:https://wheatoncollege.edu/wp-content/uploads/2025/01/WachusettGroup2024.jpg
ORGANIZER;CN="Alumni Relations":MAILTO:alum@wheatoncollege.edu
END:VEVENT
BEGIN:VEVENT
DTSTART;TZID=America/New_York:20250301T130000
DTEND;TZID=America/New_York:20250301T130000
DTSTAMP:20260421T174849
CREATED:20250218T150456Z
LAST-MODIFIED:20250226T174804Z
UID:10009265-1740834000-1740834000@wheatoncollege.edu
SUMMARY:Reclaiming History; Archives as Resistance
DESCRIPTION:  \n \nWe may think of archives as passive repositories but the projects in this exhibition explore how archives can rewrite history\, activating counter-narratives. The projects range from artist books from the Women’s Studio Workshop; materials documenting Wheaton’s history from the Gebbie Archives and Special Collections; Tirazain\, a digital archive of Palestinian tatreez embroidery designs; the Rhode Island-based Binch Press/Queer.Archive.Work ‘s Community Supported Art (CSA) project\, and the nonprofit Internet Archive. These varied examples show how archives celebrate non-dominant and non-linear stories and show us that history is not static. \nGallery Hours: Tuesday\, Wednesday\, Friday\, Saturday 1:00 p.m. – 5:00 p.m.\, Thursdays 1:00 p.m.—8:00 p.m.  Please note: the galleries will be closed March 9—17 for spring break.
URL:https://wheatoncollege.edu/event/reclaiming-history-archives-as-resistance-2/2025-03-01/
LOCATION:Watson Fine Arts – Beard and Weil Galleries\, Norton\, MA\, 02766\, United States
CATEGORIES:Arts
ORGANIZER;CN="Elizabeth Hoy":MAILTO:hoy_elizabeth@wheatoncollege.edu
GEO:41.9629235;-71.1804988
END:VEVENT
END:VCALENDAR