	BEGIN:VCALENDAR
VERSION:2.0
PRODID:-//Wheaton College Massachusetts - ECPv6.15.17.1//NONSGML v1.0//EN
CALSCALE:GREGORIAN
METHOD:PUBLISH
X-WR-CALNAME:Wheaton College Massachusetts
X-ORIGINAL-URL:https://wheatoncollege.edu
X-WR-CALDESC:Events for Wheaton College Massachusetts
REFRESH-INTERVAL;VALUE=DURATION:PT1H
X-Robots-Tag:noindex
X-PUBLISHED-TTL:PT1H
BEGIN:VTIMEZONE
TZID:America/New_York
BEGIN:DAYLIGHT
TZOFFSETFROM:-0500
TZOFFSETTO:-0400
TZNAME:EDT
DTSTART:20230312T070000
END:DAYLIGHT
BEGIN:STANDARD
TZOFFSETFROM:-0400
TZOFFSETTO:-0500
TZNAME:EST
DTSTART:20231105T060000
END:STANDARD
BEGIN:DAYLIGHT
TZOFFSETFROM:-0500
TZOFFSETTO:-0400
TZNAME:EDT
DTSTART:20240310T070000
END:DAYLIGHT
BEGIN:STANDARD
TZOFFSETFROM:-0400
TZOFFSETTO:-0500
TZNAME:EST
DTSTART:20241103T060000
END:STANDARD
BEGIN:DAYLIGHT
TZOFFSETFROM:-0500
TZOFFSETTO:-0400
TZNAME:EDT
DTSTART:20250309T070000
END:DAYLIGHT
BEGIN:STANDARD
TZOFFSETFROM:-0400
TZOFFSETTO:-0500
TZNAME:EST
DTSTART:20251102T060000
END:STANDARD
END:VTIMEZONE
BEGIN:VEVENT
DTSTART;TZID=America/New_York:20240216T193000
DTEND;TZID=America/New_York:20240216T193000
DTSTAMP:20260420T073600
CREATED:20240104T172041Z
LAST-MODIFIED:20240216T214333Z
UID:10006508-1708111800-1708111800@wheatoncollege.edu
SUMMARY:Dance Fest 2024: Momentum
DESCRIPTION:Wheaton’s student-run dance groups present Dance Fest 2024: Momentum\, featuring hip hop\, salsa\, tap\, k-pop\, step\, and multi-cultural dance traditions\, performed by TRYBE\, Paraíso Latino\, Tap Out Loud\, KAOS and special guest\, S.O.L.E. \nTickets: $10 general\, $8 faculty/staff/ 65+\, $5 students\, can be purchased via the Watson Box Office. \nPlease note: This performance includes use of bright lights and strobe effects throughout the program.
URL:https://wheatoncollege.edu/event/dance-fest-2024/2024-02-16/
LOCATION:Watson Fine Arts – Weber Theatre\, Norton\, MA\, 02766\, United States
CATEGORIES:Arts
GEO:41.9629235;-71.1804988
END:VEVENT
END:VCALENDAR